{"text_format":"1","workbook":"xlsx","n_sheets":2,"sheets":["Lashings","Washers and nails"],"not_rendered":{"charts":0,"images":0,"macros":1,"external_links":0,"defined_names":0,"comments":0,"pivot_tables":0},"unopened":[],"bounds":{"document_bytes":16777216,"sheet_cells":100000,"rows_first":2000,"rows_last":500,"rows_between":2000,"halvings":0,"cell_chars":16384,"cell_head_chars":4096},"cells_cut":0,"cells_raw":0,"read":"whole","date_system":"1900"}

{"sheet":"Lashings","index":0,"n_rows":125,"n_cols":98,"rows_kept":125,"cut":false,"hidden":false,"merged":[[4,14,5,17]]}
[null,"Lashing Calculator",null,null,null,null,null,null,null,null,null,null,null,null,{"$f":"I46","v":"Top-over lashing"},null,null,null,null,null,null,null,null,null,null,null,null,null,"CARING ","Top-over lashing",null,null,null,null,null,null,null,null,null,null,null,null,null,null,"Loop lashing",null,null,null,null,null,null,null,null,null,null,null,null,null,null,"Spring lashing",null,null,null,null,null,null,null,null,null,null,null,null,null,null,"Straight lashing"]
[null,null,null,null,null,null,null,null,null,null,null,null,null,null,null,null,null,null,null,null,null,null,null,null,null,null,null,null,"Based on EN 12195-1"]
[null,"Transport route",null,null,null,null,null,null,null,null,null,null,null,null,"Sliding",null,null,null,null,"Tipping",null,null,null,null,null,null,null,null,"Ver 1.2 - 2013-08-23"]
[]
[null,null,"Road",null,null,null,null,null,null,null,null,null,null,null,{"$f":"\"Cargo weight in ton prevented from sliding by each \" & J46 &\".\"","v":"Cargo weight in ton prevented from sliding by each top-over lashing."},null,null,null,null,{"$f":"\"Cargo weight in ton prevented from tipping by each \" & J46 &\".\"","v":"Cargo weight in ton prevented from tipping by each top-over lashing."}]
[null,null,"Rail",null,null,"Lashing angles",null,null,null,null,"Transport route",null,null,null,null,null,null,null,null,null,null,null,null,null,null,null,null,null,null,"Sliding",null,null,null,null,"Tipping",null,null,null,null,null,null,null,null,null,"Sliding",null,null,null,null,"Tipping",null,null,null,null,null,null,null,null,null,"Sliding",null,null,null,null,"Tipping",null,null,null,null,null,null,null,null,null,"Sliding",null,null,null,null,"Tipping",null,null,null,null,null,null,null,null,null,"Lashing angles and lashing point"]
[null,null,"Sea A",null,null,"Top over","min","max",null,null,null,null,null,null,null,null,null,null,null,null,null,null,null,null,null,null,null,null,null,null,1,2,3,null,null,6,7,8,9,10,null,12,13,null,null,null,null,null,null,null,null,null,null,null,null,null,null,null,null,null,null,null,null,null,null,null,null,null,null,null,null,null,null,null,null,null,null,null,null,null,null,null,null,null,null,null,null,null,null,null,"Min",null,null,null,null,null,"Min"]
[null,null,"Sea B",null,null,"a",75,90,"deg",null,true,{"$f":"C5","v":"Road"},null,null,"µ",{"$f":"$K$17","v":"Sideways"},{"$f":"$K$18","v":"Forward"},{"$f":"$K$19","v":"Rearwards"},null,null,1,2,3,4,5,null,null,null,null,"µ",{"$f":"$K$17","v":"Sideways"},{"$f":"$K$18","v":"Forward"},{"$f":"$K$19","v":"Rearwards"},null,null,1,2,3,4,5,null,null,null,null,"µ",{"$f":"$K$17","v":"Sideways"},{"$f":"$K$18","v":"Forward"},{"$f":"$K$19","v":"Rearwards"},null,null,1,2,3,4,5,null,null,null,null,"µ",{"$f":"$K$17","v":"Sideways"},{"$f":"$K$18","v":"Forward"},{"$f":"$K$19","v":"Rearwards"},null,null,1,2,3,4,5,null,null,null,null,"µ",{"$f":"$K$17","v":"Sideways"},{"$f":"$K$18","v":"Forward"},{"$f":"$K$19","v":"Rearwards"},null,null,1,2,3,4,5,null,null,null,null,null,1,2,3,4,5]
[null,null,"Sea C",null,null,"b",0,0,"deg",null,false,{"$f":"C6","v":"Rail"},null,1,0,{"$f":"IF(P29<0,INDEX($AE$9:$BZ$25,$N9,VLOOKUP($I$46,$I$42:$K$45,3,FALSE)*15+AE$7),FIXED(INDEX($AE$9:$BZ$25,$N9,VLOOKUP($I$46,$I$42:$K$45,3,FALSE)*15+AE$7),P29))","v":"0,00"},{"$f":"IF(Q29<0,INDEX($AE$9:$BZ$25,$N9,VLOOKUP($I$46,$I$42:$K$45,3,FALSE)*15+AF$7),FIXED(INDEX($AE$9:$BZ$25,$N9,VLOOKUP($I$46,$I$42:$K$45,3,FALSE)*15+AF$7),Q29))","v":"0,00"},"0,00",null,"H/B",{"$f":"$K$20","v":"row"},{"$f":"$K$21","v":"rows"},{"$f":"$K$21","v":"rows"},"rows","rows","H/L",{"$f":"$K$18","v":"Forward"},{"$f":"$K$19","v":"Rearwards"},null,0,{"$f":"IF(COUNT(AE29,AE49,AE69,AE89,AE109)>0,MIN(AE29,AE49,AE69,AE89,AE109),$K$15)","v":0},0,0,null,"H/B",{"$f":"$K$20","v":"row"},{"$f":"$K$21","v":"rows"},{"$f":"$K$21","v":"rows"},"rows","rows","H/L",{"$f":"$K$18","v":"Forward"},{"$f":"$K$19","v":"Rearwards"},null,0,{"$f":"IF(COUNT(AT29,AT49,AT69,AT89,AT109)>0,MIN(AT29,AT49,AT69,AT89,AT109),$K$15)","v":4.077471967380224},"-","-",null,"H/B",{"$f":"$K$20","v":"row"},{"$f":"$K$21","v":"rows"},{"$f":"$K$21","v":"rows"},"rows","rows","H/L",{"$f":"$K$18","v":"Forward"},{"$f":"$K$19","v":"Rearwards"},null,0,"-",{"$f":"IF(COUNT(BJ29,BJ49,BJ69,BJ89,BJ109)>0,MIN(BJ29,BJ49,BJ69,BJ89,BJ109),$K$15)","v":3.6040100977907619},5.766416156465219,null,"H/B",{"$f":"$K$20","v":"row"},{"$f":"$K$21","v":"rows"},{"$f":"$K$21","v":"rows"},"rows","rows","H/L",{"$f":"$K$18","v":"Forward"},{"$f":"$K$19","v":"Rearwards"},null,0,{"$f":"IF(COUNT(BX29,BX49,BX69,BX89,BX109)>0,MIN(BX29,BX49,BX69,BX89,BX109),$K$15)","v":1.0193679918450564},0.63710499490315997,1.019367991845056,null,"H/B",{"$f":"$K$20","v":"row"},{"$f":"$K$21","v":"rows"},{"$f":"$K$21","v":"rows"},"rows","rows","H/L",{"$f":"$K$18","v":"Forward"},{"$f":"$K$19","v":"Rearwards"},null,"H/B",{"$f":"$K$20","v":"row"},{"$f":"$K$21","v":"rows"},{"$f":"$K$21","v":"rows"},"rows","rows","H/L",{"$f":"$K$18","v":"Forward"},{"$f":"$K$19","v":"Rearwards"}]
[null,null,null,null,null,null,null,null,null,null,false,{"$f":"C7","v":"Sea A"},null,2,0.05,{"$f":"IF(P30<0,INDEX($AE$9:$BZ$25,$N10,VLOOKUP($I$46,$I$42:$K$45,3,FALSE)*15+AE$7),FIXED(INDEX($AE$9:$BZ$25,$N10,VLOOKUP($I$46,$I$42:$K$45,3,FALSE)*15+AE$7),P30))","v":"0,08"},"0,04","0,08",null,0.6,{"$f":"IF(U30<0,INDEX($AE$9:$CJ$25,$N10,VLOOKUP($I$46,$I$42:$K$45,3,FALSE)*15+AJ$7),FIXED(INDEX($AE$9:$CJ$25,$N10,VLOOKUP($I$46,$I$42:$K$45,3,FALSE)*15+AJ$7),U30))","v":"no tip"},{"$f":"IF(V30<0,INDEX($AE$9:$CJ$25,$N10,VLOOKUP($I$46,$I$42:$K$45,3,FALSE)*15+AK$7),FIXED(INDEX($AE$9:$CJ$25,$N10,VLOOKUP($I$46,$I$42:$K$45,3,FALSE)*15+AK$7),V30))","v":"no tip"},"no tip","6,4","2,9",0.6,{"$f":"IF(AA30<0,INDEX($AE$9:$CJ$25,$N10,VLOOKUP($I$46,$I$42:$K$45,3,FALSE)*15+AP$7),FIXED(INDEX($AE$9:$CJ$25,$N10,VLOOKUP($I$46,$I$42:$K$45,3,FALSE)*15+AP$7),AA30))","v":"no tip"},{"$f":"IF(AB30<0,INDEX($AE$9:$CJ$25,$N10,VLOOKUP($I$46,$I$42:$K$45,3,FALSE)*15+AQ$7),FIXED(INDEX($AE$9:$CJ$25,$N10,VLOOKUP($I$46,$I$42:$K$45,3,FALSE)*15+AQ$7),AB30))","v":"no tip"},null,0.05,7.9566373318429404E-2,4.2011045112130732E-2,7.9566373318429404E-2,null,0.6,{"$f":"IF(COUNT(AJ30,AJ50,AJ70,AJ90,AJ110)>0,MIN(AJ30,AJ50,AJ70,AJ90,AJ110),$K$16)","v":"no tip"},"no tip","no tip",6.3605813225431129,2.9149117987790834,0.6,{"$f":"IF(COUNT(AP30,AP50,AP70,AP90,AP110)>0,MIN(AP30,AP50,AP70,AP90,AP110),$K$16)","v":"no tip"},"no tip",null,0.05,4.5733807201697116,"-","-",null,0.6,{"$f":"IF(COUNT(AY30,AY50,AY70,AY90,AY110)>0,MIN(AY30,AY50,AY70,AY90,AY110),$K$16)","v":"no tip"},"no tip","no tip",8.1086090260402202,5.0968399592252815,0.5,"-","-",null,0.05,"-",3.9230536146443709,6.4677370403596388,null,0.6,"-","-","-","-","-",0.6,{"$f":"IF(COUNT(BT30,BT50,BT70,BT90,BT110)>0,MIN(BT30,BT50,BT70,BT90,BT110),$K$16)","v":"no tip"},"no tip",null,0.05,1.2451759766015551,0.7552706743320905,1.2451759766015547,null,0.6,{"$f":"IF(COUNT(CC30,CC50,CC70,CC90,CC110)>0,MIN(CC30,CC50,CC70,CC90,CC110),$K$16)","v":"no tip"},"-","-","-","-",0.6,{"$f":"IF(COUNT(CI30,CI50,CI70,CI90,CI110)>0,MIN(CI30,CI50,CI70,CI90,CI110),$K$16)","v":"no tip"},"no tip",null,0.6,{"$f":"MIN(CM28,CM46,CM64,CM82)","v":0.40000000000000019},null,null,null,null,0.6,{"$f":"MIN(CS28,CS46,CS64,CS82)","v":0.4},0.4]
[null,"Lashing equipment",null,null,null,"Loop lashing",null,null,null,null,false,{"$f":"C8","v":"Sea B"},null,3,0.1,"0,18","0,09","0,18",null,0.8,{"$f":"IF(U31<0,INDEX($AE$9:$CJ$25,$N11,VLOOKUP($I$46,$I$42:$K$45,3,FALSE)*15+AJ$7),FIXED(INDEX($AE$9:$CJ$25,$N11,VLOOKUP($I$46,$I$42:$K$45,3,FALSE)*15+AJ$7),U31))","v":"no tip"},"no tip","5,4","2,1","1,5",0.8,{"$f":"IF(AA31<0,INDEX($AE$9:$CJ$25,$N11,VLOOKUP($I$46,$I$42:$K$45,3,FALSE)*15+AP$7),FIXED(INDEX($AE$9:$CJ$25,$N11,VLOOKUP($I$46,$I$42:$K$45,3,FALSE)*15+AP$7),AA31))","v":"no tip"},"no tip",null,0.1,0.17902433996646616,9.0023668097422987E-2,0.17902433996646616,null,0.8,"no tip","no tip",5.433883148138511,2.1201937741810366,1.4574558993895417,0.8,"no tip","no tip",null,0.1,5.1568027822749887,"-","-",null,0.8,"no tip","no tip",6.9502363080344747,3.8780304037583662,2.9124799767001601,0.8,"-","-",null,0.1,"-",4.2751016332414551,7.2928204331766011,null,0.8,"-","-","-","-","-",0.8,"no tip","no tip",null,0.1,1.5108324292562594,0.88566038956401361,1.5108324292562587,null,0.8,"no tip","-","-","-","-",0.8,"no tip","no tip",null,0.8,{"$f":"MIN(CM29,CM47,CM65,CM83)","v":0.45000000000000023},null,null,null,null,0.8,0.45,0.45]
[null,null,null,null,null,"a",0,90,"deg",null,false,{"$f":"C9","v":"Sea C"},null,4,0.15,"0,31","0,15","0,31",null,1,"no tip","no tip","2,2","1,3","0,97",1,"no tip","no tip",null,0.15,0.30689886851394199,0.14542284846506789,0.30689886851394199,null,1,"no tip","no tip",2.1735532592554061,1.2721162645086224,0.97163726625969449,1,"no tip","no tip",null,0.15,5.8531452434974183,"-","-",null,1,"no tip","no tip",3.8226299694189616,2.5484199796126408,2.038735983690112,1,"-","-",null,0.15,"-",4.6655548902309496,8.2775973858936212,null,1,"-","-","-","-","-",1,"no tip","no tip",null,0.15,1.8279062598441322,1.0302744373666923,1.8279062598441316,null,1,"no tip","-","-","-","-",1,"no tip","no tip",null,1,{"$f":"MIN(CM30,CM48,CM66,CM84)","v":0.50000000000000022},null,null,null,null,1,0.5,0.5]
[null,"LC",2000,"daN",null,"b",0,0,"deg",null,null,null,null,5,0.2,"0,48","0,21","0,48",null,1.2,"no tip","4,5","1,4","0,91","0,73",1.2,"no tip","no tip",null,0.2,0.47739823991057651,0.21005522556065365,0.47739823991057651,null,1.2,"no tip",4.5071849737339198,1.3584707870346291,0.90865447464901605,0.72872794969477084,1.2,"no tip","no tip",null,0.2,6.698703946410367,"-","-",null,1.2,"no tip",5.7918635900287283,2.6362965306337656,1.8977595592860088,1.5682584489923943,1.2,"-","-",null,0.2,"-",5.1010604461038476,9.4733979713357179,null,1.2,"-","-","-","-","-",1.2,"no tip","no tip",null,0.2,2.2129244827008354,1.1915747214542955,2.212924482700835,null,1.2,"no tip","-","-","-","-",1.2,"no tip","no tip",null,1.2,{"$f":"MIN(CM31,CM49,CM67,CM85)","v":0.55000000000000027},null,null,null,null,1.2,{"$f":"MIN(CS31,CS49,CS67,CS85)","v":0.55000000000000004},0.55000000000000004]
[null,"STF",400,"daN",null,null,null,null,null,null,"Expressions",null,null,6,0.25,"0,72","0,29","0,72",null,1.4,"no tip","2,3","0,99","0,71","0,58",1.4,"5,3","no tip",null,0.25,0.71609735986586465,0.28643894394634589,0.71609735986586465,null,1.4,"no tip",2.2535924868669599,0.98797875420700321,0.70673125806034587,0.58298235975581658,1.4,5.2513806390163458,"no tip",null,0.25,7.747196738022426,"-","-",null,1.4,"no tip",3.7476764406068241,2.0119105102205057,1.5117745641769904,1.2742099898063202,1.4,"-","-",null,0.25,"-",5.5898932128999572,10.956190697283917,null,1.4,"-","-","-","-","-",1.4,67.274855158760943,"no tip",null,0.25,2.6903470790431467,1.3726260607362988,2.6903470790431459,null,1.4,"no tip","-","-","-","-",1.4,10.19367991845057,"no tip",null,1.4,0.6000000000000002,null,null,null,null,1.4,0.6,0.6]
[null,null,null,null,null,"Spring lashing",null,null,null,null,"no slide",null,null,7,0.3,"1,1","0,38","1,1",null,1.6,"no tip","1,5","0,78","0,58","0,49",1.6,"2,3","no tip",null,0.3,1.074146039798797,0.37809940600917658,1.074146039798797,null,1.6,"no tip",1.5023949912446393,0.77626902116264485,0.57823466568573745,0.48581863312984724,1.6,2.2505917024355728,"no tip",null,0.3,9.0816421091650454,"-","-",null,1.6,"no tip",2.7700217169702612,1.6266510508165792,1.2562633702315835,1.0730189387842697,1.6,"-","-",null,0.3,"-",6.1424867753651249,12.843381439399806,null,1.6,"-","-","-","-","-",1.6,32.950949465515514,"no tip",null,0.3,3.2979758380242696,1.5772927920985633,3.2979758380242687,null,1.6,"no tip","-","-","-","-",1.6,4.732779962137756,"no tip",null,1.6,0.65000000000000036,null,null,null,null,1.6,0.65,0.65]
[null,null,null,null,null,"a",0,45,"deg",null,"no tip",null,null,8,0.35,"1,7","0,49","1,7",null,1.8,"no tip","1,1","0,64","0,49","0,42",1.8,"1,4","no tip",null,0.35,1.670893839687017,0.49012885964152503,1.670893839687017,null,1.8,"no tip",1.1267962434334797,0.63928037036923702,0.4892754863494701,0.41641597125415475,1.8,1.4321947197317286,"no tip",null,0.35,10.837491281721119,"-","-",null,1.8,"no tip",2.196913775528138,1.3652249890782002,1.0746349311619567,0.92669817440459645,1.8,"-","-",null,0.35,"-",6.7721864163138026,15.326527152710185,null,1.8,"-","-","-","-","-",1.8,23.589884276448615,"no tip",null,0.35,4.0974873629994324,1.8105176720230045,4.0974873629994315,null,1.8,"no tip","-","-","-","-",1.8,3.2434436104160862,"no tip",null,1.8,0.70000000000000029,null,null,null,null,1.8,0.7,0.7]
[null,"Lashing point",null,null,null,"b",90,90,"deg",null,"Sideways",null,null,9,0.4,"2,9","0,63","2,9",null,2,"no tip","0,90","0,54","0,42","0,36",2,"1,1","no tip",null,0.4,2.8643894394634595,0.630165676681961,2.8643894394634595,null,2,"no tip",0.90143699474678374,0.54338831481385153,0.42403875483620751,0.36436397484738542,2,1.050276127803268,"no tip",null,0.4,13.251783893985731,"-","-",null,2,"no tip",1.8202999854376003,1.1761938367442959,0.93889157143623614,0.81549439347604513,2,"-","-",null,0.4,"-",7.496341003404785,18.740852508511967,null,2,"-","-","-","-","-",2,19.221387188217395,"no tip",null,0.4,5.1968157098402834,2.0787262839361125,5.1968157098402825,null,2,"no tip","-","-","-","-",2,2.5484199796126399,"no tip",null,2,0.75000000000000033,null,null,null,null,2,0.75,0.75]
[null,null,null,null,null,null,null,null,null,null,"Forward",null,null,10,0.45,"6,4","0,81","6,4",null,2.2000000000000002,"5,6","0,75","0,47","0,37","0,32",2.2000000000000002,"0,83","7,2",null,0.45,6.4448762387927827,0.8102130128768068,6.4448762387927827,null,2.2000000000000002,5.5945106239520666,0.75119749562231963,0.47251157809900129,0.37415184250253597,0.32387908875323146,2.2000000000000002,0.82916536405521146,7.1609735986586394,null,0.45,16.780365404218614,"-","-",null,2.2000000000000002,6.3710499490316002,1.5539146217150244,1.0331432349780978,0.83359532043404128,0.72811999417504025,2.2000000000000002,"-","-",null,0.45,"-",8.3379260640780863,23.731020336222251,null,2.2000000000000002,"-","-","-","-","-",2.2000000000000002,16.692257295030895,126.86115544223472,null,0.45,6.8035263706076785,2.3904281842675612,6.8035263706076758,null,2.2000000000000002,5.0968399592252807,"-","-","-","-",2.2000000000000002,2.1460378775685385,16.309887869520882,null,2.2000000000000002,0.80000000000000038,null,null,null,null,2.2000000000000002,0.8,0.8]
[null,"LC",2000,"daN",null,"Straight lashing",null,null,null,null,"Rearwards",null,null,11,0.5,"no slide","1,1","no slide",null,2.4,"3,6","0,64","0,42","0,33","0,29",2.4,"0,68","3,6",null,0.5,"no slide",1.050276127803268,"no slide",null,2.4,3.5804867993293241,0.64388356767627419,0.41799101139527045,0.33476743802858483,0.29149117987790829,2.4,0.68496269204560978,3.5804867993293237,null,0.5,"no slide","-","-",null,2.4,4.6334908720229837,1.3555425423471492,0.92111565528167738,0.74953528812136505,0.65765676893229452,2.4,"-","-",null,0.5,"-",9.3280261354584422,"no slide",null,2.4,"-","-","-","-","-",2.4,15.042824755996223,69.196993877582642,null,0.5,"no slide",2.7571363023045605,"no slide",null,2.4,3.9384672412195361,"-","-","-","-",2.4,1.8836147675397774,8.6646279306829772,null,2.4,0.85000000000000031,null,null,null,null,2.4,0.85,0.85]
[null,null,null,null,null,"a",30,60,"deg",null,"row",null,null,12,0.55000000000000004,"no slide","1,4","no slide",null,2.6,"2,4","0,56","0,37","0,30","0,26",2.6,"0,58","2,4",null,0.55000000000000004,"no slide",1.3863644887003139,"no slide",null,2.6,2.3869911995528819,0.56339812171673986,0.37475056194058726,0.30288482488300533,0.26499198170718941,2.6,0.58348673766848225,2.3869911995528819,null,0.55000000000000004,"no slide","-","-",null,2.6,3.6405999708752006,1.2020848960436983,0.83100651509107859,0.68087556707207963,0.59962823049709191,2.6,"-","-",null,0.55000000000000004,"-",10.509758478718865,"no slide",null,2.6,"-","-","-","-","-",2.6,13.882112969268119,49.975606689365229,null,0.55000000000000004,"no slide",3.1948201851229148,"no slide",null,2.6,3.2765399737876812,"-","-","-","-",2.6,1.6989466530750932,6.1162079510703347,null,2.6,0.90000000000000047,null,null,null,null,2.6,0.9,0.9]
[null,null,null,null,null,"b",30,60,"deg",null,"rows",null,null,13,0.6,"no slide","1,9","no slide",null,2.8,"1,8","0,50","0,34","0,28","0,24",2.8,"0,51","1,8",null,0.6,"no slide",1.8904970300458819,"no slide",null,2.8,1.7902433996646621,0.50079833041487998,0.33961769675865727,0.27654701402361359,0.24290931656492362,2.8,0.50819812635642014,1.7902433996646618,null,0.6,"no slide","-","-",null,2.8,2.9981411524854598,1.0798389744121359,0.75695642958791309,0.62373915584924788,0.55100972532165216,2.8,"-","-",null,0.6,"-",11.649919906800637,"no slide",null,2.8,"-","-","-","-","-",2.8,13.020939708147269,40.36491309525654,null,0.6,"no slide",3.7262934714023417,"no slide",null,2.8,2.8482340948611871,"-","-","-","-",2.8,1.561934826214199,4.8419979612640169,null,2.8,0.9500000000000004,null,null,null,null,2.8,0.95,0.95]
[null,"Lashing type",null,null,null,null,null,null,null,null,"Smooth",null,null,14,0.65,"no slide","2,7","no slide",null,3,"1,4","0,45","0,31","0,25","0,22",3,"0,45","1,4",null,0.65,"no slide",2.7307179322884969,"no slide",null,3,1.4321947197317293,0.45071849737339187,0.31050760846505804,0.25442325290172446,0.22422398452146794,3,0.4501183404871148,1.4321947197317293,null,0.65,"no slide","-","-",null,3,2.5484199796126412,0.98016153062024658,0.69502363080344765,0.57544967281575776,0.50968399592252822,3,"-","-",null,0.65,"-",13.047910295616717,"no slide",null,3,"-","-","-","-","-",3,12.356606049568324,34.598496938791314,null,0.65,"no slide",4.3853203463888359,"no slide",null,3,2.5484199796126417,"-","-","-","-",3,1.4562399883500796,4.077471967380224,null,3,1.0000000000000004,null,null,null,null,3,1,1]
[null,null,null,null,null,"Parameters",null,null,null,null,"Galvanized",null,null,15,0.7,"no slide","4,4","no slide",null,3.2,"1,2","0,41","0,29","0,24","0,21",3.2,"0,40","1,2",null,0.7,"no slide",4.4111597367737225,"no slide",null,3.2,1.1934955997764409,0.40974408852126531,0.28599384990202709,0.23557708602011523,0.20820798562707737,3.2,0.40395235684741071,1.1934955997764409,null,0.7,"no slide","-","-",null,3.2,2.2160173735762094,0.89733097873684542,0.6424588183897415,0.53409999572720035,0.47412464736979371,3.2,"-","-",null,0.7,"-",14.827170790473534,"no slide",null,3.2,"-","-","-","-","-",3.2,11.828545961979934,30.754219501147833,null,0.7,"no slide",5.1562428089498198,"no slide",null,3.2,2.3268182422550203,"-","-","-","-",3.2,1.3722261428683442,3.5677879714576952,null,3.2,1.0500000000000005,null,null,null,null,3.2,1.05,1.05]
[null,null,null,null,null,"Safetyfactor fs","sideways & rearwards",null,1.1000000000000001,null,null,null,null,16,0.75,"no slide","9,5","no slide",null,null,null,null,null,null,null,null,null,null,null,0.75,"no slide",9.4524851502294052,"no slide",null,null,null,null,null,null,null,null,null,null,null,0.75,"no slide","-","-",null,null,null,null,null,null,null,null,null,null,null,0.75,"-",17.168303020548308,"no slide",null,null,null,null,null,null,null,null,null,null,null,0.75,"no slide",6.1313392511805906,"no slide"]
[null,null,null,null,null,null,"forward, road",null,1.25,null,null,null,null,17,0.8,"no slide",{"$f":"IF(Q45<0,INDEX($AE$9:$BZ$25,$N25,VLOOKUP($I$46,$I$42:$K$45,3,FALSE)*15+AF$7),FIXED(INDEX($AE$9:$BZ$25,$N25,VLOOKUP($I$46,$I$42:$K$45,3,FALSE)*15+AF$7),Q45))","v":"no slide"},{"$f":"IF(R45<0,INDEX($AE$9:$BZ$25,$N25,VLOOKUP($I$46,$I$42:$K$45,3,FALSE)*15+AG$7),FIXED(INDEX($AE$9:$BZ$25,$N25,VLOOKUP($I$46,$I$42:$K$45,3,FALSE)*15+AG$7),R45))","v":"no slide"},null,null,null,null,null,null,null,null,null,null,null,0.8,"no slide","no slide","no slide",null,null,null,null,null,null,null,null,null,null,null,0.8,"no slide","-","-",null,null,null,null,null,null,null,null,null,null,null,0.8,"-","no slide","no slide",null,null,null,null,null,null,null,null,null,null,null,0.8,"no slide","no slide","no slide",null,null,null,null,null,null,null,null,null,null,null,null,"amax, bmax, Case I",null,null,null,null,null,"amax, bmin, Case I"]
[null,null,null,null,null,null,"forward, other",null,1.1000000000000001,null,null,null,null,null,null,null,null,null,null,null,null,null,null,null,null,null,null,null,null,null,null,null,null,null,null,null,null,null,null,null,null,null,null,null,null,null,null,null,null,null,null,null,null,null,null,null,null,null,null,null,null,null,null,null,null,null,null,null,null,null,null,null,null,null,null,null,null,null,null,null,null,null,null,null,null,null,null,null,null,null,1,2,3,4,5]
[null,null,null,null,null,"Internal friction",null,null,0.25,null,null,null,null,null,null,null,null,null,null,null,null,null,null,null,null,null,null,null,"Developed by MariTerm AB",{"$f":"$F$35","v":"Road"},null,null,null,null,{"$f":"$L$8","v":"Road"},"cy=0.5","FT=STF",null,null,"cy=0.6","FT=0.5 LC",null,null,null,{"$f":"$F$35","v":"Road"},null,null,null,null,{"$f":"$L$8","v":"Road"},null,null,null,null,null,null,null,null,null,{"$f":"$F$35","v":"Road"},null,null,null,null,{"$f":"$L$8","v":"Road"},null,null,null,null,null,null,null,null,null,{"$f":"$F$35","v":"Road"},null,null,null,null,{"$f":"$L$8","v":"Road"},null,null,null,null,null,null,null,null,null,"H/B",{"$f":"$K$20","v":"row"},{"$f":"$K$21","v":"rows"},{"$f":"$K$21","v":"rows"},"rows","rows","H/L",{"$f":"$K$18","v":"Forward"},{"$f":"$K$19","v":"Rearwards"}]
[null,null,null,null,null,"Conversion factor friction",null,null,0.75,null,null,null,null,null,"µ",{"$f":"$K$17","v":"Sideways"},{"$f":"$K$18","v":"Forward"},{"$f":"$K$19","v":"Rearwards"},null,null,1,2,3,4,5,null,null,null,null,"µ",{"$f":"$K$17","v":"Sideways"},{"$f":"$K$18","v":"Forward"},{"$f":"$K$19","v":"Rearwards"},null,null,1,2,3,4,5,null,null,null,null,"µ",{"$f":"$K$17","v":"Sideways"},{"$f":"$K$18","v":"Forward"},{"$f":"$K$19","v":"Rearwards"},null,null,1,2,3,4,5,null,null,null,null,"µ",{"$f":"$K$17","v":"Sideways"},{"$f":"$K$18","v":"Forward"},{"$f":"$K$19","v":"Rearwards"},null,null,1,2,3,4,5,null,null,null,null,"µ",{"$f":"$K$17","v":"Sideways"},{"$f":"$K$18","v":"Forward"},{"$f":"$K$19","v":"Rearwards"},null,null,1,2,3,4,5,null,null,null,null,0.6,{"$f":"COS($H$20*PI()/180)*COS($H$21*PI()/180)*($CL28+1)","v":0.40000000000000019},null,null,null,null,0.6,{"$f":"COS($H$20*PI()/180)*SIN($G$21*PI()/180)*($CR28+1)","v":0.4},0.4]
[null,null,null,null,null,"Wankfactor","road - tipping sideways",null,0.1,null,null,null,null,null,0,{"$f":"IF(TYPE(INDEX($AE$9:$BZ$25,$N9,VLOOKUP($I$46,$I$42:$K$45,3,FALSE)*15+AE$7))=2,-1,IF(INDEX($AE$9:$BZ$25,$N9,VLOOKUP($I$46,$I$42:$K$45,3,FALSE)*15+AE$7)>10,0,IF(INDEX($AE$9:$BZ$25,$N9,VLOOKUP($I$46,$I$42:$K$45,3,FALSE)*15+AE$7)>1,1,2)))","v":2},{"$f":"IF(TYPE(INDEX($AE$9:$BZ$25,$N9,VLOOKUP($I$46,$I$42:$K$45,3,FALSE)*15+AF$7))=2,-1,IF(INDEX($AE$9:$BZ$25,$N9,VLOOKUP($I$46,$I$42:$K$45,3,FALSE)*15+AF$7)>10,0,IF(INDEX($AE$9:$BZ$25,$N9,VLOOKUP($I$46,$I$42:$K$45,3,FALSE)*15+AF$7)>1,1,2)))","v":2},{"$f":"IF(TYPE(INDEX($AE$9:$BZ$25,$N9,VLOOKUP($I$46,$I$42:$K$45,3,FALSE)*15+AG$7))=2,-1,IF(INDEX($AE$9:$BZ$25,$N9,VLOOKUP($I$46,$I$42:$K$45,3,FALSE)*15+AG$7)>10,0,IF(INDEX($AE$9:$BZ$25,$N9,VLOOKUP($I$46,$I$42:$K$45,3,FALSE)*15+AG$7)>1,1,2)))","v":2},null,"H/B",{"$f":"$K$20","v":"row"},{"$f":"$K$21","v":"rows"},{"$f":"$K$21","v":"rows"},"rows","rows","H/L",{"$f":"$K$18","v":"Forward"},{"$f":"$K$19","v":"Rearwards"},null,0,{"$f":"IF($K$8,IF(($K$35-$AD29*$L$35)>0,$I$51*2*$AD29*SIN($G$8*PI()/180)/(($K$35-$AD29*$L$35)*$I$24),\"\"),\"\")","v":0},{"$f":"IF($K$8,IF(($G$35-$AD29*$H$35)>0,$I$51*2*$AD29*SIN($G$8*PI()/180)/(($G$35-$AD29*$H$35)*$I$25),\"\"),\"\")","v":0},{"$f":"IF($K$8,IF(($I$35-$AD29*$J$35)>0,$I$51*2*$AD29*SIN($G$8*PI()/180)/(($I$35-$AD29*$J$35)*$I$24),\"\"),\"\")","v":0},null,"H/B",{"$f":"$K$20","v":"row"},{"$f":"$K$21","v":"rows"},{"$f":"$K$21","v":"rows"},"rows","rows","H/L",{"$f":"$K$18","v":"Forward"},{"$f":"$K$19","v":"Rearwards"},null,0,{"$f":"IF($K$8,IF(($K$35-$AS29*$L$35)>0,$I$49*((1+COS($H$12*PI()/180))*COS($H$13*PI()/180)+$I$28*$AS29*SIN($H$12*PI()/180))/(($K$35-$L$35*$I$28*$AS29)),\"\"),\"\")","v":4.077471967380224},null,null,null,"H/B",{"$f":"$K$20","v":"row"},{"$f":"$K$21","v":"rows"},{"$f":"$K$21","v":"rows"},"rows","rows","H/L",{"$f":"$K$18","v":"Forward"},{"$f":"$K$19","v":"Rearwards"},null,0,null,{"$f":"IF($K$8,IF(($G$35-$BH29*$H$35)>0,$I$49*2*MIN($I$28*$BH29*SIN($G$16*PI()/180)+COS($G$16*PI()/180)*SIN($G$17*PI()/180),$I$28*$BH29*SIN($H$16*PI()/180)+COS($H$16*PI()/180)*SIN($G$17*PI()/180))/($G$35-$AD29*$H$35*$I$28),\"\"),\"\")","v":3.6040100977907619},{"$f":"IF($K$8,IF(($I$35-$BH29*$J$35)>0,$I$49*2*MIN($I$28*$BH29*SIN($G$16*PI()/180)+COS($G$16*PI()/180)*SIN($G$17*PI()/180),$I$28*$BH29*SIN($H$16*PI()/180)+COS($H$16*PI()/180)*SIN($G$17*PI()/180))/($I$35-$AD29*$J$35*$I$28),\"\"),\"\")","v":5.766416156465219},null,"H/B",{"$f":"$K$20","v":"row"},{"$f":"$K$21","v":"rows"},{"$f":"$K$21","v":"rows"},"rows","rows","H/L",{"$f":"$K$18","v":"Forward"},{"$f":"$K$19","v":"Rearwards"},null,0,{"$f":"IF($K$8,IF(($K$35-$BW29*$L$35)>0,$I$49*MIN(COS($G$20*PI()/180)*COS($H$21*PI()/180)+$BW29*$I$28*SIN($G$20*PI()/180),COS($H$20*PI()/180)*COS($H$21*PI()/180)+$BW29*$I$28*SIN($H$20*PI()/180))/($K$35-$BW29*$I$28*$L$35),\"\"),\"\")","v":1.0193679918450564},{"$f":"IF($K$8,IF(($G$35-$BW29*$H$35)>0,$I$49*MIN(COS($G$20*PI()/180)*SIN($G$21*PI()/180)+$BW29*$I$28*SIN($G$20*PI()/180),COS($H$20*PI()/180)*SIN($G$21*PI()/180)+$BW29*$I$28*SIN($H$20*PI()/180))/($G$35-$BW29*$I$28*$H$35),\"\"),\"\")","v":0.63710499490315997},{"$f":"IF($K$8,IF(($I$35-$BW29*$J$35)>0,$I$49*MIN(COS($G$20*PI()/180)*SIN($G$21*PI()/180)+$BW29*$I$28*SIN($G$20*PI()/180),COS($H$20*PI()/180)*SIN($G$21*PI()/180)+$BW29*$I$28*SIN($H$20*PI()/180))/($I$35-$BW29*$I$28*$J$35),\"\"),\"\")","v":1.019367991845056},null,"H/B",{"$f":"$K$20","v":"row"},{"$f":"$K$21","v":"rows"},{"$f":"$K$21","v":"rows"},"rows","rows","H/L",{"$f":"$K$18","v":"Forward"},{"$f":"$K$19","v":"Rearwards"},null,0.8,0.45000000000000023,null,null,null,null,0.8,0.45,0.45]
[null,null,null,null,null,"Shakefactor","rail - sliding sideways",null,0.3,null,null,null,null,null,0.05,2,2,2,null,0.6,{"$f":"IF(TYPE(INDEX($AE$9:$CJ$25,$N10,VLOOKUP($I$46,$I$42:$K$45,3,FALSE)*15+AJ$7))=2,-1,IF(INDEX($AE$9:$CJ$25,$N10,VLOOKUP($I$46,$I$42:$K$45,3,FALSE)*15+AJ$7)>10,0,IF(INDEX($AE$9:$CJ$25,$N10,VLOOKUP($I$46,$I$42:$K$45,3,FALSE)*15+AJ$7)>1,1,2)))","v":-1},{"$f":"IF(TYPE(INDEX($AE$9:$CJ$25,$N10,VLOOKUP($I$46,$I$42:$K$45,3,FALSE)*15+AK$7))=2,-1,IF(INDEX($AE$9:$CJ$25,$N10,VLOOKUP($I$46,$I$42:$K$45,3,FALSE)*15+AK$7)>10,0,IF(INDEX($AE$9:$CJ$25,$N10,VLOOKUP($I$46,$I$42:$K$45,3,FALSE)*15+AK$7)>1,1,2)))","v":-1},{"$f":"IF(TYPE(INDEX($AE$9:$CJ$25,$N10,VLOOKUP($I$46,$I$42:$K$45,3,FALSE)*15+AL$7))=2,-1,IF(INDEX($AE$9:$CJ$25,$N10,VLOOKUP($I$46,$I$42:$K$45,3,FALSE)*15+AL$7)>10,0,IF(INDEX($AE$9:$CJ$25,$N10,VLOOKUP($I$46,$I$42:$K$45,3,FALSE)*15+AL$7)>1,1,2)))","v":-1},{"$f":"IF(TYPE(INDEX($AE$9:$CJ$25,$N10,VLOOKUP($I$46,$I$42:$K$45,3,FALSE)*15+AM$7))=2,-1,IF(INDEX($AE$9:$CJ$25,$N10,VLOOKUP($I$46,$I$42:$K$45,3,FALSE)*15+AM$7)>10,0,IF(INDEX($AE$9:$CJ$25,$N10,VLOOKUP($I$46,$I$42:$K$45,3,FALSE)*15+AM$7)>1,1,2)))","v":1},{"$f":"IF(TYPE(INDEX($AE$9:$CJ$25,$N10,VLOOKUP($I$46,$I$42:$K$45,3,FALSE)*15+AN$7))=2,-1,IF(INDEX($AE$9:$CJ$25,$N10,VLOOKUP($I$46,$I$42:$K$45,3,FALSE)*15+AN$7)>10,0,IF(INDEX($AE$9:$CJ$25,$N10,VLOOKUP($I$46,$I$42:$K$45,3,FALSE)*15+AN$7)>1,1,2)))","v":1},0.6,{"$f":"IF(TYPE(INDEX($AE$9:$CJ$25,$N10,VLOOKUP($I$46,$I$42:$K$45,3,FALSE)*15+AP$7))=2,-1,IF(INDEX($AE$9:$CJ$25,$N10,VLOOKUP($I$46,$I$42:$K$45,3,FALSE)*15+AP$7)>10,0,IF(INDEX($AE$9:$CJ$25,$N10,VLOOKUP($I$46,$I$42:$K$45,3,FALSE)*15+AP$7)>1,1,2)))","v":-1},{"$f":"IF(TYPE(INDEX($AE$9:$CJ$25,$N10,VLOOKUP($I$46,$I$42:$K$45,3,FALSE)*15+AQ$7))=2,-1,IF(INDEX($AE$9:$CJ$25,$N10,VLOOKUP($I$46,$I$42:$K$45,3,FALSE)*15+AQ$7)>10,0,IF(INDEX($AE$9:$CJ$25,$N10,VLOOKUP($I$46,$I$42:$K$45,3,FALSE)*15+AQ$7)>1,1,2)))","v":-1},null,0.05,7.9566373318429404E-2,4.2011045112130732E-2,7.9566373318429404E-2,null,0.6,{"$f":"IF($K$8,IF($AI30>($L$35/$K$35)/AJ$28,(2*(SIN($G$8*PI()/180)+$I$27*(AJ$28-1)))/($I$24)*MIN($I$51/($K$35*$AI30*AJ$28-$L$35),$I$50/(($K$35+$I$29)*$AI30*AJ$28-$L$35)),\"\"),\"\")","v":""},"","",6.3605813225431129,2.9149117987790834,0.6,{"$f":"IF($K$8,IF($AO30>($H$35/$G$35),2*$I$51*SIN($G$8*PI()/180)/($I$25*($G$35*$AO30-$H$35)),\"\"),\"\")","v":""},{"$f":"IF($K$8,IF($AO30>($J$35/$I$35),2*$I$51*SIN($G$8*PI()/180)/($I$24*($I$35*$AO30-$J$35)),\"\"),\"\")","v":""},null,0.05,4.5733807201697116,null,null,null,0.6,{"$f":"IF($K$8,IF($AX30>($L$35/$K$35)/AY$28,2*$I$50*($I$27*(AY$28-1)+MIN(SIN($G$12*PI()/180)+AY$28*$AX30*COS($G$12*PI()/180)*COS($H$13*PI()/180),SIN($H$12*PI()/180)+AY$28*$AX30*COS($H$12*PI()/180)*COS($H$13*PI()/180)))/(($K$35+$I$29)*$AX30*AY$28-$L$35),\"\"),\"\")","v":""},"","",8.1086090260402202,5.0968399592252815,0.5,null,null,null,0.05,null,3.9230536146443709,6.4677370403596388,null,0.6,null,null,null,null,null,0.6,{"$f":"IF($K$8,IF($AO30>($H$35/$G$35),4*$I$49*COS($H$16*PI()/180)*SIN($G$17*PI()/180)*$BS30/($G$35*$BS30-$H$35),\"\"),\"\")","v":""},{"$f":"IF($K$8,IF($AO30>($J$35/$I$35),4*$I$49*COS($H$16*PI()/180)*SIN($G$17*PI()/180)*$BS30/($I$35*$BS30-$J$35),\"\"),\"\")","v":""},null,0.05,1.2451759766015551,0.7552706743320905,1.2451759766015547,null,0.6,{"$f":"IF($K$8,IF($CB30>($L$35/$K$35)/CC$28,$I$49*CM10/(($K$35+$I$29)*$CB30-$L$35),\"\"),\"\")","v":""},null,null,null,null,0.6,{"$f":"IF($K$8,IF($CH30>($H$35/$G$35),$I$49*CS10/($G$35*$CH30-$H$35),\"\"),\"\")","v":""},{"$f":"IF($K$8,IF($CH30>($J$35/$I$35),$I$49*CT10/($I$35*$CH30-$J$35),\"\"),\"\")","v":""},null,1,0.50000000000000022,null,null,null,null,1,0.5,0.5]
[null,null,null,null,null,"Tippfactor","rail - tippping fwd/rwd",null,-0.4,null,null,null,null,null,0.1,2,2,2,null,0.8,-1,-1,1,1,1,0.8,-1,-1,null,0.1,0.17902433996646616,9.0023668097422987E-2,0.17902433996646616,null,0.8,"","",5.433883148138511,2.1201937741810366,1.4574558993895417,0.8,"","",null,0.1,5.1568027822749887,null,null,null,0.8,"","",6.9502363080344747,3.8780304037583662,2.9124799767001601,0.8,null,null,null,0.1,null,4.2751016332414551,7.2928204331766011,null,0.8,null,null,null,null,null,0.8,"","",null,0.1,1.5108324292562594,0.88566038956401361,1.5108324292562587,null,0.8,"",null,null,null,null,0.8,"","",null,1.2,0.55000000000000027,null,null,null,null,1.2,0.55000000000000004,0.55000000000000004]
[null,null,null,null,null,null,null,null,null,null,null,null,null,null,0.15,2,2,2,null,1,-1,-1,1,1,2,1,-1,-1,null,0.15,0.30689886851394199,0.14542284846506789,0.30689886851394199,null,1,"","",2.1735532592554061,1.2721162645086224,0.97163726625969449,1,"","",null,0.15,5.8531452434974183,null,null,null,1,"","",3.8226299694189616,2.5484199796126408,2.038735983690112,1,null,null,null,0.15,null,4.6655548902309496,8.2775973858936212,null,1,null,null,null,null,null,1,"","",null,0.15,1.8279062598441322,1.0302744373666923,1.8279062598441316,null,1,"",null,null,null,null,1,"","",null,1.4,0.6000000000000002,null,null,null,null,1.4,0.6,0.6]
[null,null,null,null,null,"Accelerations",null,null,null,null,null,null,null,null,0.2,2,2,2,null,1.2,-1,1,1,2,2,1.2,-1,-1,null,0.2,0.47739823991057651,0.21005522556065365,0.47739823991057651,null,1.2,"",4.5071849737339198,1.3584707870346291,0.90865447464901605,0.72872794969477084,1.2,"","",null,0.2,6.698703946410367,null,null,null,1.2,"",5.7918635900287283,2.6362965306337656,1.8977595592860088,1.5682584489923943,1.2,null,null,null,0.2,null,5.1010604461038476,9.4733979713357179,null,1.2,null,null,null,null,null,1.2,"","",null,0.2,2.2129244827008354,1.1915747214542955,2.212924482700835,null,1.2,"",null,null,null,null,1.2,"","",null,1.6,0.65000000000000036,null,null,null,null,1.6,0.65,0.65]
[null,null,null,null,null,null,"Forward",null,"Rearwards",null,"Sideways",null,null,null,0.25,2,2,2,null,1.4,-1,1,2,2,2,1.4,1,-1,null,0.25,0.71609735986586465,0.28643894394634589,0.71609735986586465,null,1.4,"",2.2535924868669599,0.98797875420700321,0.70673125806034587,0.58298235975581658,1.4,5.2513806390163458,"",null,0.25,7.747196738022426,null,null,null,1.4,"",3.7476764406068241,2.0119105102205057,1.5117745641769904,1.2742099898063202,1.4,null,null,null,0.25,null,5.5898932128999572,10.956190697283917,null,1.4,null,null,null,null,null,1.4,67.274855158760943,"",null,0.25,2.6903470790431467,1.3726260607362988,2.6903470790431459,null,1.4,"",null,null,null,null,1.4,10.19367991845057,"",null,1.8,0.70000000000000029,null,null,null,null,1.8,0.7,0.7]
[null,null,null,null,null,"Road",0.8,1,0.5,1,0.5,1,null,null,0.3,1,2,1,null,1.6,-1,1,2,2,2,1.6,1,-1,null,0.3,1.074146039798797,0.37809940600917658,1.074146039798797,null,1.6,"",1.5023949912446393,0.77626902116264485,0.57823466568573745,0.48581863312984724,1.6,2.2505917024355728,"",null,0.3,9.0816421091650454,null,null,null,1.6,"",2.7700217169702612,1.6266510508165792,1.2562633702315835,1.0730189387842697,1.6,null,null,null,0.3,null,6.1424867753651249,12.843381439399806,null,1.6,null,null,null,null,null,1.6,32.950949465515514,"",null,0.3,3.2979758380242696,1.5772927920985633,3.2979758380242687,null,1.6,"",null,null,null,null,1.6,4.732779962137756,"",null,2,0.75000000000000033,null,null,null,null,2,0.75,0.75]
[null,null,null,null,null,"Rail",1,1,1,1,0.5,1,null,null,0.35,1,2,1,null,1.8,-1,1,2,2,2,1.8,1,-1,null,0.35,1.670893839687017,0.49012885964152503,1.670893839687017,null,1.8,"",1.1267962434334797,0.63928037036923702,0.4892754863494701,0.41641597125415475,1.8,1.4321947197317286,"",null,0.35,10.837491281721119,null,null,null,1.8,"",2.196913775528138,1.3652249890782002,1.0746349311619567,0.92669817440459645,1.8,null,null,null,0.35,null,6.7721864163138026,15.326527152710185,null,1.8,null,null,null,null,null,1.8,23.589884276448615,"",null,0.35,4.0974873629994324,1.8105176720230045,4.0974873629994315,null,1.8,"",null,null,null,null,1.8,3.2434436104160862,"",null,2.2000000000000002,0.80000000000000038,null,null,null,null,2.2000000000000002,0.8,0.8]
[null,null,null,null,null,"Sea A",0.3,0.5,0.3,0.5,0.5,1,null,null,0.4,1,2,1,null,2,-1,2,2,2,2,2,1,-1,null,0.4,2.8643894394634595,0.630165676681961,2.8643894394634595,null,2,"",0.90143699474678374,0.54338831481385153,0.42403875483620751,0.36436397484738542,2,1.050276127803268,"",null,0.4,13.251783893985731,null,null,null,2,"",1.8202999854376003,1.1761938367442959,0.93889157143623614,0.81549439347604513,2,null,null,null,0.4,null,7.496341003404785,18.740852508511967,null,2,null,null,null,null,null,2,19.221387188217395,"",null,0.4,5.1968157098402834,2.0787262839361125,5.1968157098402825,null,2,"",null,null,null,null,2,2.5484199796126399,"",null,2.4,0.85000000000000031,null,null,null,null,2.4,0.85,0.85]
[null,null,null,null,null,"Sea B",0.3,0.3,0.3,0.3,0.7,1,null,null,0.45,1,2,1,null,2.2000000000000002,1,2,2,2,2,2.2000000000000002,2,1,null,0.45,6.4448762387927827,0.8102130128768068,6.4448762387927827,null,2.2000000000000002,5.5945106239520666,0.75119749562231963,0.47251157809900129,0.37415184250253597,0.32387908875323146,2.2000000000000002,0.82916536405521146,7.1609735986586394,null,0.45,16.780365404218614,null,null,null,2.2000000000000002,6.3710499490316002,1.5539146217150244,1.0331432349780978,0.83359532043404128,0.72811999417504025,2.2000000000000002,null,null,null,0.45,null,8.3379260640780863,23.731020336222251,null,2.2000000000000002,null,null,null,null,null,2.2000000000000002,16.692257295030895,126.86115544223472,null,0.45,6.8035263706076785,2.3904281842675612,6.8035263706076758,null,2.2000000000000002,5.0968399592252807,null,null,null,null,2.2000000000000002,2.1460378775685385,16.309887869520882,null,2.6,0.90000000000000047,null,null,null,null,2.6,0.9,0.9]
[null,null,null,null,null,"Sea C",0.4,0.2,0.4,0.2,0.8,1,null,null,0.5,-1,1,-1,null,2.4,1,2,2,2,2,2.4,2,1,null,0.5,"",1.050276127803268,"",null,2.4,3.5804867993293241,0.64388356767627419,0.41799101139527045,0.33476743802858483,0.29149117987790829,2.4,0.68496269204560978,3.5804867993293237,null,0.5,"",null,null,null,2.4,4.6334908720229837,1.3555425423471492,0.92111565528167738,0.74953528812136505,0.65765676893229452,2.4,null,null,null,0.5,null,9.3280261354584422,"",null,2.4,null,null,null,null,null,2.4,15.042824755996223,69.196993877582642,null,0.5,"",2.7571363023045605,"",null,2.4,3.9384672412195361,null,null,null,null,2.4,1.8836147675397774,8.6646279306829772,null,2.8,0.9500000000000004,null,null,null,null,2.8,0.95,0.95]
[null,null,null,null,null,null,null,null,null,null,null,null,null,null,0.55000000000000004,-1,1,-1,null,2.6,1,2,2,2,2,2.6,2,1,null,0.55000000000000004,"",1.3863644887003139,"",null,2.6,2.3869911995528819,0.56339812171673986,0.37475056194058726,0.30288482488300533,0.26499198170718941,2.6,0.58348673766848225,2.3869911995528819,null,0.55000000000000004,"",null,null,null,2.6,3.6405999708752006,1.2020848960436983,0.83100651509107859,0.68087556707207963,0.59962823049709191,2.6,null,null,null,0.55000000000000004,null,10.509758478718865,"",null,2.6,null,null,null,null,null,2.6,13.882112969268119,49.975606689365229,null,0.55000000000000004,"",3.1948201851229148,"",null,2.6,3.2765399737876812,null,null,null,null,2.6,1.6989466530750932,6.1162079510703347,null,3,1.0000000000000004,null,null,null,null,3,1,1]
[null,null,null,null,null,null,null,null,"Type",null,null,null,null,null,0.6,-1,1,-1,null,2.8,1,2,2,2,2,2.8,2,1,null,0.6,"",1.8904970300458819,"",null,2.8,1.7902433996646621,0.50079833041487998,0.33961769675865727,0.27654701402361359,0.24290931656492362,2.8,0.50819812635642014,1.7902433996646618,null,0.6,"",null,null,null,2.8,2.9981411524854598,1.0798389744121359,0.75695642958791309,0.62373915584924788,0.55100972532165216,2.8,null,null,null,0.6,null,11.649919906800637,"",null,2.8,null,null,null,null,null,2.8,13.020939708147269,40.36491309525654,null,0.6,"",3.7262934714023417,"",null,2.8,2.8482340948611871,null,null,null,null,2.8,1.561934826214199,4.8419979612640169,null,3.2,1.0500000000000005,null,null,null,null,3.2,1.05,1.05]
[null,null,null,null,null,null,null,null,"Top-over lashing","top-over lashing",0,null,null,null,0.65,-1,1,-1,null,3,1,2,2,2,2,3,2,1,null,0.65,"",2.7307179322884969,"",null,3,1.4321947197317293,0.45071849737339187,0.31050760846505804,0.25442325290172446,0.22422398452146794,3,0.4501183404871148,1.4321947197317293,null,0.65,"",null,null,null,3,2.5484199796126412,0.98016153062024658,0.69502363080344765,0.57544967281575776,0.50968399592252822,3,null,null,null,0.65,null,13.047910295616717,"",null,3,null,null,null,null,null,3,12.356606049568324,34.598496938791314,null,0.65,"",4.3853203463888359,"",null,3,2.5484199796126417,null,null,null,null,3,1.4562399883500796,4.077471967380224]
[null,null,null,null,null,null,null,null,"Loop lashing","pair of loop lashings",1,null,null,null,0.7,-1,1,-1,null,3.2,1,2,2,2,2,3.2,2,1,null,0.7,"",4.4111597367737225,"",null,3.2,1.1934955997764409,0.40974408852126531,0.28599384990202709,0.23557708602011523,0.20820798562707737,3.2,0.40395235684741071,1.1934955997764409,null,0.7,"",null,null,null,3.2,2.2160173735762094,0.89733097873684542,0.6424588183897415,0.53409999572720035,0.47412464736979371,3.2,null,null,null,0.7,null,14.827170790473534,"",null,3.2,null,null,null,null,null,3.2,11.828545961979934,30.754219501147833,null,0.7,"",5.1562428089498198,"",null,3.2,2.3268182422550203,null,null,null,null,3.2,1.3722261428683442,3.5677879714576952,null,null,"amax, bmax, Case 2",null,null,null,null,null,"amin, bmin, Case 2"]
[null,null,null,null,null,null,null,null,"Spring lashing","spring lashing",2,null,null,null,0.75,-1,1,-1,null,null,null,null,null,null,null,null,null,null,null,0.75,"",9.4524851502294052,"",null,null,null,null,null,null,null,null,null,null,null,0.75,"",null,null,null,null,null,null,null,null,null,null,null,null,null,0.75,null,17.168303020548308,"",null,null,null,null,null,null,null,null,null,null,null,0.75,"",6.1313392511805906,"",null,null,null,null,null,null,null,null,null,null,null,null,1,2,3,4,5]
[null,null,null,null,null,null,null,null,"Straight lashing","straight lashing",3,null,null,null,0.8,-1,-1,-1,null,null,null,null,null,null,null,null,null,null,null,0.8,"","","",null,null,null,null,null,null,null,null,null,null,null,0.8,"",null,null,null,null,null,null,null,null,null,null,null,null,null,0.8,null,"","",null,null,null,null,null,null,null,null,null,null,null,0.8,"","","",null,null,null,null,null,null,null,null,null,null,null,"H/B",{"$f":"$K$20","v":"row"},{"$f":"$K$21","v":"rows"},{"$f":"$K$21","v":"rows"},"rows","rows","H/L",{"$f":"$K$18","v":"Forward"},{"$f":"$K$19","v":"Rearwards"}]
[null,null,null,null,null,null,null,null,{"$f":"INDEX(I42:I45,K46)","v":"Top-over lashing"},{"$f":"VLOOKUP(I46,I42:J45,2,FALSE)","v":"top-over lashing"},1,null,null,null,null,null,null,null,null,null,null,null,null,null,null,null,null,null,null,null,null,null,null,null,null,null,null,null,null,null,null,null,null,null,null,null,null,null,null,null,null,null,null,null,null,null,null,null,null,null,null,null,null,null,null,null,null,null,null,null,null,null,null,null,null,null,null,null,null,null,null,null,null,null,null,null,null,null,null,0.6,{"$f":"COS($H$20*PI()/180)*COS($H$21*PI()/180)*($CL46-1)+SIN($H$20*PI()/180)*2","v":1.6320508075688771},null,null,null,null,0.6,{"$f":"COS($H$20*PI()/180)*SIN($G$21*PI()/180)*($CR46-1)+SIN($H$20*PI()/180)*2","v":1.6320508075688771},1.6320508075688771]
[null,null,null,null,null,null,null,null,null,null,null,null,null,null,null,null,null,null,null,null,null,null,null,null,null,null,null,null,null,{"$f":"$F$36","v":"Rail"},null,null,null,null,{"$f":"$L$9","v":"Rail"},null,null,null,null,null,null,null,null,null,{"$f":"$F$36","v":"Rail"},null,null,null,null,{"$f":"$L$9","v":"Rail"},null,null,null,null,null,null,null,null,null,{"$f":"$F$36","v":"Rail"},null,null,null,null,{"$f":"$L$9","v":"Rail"},null,null,null,null,null,null,null,null,null,{"$f":"$F$36","v":"Rail"},null,null,null,null,{"$f":"$L$9","v":"Rail"},null,null,null,null,null,null,null,null,null,0.8,1.6820508075688771,null,null,null,null,0.8,1.6820508075688771,1.6820508075688771]
[null,null,null,null,null,"LC to use",null,null,null,null,null,null,null,null,null,null,null,null,null,null,null,null,null,null,null,null,null,null,null,"µ",{"$f":"$K$17","v":"Sideways"},{"$f":"$K$18","v":"Forward"},{"$f":"$K$19","v":"Rearwards"},null,null,1,2,3,4,5,null,null,null,null,"µ",{"$f":"$K$17","v":"Sideways"},{"$f":"$K$18","v":"Forward"},{"$f":"$K$19","v":"Rearwards"},null,null,1,2,3,4,5,null,null,null,null,"µ",{"$f":"$K$17","v":"Sideways"},{"$f":"$K$18","v":"Forward"},{"$f":"$K$19","v":"Rearwards"},null,null,1,2,3,4,5,null,null,null,null,"µ",{"$f":"$K$17","v":"Sideways"},{"$f":"$K$18","v":"Forward"},{"$f":"$K$19","v":"Rearwards"},null,null,1,2,3,4,5,null,null,null,null,1,1.7320508075688772,null,null,null,null,1,1.7320508075688772,1.7320508075688772]
[null,null,null,null,null,"LC",{"$f":"MIN(C13,C19)","v":2000},"daN",{"$f":"G49/(100*9.81)","v":2.038735983690112},"ton",null,null,null,null,null,null,null,null,null,null,null,null,null,null,null,null,null,null,null,0,{"$f":"IF($K$9,IF(($K$36-$AD49*($L$36-$I$30))>0,$I$51*2*$AD49*SIN($G$8*PI()/180)/(($K$36-$AD49*($L$36-$I$30))*$I$24),\"\"),\"\")","v":""},{"$f":"IF($K$9,IF(($G$36-$AD49*$H$36)>0,$I$51*2*$AD49*SIN($G$8*PI()/180)/(($G$36-$AD49*$H$36)*$I$24),\"\"),\"\")","v":""},{"$f":"IF($K$9,IF(($I$36-$AD49*$J$36)>0,$I$51*2*$AD49*SIN($G$8*PI()/180)/(($I$36-$AD49*$J$36)*$I$24),\"\"),\"\")","v":""},null,"H/B",{"$f":"$K$20","v":"row"},{"$f":"$K$21","v":"rows"},{"$f":"$K$21","v":"rows"},"rows","rows","H/L",{"$f":"$K$18","v":"Forward"},{"$f":"$K$19","v":"Rearwards"},null,0,{"$f":"IF($K$9,IF(($K$36-$AS49*($L$36-$I$30))>0,$I$49*((1+COS($H$12*PI()/180))*COS($H$13*PI()/180)+$I$28*$AS49*SIN($H$12*PI()/180))/(($K$36-($L$36-$I$30)*$I$28*$AS49)),\"\"),\"\")","v":""},null,null,null,"H/B",{"$f":"$K$20","v":"row"},{"$f":"$K$21","v":"rows"},{"$f":"$K$21","v":"rows"},"rows","rows","H/L",{"$f":"$K$18","v":"Forward"},{"$f":"$K$19","v":"Rearwards"},null,0,null,{"$f":"IF($K$9,IF(($G$36-$BH49*$H$36)>0,$I$49*2*MIN($I$28*$BH49*SIN($G$16*PI()/180)+COS($G$16*PI()/180)*SIN($G$17*PI()/180),$I$28*$BH49*SIN($H$16*PI()/180)+COS($H$16*PI()/180)*SIN($G$17*PI()/180))/($G$36-$AD49*$H$36*$I$28),\"\"),\"\")","v":""},{"$f":"IF($K$9,IF(($I$36-$BH49*$J$36)>0,$I$49*2*MIN($I$28*$BH49*SIN($G$16*PI()/180)+COS($G$16*PI()/180)*SIN($G$17*PI()/180),$I$28*$BH49*SIN($H$16*PI()/180)+COS($H$16*PI()/180)*SIN($G$17*PI()/180))/($I$36-$AD49*$J$36*$I$28),\"\"),\"\")","v":""},null,"H/B",{"$f":"$K$20","v":"row"},{"$f":"$K$21","v":"rows"},{"$f":"$K$21","v":"rows"},"rows","rows","H/L",{"$f":"$K$18","v":"Forward"},{"$f":"$K$19","v":"Rearwards"},null,0,{"$f":"IF($K$9,IF(($K$36-$BW49*$L$36)>0,$I$49*MIN(COS($G$20*PI()/180)*COS($H$21*PI()/180)+$BW49*$I$28*SIN($G$20*PI()/180),COS($H$20*PI()/180)*COS($H$21*PI()/180)+$BW49*$I$28*SIN($H$20*PI()/180))/($K$36-$BW49*$I$28*($L$36-$I$30)),\"\"),\"\")","v":""},{"$f":"IF($K$9,IF(($G$36-$BW49*$H$36)>0,$I$49*MIN(COS($G$20*PI()/180)*SIN($G$21*PI()/180)+$BW49*$I$28*SIN($G$20*PI()/180),COS($H$20*PI()/180)*SIN($G$21*PI()/180)+$BW49*$I$28*SIN($H$20*PI()/180))/($G$36-$BW49*$I$28*$H$36),\"\"),\"\")","v":""},{"$f":"IF($K$9,IF(($I$36-$BW49*$J$36)>0,$I$49*MIN(COS($G$20*PI()/180)*SIN($G$21*PI()/180)+$BW49*$I$28*SIN($G$20*PI()/180),COS($H$20*PI()/180)*SIN($G$21*PI()/180)+$BW49*$I$28*SIN($H$20*PI()/180))/($I$36-$BW49*$I$28*$J$36),\"\"),\"\")","v":""},null,"H/B",{"$f":"$K$20","v":"row"},{"$f":"$K$21","v":"rows"},{"$f":"$K$21","v":"rows"},"rows","rows","H/L",{"$f":"$K$18","v":"Forward"},{"$f":"$K$19","v":"Rearwards"},null,1.2,1.7820508075688772,null,null,null,null,1.2,1.7820508075688772,1.7820508075688772]
[null,null,null,null,null,"0.5 * LC",{"$f":"MIN(0.5*C13,C19)","v":1000},"daN",{"$f":"G50/(100*9.81)","v":1.019367991845056},"ton",null,null,null,null,null,null,null,null,null,null,null,null,null,null,null,null,null,null,null,0.05,"","","",null,0.6,{"$f":"IF($K$9,IF($AI50>($L$36/$K$36)/AJ$48,2*$I$51*(SIN($G$8*PI()/180)+0.25*(AJ$48-1))/($I$24*($K$36*$AI50*AJ$48-$L$36)),\"\"),\"\")","v":""},"","","","",0.6,{"$f":"IF($K$9,IF($AO50>($H$36/($G$36+$I$31)),2*$I$51*SIN($G$8*PI()/180)/($I$26*(($G$36+$I$31)*$AO50-$H$36)),\"\"),\"\")","v":""},{"$f":"IF($K$9,IF($AO50>($J$36/($I$36+$I$31)),2*$I$51*SIN($G$8*PI()/180)/($I$24*(($I$36+$I$31)*$AO50-$J$36)),\"\"),\"\")","v":""},null,0.05,"",null,null,null,0.6,{"$f":"IF($K$9,IF($AX50>($L$36/$K$36)/AY$48,$I$49*($I$27*(AY$48-1)+MIN(SIN($G$12*PI()/180)+AY$48*$AX50*COS($G$12*PI()/180)*COS($H$13*PI()/180),SIN($H$12*PI()/180)+AY$48*$AX50*COS($H$12*PI()/180)*COS($H$13*PI()/180)))/($K$36*$AX50*AY$48-$L$36),\"\"),\"\")","v":""},"","","","",0.6,null,null,null,0.05,null,"","",null,0.6,null,null,null,null,null,0.6,{"$f":"IF($K$9,IF($AO50>($H$36/($G$36+$I$31)),4*$I$49*COS($H$16*PI()/180)*SIN($G$17*PI()/180)*$BS50/(($G$36+$I$31)*$BS50-$H$36),\"\"),\"\")","v":""},{"$f":"IF($K$9,IF($AO50>($J$36/($I$36+$I$31)),4*$I$49*COS($H$16*PI()/180)*SIN($G$17*PI()/180)*$BS50/(($I$36+$I$31)*$BS50-$J$36),\"\"),\"\")","v":""},null,0.05,"","","",null,0.6,{"$f":"IF($K$9,IF($CB50>($L$36/$K$36)/CC$28,$I$49*CM10/($K$36*$CB50-$L$36),\"\"),\"\")","v":""},null,null,null,null,0.6,{"$f":"IF($K$9,IF($CH50>($H$36/($G$36+$I$31)),$I$49*CS10/(($G$36+$I$31)*$CH50-$H$36),\"\"),\"\")","v":""},{"$f":"IF($K$9,IF($CH50>($J$36/($I$36+$I$31)),$I$49*CT10/(($I$36+$I$31)*$CH50-$J$36),\"\"),\"\")","v":""},null,1.4,1.8320508075688773,null,null,null,null,1.4,1.8320508075688773,1.8320508075688773]
[null,null,null,null,null,"STF",{"$f":"MIN(C14,C19)","v":400},"daN",{"$f":"G51/(100*9.81)","v":0.4077471967380224},"ton",null,null,null,null,null,null,null,null,null,null,null,null,null,null,null,null,null,null,null,0.1,"","","",null,0.8,"","","","","",0.8,"","",null,0.1,"",null,null,null,0.8,"","","","","",0.8,null,null,null,0.1,null,"","",null,0.8,null,null,null,null,null,0.8,"","",null,0.1,"","","",null,0.8,"",null,null,null,null,0.8,"","",null,1.6,1.8820508075688773,null,null,null,null,1.6,1.8820508075688771,1.8820508075688771]
[null,null,null,null,null,null,null,null,null,null,null,null,null,null,null,null,null,null,null,null,null,null,null,null,null,null,null,null,null,0.15,"","","",null,1,"","","","","",1,"","",null,0.15,"",null,null,null,1,"","","","","",1,null,null,null,0.15,null,"","",null,1,null,null,null,null,null,1,"","",null,0.15,"","","",null,1,"",null,null,null,null,1,"","",null,1.8,1.9320508075688774,null,null,null,null,1.8,1.9320508075688771,1.9320508075688771]
[null,null,null,null,null,null,null,null,null,null,null,null,null,null,null,null,null,null,null,null,null,null,null,null,null,null,null,null,null,0.2,"","","",null,1.2,"","","","","",1.2,"","",null,0.2,"",null,null,null,1.2,"","","","","",1.2,null,null,null,0.2,null,"","",null,1.2,null,null,null,null,null,1.2,"","",null,0.2,"","","",null,1.2,"",null,null,null,null,1.2,"","",null,2,1.9820508075688772,null,null,null,null,2,1.9820508075688772,1.9820508075688772]
[null,null,null,null,null,null,null,null,null,null,null,null,null,null,null,null,null,null,null,null,null,null,null,null,null,null,null,null,null,0.25,"","","",null,1.4,"","","","","",1.4,"","",null,0.25,"",null,null,null,1.4,"","","","","",1.4,null,null,null,0.25,null,"","",null,1.4,null,null,null,null,null,1.4,"","",null,0.25,"","","",null,1.4,"",null,null,null,null,1.4,"","",null,2.2000000000000002,2.0320508075688775,null,null,null,null,2.2000000000000002,2.0320508075688775,2.0320508075688775]
[null,null,null,null,null,null,null,null,null,null,null,null,null,null,null,null,null,null,null,null,null,null,null,null,null,null,null,null,null,0.3,"","","",null,1.6,"","","","","",1.6,"","",null,0.3,"",null,null,null,1.6,"","","","","",1.6,null,null,null,0.3,null,"","",null,1.6,null,null,null,null,null,1.6,"","",null,0.3,"","","",null,1.6,"",null,null,null,null,1.6,"","",null,2.4,2.0820508075688773,null,null,null,null,2.4,2.0820508075688773,2.0820508075688773]
[null,null,null,null,null,null,null,null,null,null,null,null,null,null,null,null,null,null,null,null,null,null,null,null,null,null,null,null,null,0.35,"","","",null,1.8,"","","","","",1.8,"","",null,0.35,"",null,null,null,1.8,"","","","","",1.8,null,null,null,0.35,null,"","",null,1.8,null,null,null,null,null,1.8,"","",null,0.35,"","","",null,1.8,"",null,null,null,null,1.8,"","",null,2.6,2.1320508075688775,null,null,null,null,2.6,2.1320508075688771,2.1320508075688771]
[null,null,null,null,null,null,null,null,null,null,null,null,null,null,null,null,null,null,null,null,null,null,null,null,null,null,null,null,null,0.4,"","","",null,2,"","","","","",2,"","",null,0.4,"",null,null,null,2,"","","","","",2,null,null,null,0.4,null,"","",null,2,null,null,null,null,null,2,"","",null,0.4,"","","",null,2,"",null,null,null,null,2,"","",null,2.8,2.1820508075688774,null,null,null,null,2.8,2.1820508075688769,2.1820508075688769]
[null,null,null,null,null,null,null,null,null,null,null,null,null,null,null,null,null,null,null,null,null,null,null,null,null,null,null,null,null,0.45,"","","",null,2.2000000000000002,"","","","","",2.2000000000000002,"","",null,0.45,"",null,null,null,2.2000000000000002,"","","","","",2.2000000000000002,null,null,null,0.45,null,"","",null,2.2000000000000002,null,null,null,null,null,2.2000000000000002,"","",null,0.45,"","","",null,2.2000000000000002,"",null,null,null,null,2.2000000000000002,"","",null,3,2.2320508075688776,null,null,null,null,3,2.2320508075688772,2.2320508075688772]
[null,null,null,null,null,null,null,null,null,null,null,null,null,null,null,null,null,null,null,null,null,null,null,null,null,null,null,null,null,0.5,"","","",null,2.4,"","","","","",2.4,"","",null,0.5,"",null,null,null,2.4,"","","","","",2.4,null,null,null,0.5,null,"","",null,2.4,null,null,null,null,null,2.4,"","",null,0.5,"","","",null,2.4,"",null,null,null,null,2.4,"","",null,3.2,2.2820508075688775,null,null,null,null,3.2,2.2820508075688775,2.2820508075688775]
[null,null,null,null,null,null,null,null,null,null,null,null,null,null,null,null,null,null,null,null,null,null,null,null,null,null,null,null,null,0.55000000000000004,"","","",null,2.6,"","","","","",2.6,"","",null,0.55000000000000004,"",null,null,null,2.6,"","","","","",2.6,null,null,null,0.55000000000000004,null,"","",null,2.6,null,null,null,null,null,2.6,"","",null,0.55000000000000004,"","","",null,2.6,"",null,null,null,null,2.6,"",""]
[null,null,null,null,null,null,null,null,null,null,null,null,null,null,null,null,null,null,null,null,null,null,null,null,null,null,null,null,null,0.6,"","","",null,2.8,"","","","","",2.8,"","",null,0.6,"",null,null,null,2.8,"","","","","",2.8,null,null,null,0.6,null,"","",null,2.8,null,null,null,null,null,2.8,"","",null,0.6,"","","",null,2.8,"",null,null,null,null,2.8,"","",null,null,"amin, bmax, Case 1",null,null,null,null,null,"amin, bmin, Case 1"]
[null,null,null,null,null,null,null,null,null,null,null,null,null,null,null,null,null,null,null,null,null,null,null,null,null,null,null,null,null,0.65,"","","",null,3,"","","","","",3,"","",null,0.65,"",null,null,null,3,"","","","","",3,null,null,null,0.65,null,"","",null,3,null,null,null,null,null,3,"","",null,0.65,"","","",null,3,"",null,null,null,null,3,"","",null,null,1,2,3,4,5]
[null,null,null,null,null,null,null,null,null,null,null,null,null,null,null,null,null,null,null,null,null,null,null,null,null,null,null,null,null,0.7,"","","",null,3.2,"","","","","",3.2,"","",null,0.7,"",null,null,null,3.2,"","","","","",3.2,null,null,null,0.7,null,"","",null,3.2,null,null,null,null,null,3.2,"","",null,0.7,"","","",null,3.2,"",null,null,null,null,3.2,"","",null,"H/B",{"$f":"$K$20","v":"row"},{"$f":"$K$21","v":"rows"},{"$f":"$K$21","v":"rows"},"rows","rows","H/L",{"$f":"$K$18","v":"Forward"},{"$f":"$K$19","v":"Rearwards"}]
[null,null,null,null,null,null,null,null,null,null,null,null,null,null,null,null,null,null,null,null,null,null,null,null,null,null,null,null,null,0.75,"","","",null,null,null,null,null,null,null,null,null,null,null,0.75,"",null,null,null,null,null,null,null,null,null,null,null,null,null,0.75,null,"","",null,null,null,null,null,null,null,null,null,null,null,0.75,"","","",null,null,null,null,null,null,null,null,null,null,null,0.6,{"$f":"COS($G$20*PI()/180)*COS($H$21*PI()/180)*($CL64+1)","v":0.69282032302755114},null,null,null,null,0.6,{"$f":"COS($G$20*PI()/180)*SIN($G$21*PI()/180)*($CR64+1)","v":0.69282032302755092},0.69282032302755092]
[null,null,null,null,null,null,null,null,null,null,null,null,null,null,null,null,null,null,null,null,null,null,null,null,null,null,null,null,null,0.8,"","","",null,null,null,null,null,null,null,null,null,null,null,0.8,"",null,null,null,null,null,null,null,null,null,null,null,null,null,0.8,null,"","",null,null,null,null,null,null,null,null,null,null,null,0.8,"","","",null,null,null,null,null,null,null,null,null,null,null,0.8,0.77942286340599509,null,null,null,null,0.8,0.77942286340599476,0.77942286340599476]
[null,null,null,null,null,null,null,null,null,null,null,null,null,null,null,null,null,null,null,null,null,null,null,null,null,null,null,null,null,null,null,null,null,null,null,null,null,null,null,null,null,null,null,null,null,null,null,null,null,null,null,null,null,null,null,null,null,null,null,null,null,null,null,null,null,null,null,null,null,null,null,null,null,null,null,null,null,null,null,null,null,null,null,null,null,null,null,null,null,1,0.86602540378443893,null,null,null,null,1,0.8660254037844386,0.8660254037844386]
[null,null,null,null,null,null,null,null,null,null,null,null,null,null,null,null,null,null,null,null,null,null,null,null,null,null,null,null,null,{"$f":"$L$10","v":"Sea A"},null,null,null,null,{"$f":"$L$10","v":"Sea A"},null,null,null,null,null,null,null,null,null,{"$f":"$L$10","v":"Sea A"},null,null,null,null,{"$f":"$L$10","v":"Sea A"},null,null,null,null,null,null,null,null,null,{"$f":"$L$10","v":"Sea A"},null,null,null,null,{"$f":"$L$10","v":"Sea A"},null,null,null,null,null,null,null,null,null,{"$f":"$L$10","v":"Sea A"},null,null,null,null,{"$f":"$L$10","v":"Sea A"},null,null,null,null,null,null,null,null,null,1.2,0.95262794416288288,null,null,null,null,1.2,0.95262794416288255,0.95262794416288255]
[null,null,null,null,null,null,null,null,null,null,null,null,null,null,null,null,null,null,null,null,null,null,null,null,null,null,null,null,null,"µ",{"$f":"$K$17","v":"Sideways"},{"$f":"$K$18","v":"Forward"},{"$f":"$K$19","v":"Rearwards"},null,null,1,2,3,4,5,null,null,null,null,"µ",{"$f":"$K$17","v":"Sideways"},{"$f":"$K$18","v":"Forward"},{"$f":"$K$19","v":"Rearwards"},null,null,1,2,3,4,5,null,null,null,null,"µ",{"$f":"$K$17","v":"Sideways"},{"$f":"$K$18","v":"Forward"},{"$f":"$K$19","v":"Rearwards"},null,null,1,2,3,4,5,null,null,null,null,"µ",{"$f":"$K$17","v":"Sideways"},{"$f":"$K$18","v":"Forward"},{"$f":"$K$19","v":"Rearwards"},null,null,1,2,3,4,5,null,null,null,null,1.4,1.0392304845413267,null,null,null,null,1.4,1.0392304845413263,1.0392304845413263]
[null,null,null,null,null,null,null,null,null,null,null,null,null,null,null,null,null,null,null,null,null,null,null,null,null,null,null,null,null,0,{"$f":"IF($K$10,IF(($K$37-$AD69*$L$37)>0,$I$51*2*$AD69*SIN($G$8*PI()/180)/(($K$37-$AD69*$L$37)*$I$24),\"\"),\"\")","v":""},{"$f":"IF($K$10,IF(($G$37-$AD69*$H$37)>0,$I$51*2*$AD69*SIN($G$8*PI()/180)/(($G$37-$AD69*$H$37)*$I$24),\"\"),\"\")","v":""},{"$f":"IF($K$10,IF(($I$37-$AD69*$J$37)>0,$I$51*2*$AD69*SIN($G$8*PI()/180)/(($I$37-$AD69*$J$37)*$I$24),\"\"),\"\")","v":""},null,"H/B",{"$f":"$K$20","v":"row"},{"$f":"$K$21","v":"rows"},{"$f":"$K$21","v":"rows"},"rows","rows","H/L",{"$f":"$K$18","v":"Forward"},{"$f":"$K$19","v":"Rearwards"},null,0,{"$f":"IF($K$10,IF(($K$37-$AS69*$L$37)>0,$I$49*((1+COS($H$12*PI()/180))*COS($H$13*PI()/180)+$I$28*$AS69*SIN($H$12*PI()/180))/(($K$37-$L$37*$I$28*$AS69)),\"\"),\"\")","v":""},null,null,null,"H/B",{"$f":"$K$20","v":"row"},{"$f":"$K$21","v":"rows"},{"$f":"$K$21","v":"rows"},"rows","rows","H/L",{"$f":"$K$18","v":"Forward"},{"$f":"$K$19","v":"Rearwards"},null,0,null,{"$f":"IF($K$10,IF(($G$37-$BH69*$H$37)>0,$I$49*2*MIN($I$28*$BH69*SIN($G$16*PI()/180)+COS($G$16*PI()/180)*SIN($G$17*PI()/180),$I$28*$BH69*SIN($H$16*PI()/180)+COS($H$16*PI()/180)*SIN($G$17*PI()/180))/($G$37-$AD69*$H$37*$I$28),\"\"),\"\")","v":""},{"$f":"IF($K$10,IF(($I$37-$BH69*$J$37)>0,$I$49*2*MIN($I$28*$BH69*SIN($G$16*PI()/180)+COS($G$16*PI()/180)*SIN($G$17*PI()/180),$I$28*$BH69*SIN($H$16*PI()/180)+COS($H$16*PI()/180)*SIN($G$17*PI()/180))/($I$37-$AD69*$J$37*$I$28),\"\"),\"\")","v":""},null,"H/B",{"$f":"$K$20","v":"row"},{"$f":"$K$21","v":"rows"},{"$f":"$K$21","v":"rows"},"rows","rows","H/L",{"$f":"$K$18","v":"Forward"},{"$f":"$K$19","v":"Rearwards"},null,0,{"$f":"IF($K$10,IF(($K$37-$BW69*$L$37)>0,$I$49*MIN(COS($G$20*PI()/180)*COS($H$21*PI()/180)+$BW69*$I$28*SIN($G$20*PI()/180),COS($H$20*PI()/180)*COS($H$21*PI()/180)+$BW69*$I$28*SIN($H$20*PI()/180))/($K$37-$BW69*$I$28*$L$37),\"\"),\"\")","v":""},{"$f":"IF($K$10,IF(($G$37-$BW69*$H$37)>0,$I$49*MIN(COS($G$20*PI()/180)*SIN($G$21*PI()/180)+$BW69*$I$28*SIN($G$20*PI()/180),COS($H$20*PI()/180)*SIN($G$21*PI()/180)+$BW69*$I$28*SIN($H$20*PI()/180))/($G$37-$BW69*$I$28*$H$37),\"\"),\"\")","v":""},{"$f":"IF($K$10,IF(($I$37-$BW69*$J$37)>0,$I$49*MIN(COS($G$20*PI()/180)*SIN($G$21*PI()/180)+$BW69*$I$28*SIN($G$20*PI()/180),COS($H$20*PI()/180)*SIN($G$21*PI()/180)+$BW69*$I$28*SIN($H$20*PI()/180))/($I$37-$BW69*$I$28*$J$37),\"\"),\"\")","v":""},null,"H/B",{"$f":"$K$20","v":"row"},{"$f":"$K$21","v":"rows"},{"$f":"$K$21","v":"rows"},"rows","rows","H/L",{"$f":"$K$18","v":"Forward"},{"$f":"$K$19","v":"Rearwards"},null,1.6,1.1258330249197706,null,null,null,null,1.6,1.1258330249197701,1.1258330249197701]
[null,null,null,null,null,null,null,null,null,null,null,null,null,null,null,null,null,null,null,null,null,null,null,null,null,null,null,null,null,0.05,"","","",null,0.6,{"$f":"IF($K$10,IF($AI70>($L$37/$K$37)/AJ$48,2*$I$51*(SIN($G$8*PI()/180)+0.25*(AJ$48-1))/($I$24*($K$37*$AI70*AJ$48-$L$37)),\"\"),\"\")","v":""},"","","","",0.6,{"$f":"IF($K$10,IF($AO70>($H$37/$G$37),2*$I$51*SIN($G$8*PI()/180)/($I$26*($G$37*$AO70-$H$37)),\"\"),\"\")","v":""},{"$f":"IF($K$10,IF($AO70>($J$37/$I$37),2*$I$51*SIN($G$8*PI()/180)/($I$24*($I$37*$AO70-$J$37)),\"\"),\"\")","v":""},null,0.05,"",null,null,null,0.6,{"$f":"IF($K$10,IF($AX70>($L$37/$K$37)/AY$48,$I$49*($I$27*(AY$48-1)+MIN(SIN($G$12*PI()/180)+AY$48*$AX70*COS($G$12*PI()/180)*COS($H$13*PI()/180),SIN($H$12*PI()/180)+AY$48*$AX70*COS($H$12*PI()/180)*COS($H$13*PI()/180)))/($K$37*$AX70*AY$48-$L$37),\"\"),\"\")","v":""},"","","","",0.6,null,null,null,0.05,null,"","",null,0.6,null,null,null,null,null,0.6,{"$f":"IF($K$10,IF($AO70>($H$37/$G$37),4*$I$49*COS($H$16*PI()/180)*SIN($G$17*PI()/180)*$BS70/($G$37*$BS70-$H$37),\"\"),\"\")","v":""},{"$f":"IF($K$10,IF($AO70>($J$37/$I$37),4*$I$49*COS($H$16*PI()/180)*SIN($G$17*PI()/180)*$BS70/($I$37*$BS70-$J$37),\"\"),\"\")","v":""},null,0.05,"",{"$f":"IF($K$10,IF(($G$37-$BW70*$H$37)>0,$I$49*MIN(COS($G$20*PI()/180)*SIN($G$21*PI()/180)+$BW70*$I$28*SIN($G$20*PI()/180),COS($H$20*PI()/180)*SIN($G$21*PI()/180)+$BW70*$I$28*SIN($H$20*PI()/180))/($G$37-$BW70*$I$28*$H$37),\"\"),\"\")","v":""},{"$f":"IF($K$10,IF(($I$37-$BW70*$J$37)>0,$I$49*MIN(COS($G$20*PI()/180)*SIN($G$21*PI()/180)+$BW70*$I$28*SIN($G$20*PI()/180),COS($H$20*PI()/180)*SIN($G$21*PI()/180)+$BW70*$I$28*SIN($H$20*PI()/180))/($I$37-$BW70*$I$28*$J$37),\"\"),\"\")","v":""},null,0.6,{"$f":"IF($K$10,IF($CB70>($L$37/$K$37)/CC$28,$I$49*CM10/($K$37*$CB70-$L$37),\"\"),\"\")","v":""},null,null,null,null,0.6,{"$f":"IF($K$10,IF($CH70>($H$37/$G$37),$I$49*CS10/($G$37*$CH70-$H$37),\"\"),\"\")","v":""},{"$f":"IF($K$10,IF($CH70>($J$37/$I$37),$I$49*CT10/($I$37*$CH70-$J$37),\"\"),\"\")","v":""},null,1.8,1.2124355652982144,null,null,null,null,1.8,1.2124355652982139,1.2124355652982139]
[null,null,null,null,null,null,null,null,null,null,null,null,null,null,null,null,null,null,null,null,null,null,null,null,null,null,null,null,null,0.1,"","","",null,0.8,"","","","","",0.8,"","",null,0.1,"",null,null,null,0.8,"","","","","",0.8,null,null,null,0.1,null,"","",null,0.8,null,null,null,null,null,0.8,"","",null,0.1,"","","",null,0.8,"",null,null,null,null,0.8,"","",null,2,1.2990381056766584,null,null,null,null,2,1.299038105676658,1.299038105676658]
[null,null,null,null,null,null,null,null,null,null,null,null,null,null,null,null,null,null,null,null,null,null,null,null,null,null,null,null,null,0.15,"","","",null,1,"","","","","",1,"","",null,0.15,"",null,null,null,1,"","","","","",1,null,null,null,0.15,null,"","",null,1,null,null,null,null,null,1,"","",null,0.15,"","","",null,1,"",null,null,null,null,1,"","",null,2.2000000000000002,1.3856406460551023,null,null,null,null,2.2000000000000002,1.3856406460551018,1.3856406460551018]
[null,null,null,null,null,null,null,null,null,null,null,null,null,null,null,null,null,null,null,null,null,null,null,null,null,null,null,null,null,0.2,"","","",null,1.2,"","","","","",1.2,"","",null,0.2,"",null,null,null,1.2,"","","","","",1.2,null,null,null,0.2,null,"","",null,1.2,null,null,null,null,null,1.2,"","",null,0.2,"","","",null,1.2,"",null,null,null,null,1.2,"","",null,2.4,1.4722431864335461,null,null,null,null,2.4,1.4722431864335457,1.4722431864335457]
[null,null,null,null,null,null,null,null,null,null,null,null,null,null,null,null,null,null,null,null,null,null,null,null,null,null,null,null,null,0.25,"","","",null,1.4,"","","","","",1.4,"","",null,0.25,"",null,null,null,1.4,"","","","","",1.4,null,null,null,0.25,null,"","",null,1.4,null,null,null,null,null,1.4,"","",null,0.25,"","","",null,1.4,"",null,null,null,null,1.4,"","",null,2.6,1.5588457268119902,null,null,null,null,2.6,1.5588457268119895,1.5588457268119895]
[null,null,null,null,null,null,null,null,null,null,null,null,null,null,null,null,null,null,null,null,null,null,null,null,null,null,null,null,null,0.3,"","","",null,1.6,"","","","","",1.6,"","",null,0.3,"",null,null,null,1.6,"","","","","",1.6,null,null,null,0.3,null,"","",null,1.6,null,null,null,null,null,1.6,"","",null,0.3,"","","",null,1.6,"",null,null,null,null,1.6,"","",null,2.8,1.6454482671904338,null,null,null,null,2.8,1.6454482671904334,1.6454482671904334]
[null,null,null,null,null,null,null,null,null,null,null,null,null,null,null,null,null,null,null,null,null,null,null,null,null,null,null,null,null,0.35,"","","",null,1.8,"","","","","",1.8,"","",null,0.35,"",null,null,null,1.8,"","","","","",1.8,null,null,null,0.35,null,"","",null,1.8,null,null,null,null,null,1.8,"","",null,0.35,"","","",null,1.8,"",null,null,null,null,1.8,"","",null,3,1.7320508075688779,null,null,null,null,3,1.7320508075688772,1.7320508075688772]
[null,null,null,null,null,null,null,null,null,null,null,null,null,null,null,null,null,null,null,null,null,null,null,null,null,null,null,null,null,0.4,"","","",null,2,"","","","","",2,"","",null,0.4,"",null,null,null,2,"","","","","",2,null,null,null,0.4,null,"","",null,2,null,null,null,null,null,2,"","",null,0.4,"","","",null,2,"",null,null,null,null,2,"","",null,3.2,1.8186533479473219,null,null,null,null,3.2,1.818653347947321,1.818653347947321]
[null,null,null,null,null,null,null,null,null,null,null,null,null,null,null,null,null,null,null,null,null,null,null,null,null,null,null,null,null,0.45,"","","",null,2.2000000000000002,"","","","","",2.2000000000000002,"","",null,0.45,"",null,null,null,2.2000000000000002,"","","","","",2.2000000000000002,null,null,null,0.45,null,"","",null,2.2000000000000002,null,null,null,null,null,2.2000000000000002,"","",null,0.45,"","","",null,2.2000000000000002,"",null,null,null,null,2.2000000000000002,"",""]
[null,null,null,null,null,null,null,null,null,null,null,null,null,null,null,null,null,null,null,null,null,null,null,null,null,null,null,null,null,0.5,"","","",null,2.4,"","","","","",2.4,"","",null,0.5,"",null,null,null,2.4,"","","","","",2.4,null,null,null,0.5,null,"","",null,2.4,null,null,null,null,null,2.4,"","",null,0.5,"","","",null,2.4,"",null,null,null,null,2.4,"","",null,null,"amin, bmax, Case 2",null,null,null,null,null,"amin, bmin, Case 2"]
[null,null,null,null,null,null,null,null,null,null,null,null,null,null,null,null,null,null,null,null,null,null,null,null,null,null,null,null,null,0.55000000000000004,"","","",null,2.6,"","","","","",2.6,"","",null,0.55000000000000004,"",null,null,null,2.6,"","","","","",2.6,null,null,null,0.55000000000000004,null,"","",null,2.6,null,null,null,null,null,2.6,"","",null,0.55000000000000004,"","","",null,2.6,"",null,null,null,null,2.6,"","",null,null,1,2,3,4,5]
[null,null,null,null,null,null,null,null,null,null,null,null,null,null,null,null,null,null,null,null,null,null,null,null,null,null,null,null,null,0.6,"","","",null,2.8,"","","","","",2.8,"","",null,0.6,"",null,null,null,2.8,"","","","","",2.8,null,null,null,0.6,null,"","",null,2.8,null,null,null,null,null,2.8,"","",null,0.6,"","","",null,2.8,"",null,null,null,null,2.8,"","",null,"H/B",{"$f":"$K$20","v":"row"},{"$f":"$K$21","v":"rows"},{"$f":"$K$21","v":"rows"},"rows","rows","H/L",{"$f":"$K$18","v":"Forward"},{"$f":"$K$19","v":"Rearwards"}]
[null,null,null,null,null,null,null,null,null,null,null,null,null,null,null,null,null,null,null,null,null,null,null,null,null,null,null,null,null,0.65,"","","",null,3,"","","","","",3,"","",null,0.65,"",null,null,null,3,"","","","","",3,null,null,null,0.65,null,"","",null,3,null,null,null,null,null,3,"","",null,0.65,"","","",null,3,"",null,null,null,null,3,"","",null,0.6,{"$f":"COS($G$20*PI()/180)*COS($H$21*PI()/180)*($CL82-1)+SIN($G$20*PI()/180)*2","v":0.8267949192431121},null,null,null,null,0.6,{"$f":"COS($G$20*PI()/180)*SIN($G$21*PI()/180)*($CR82-1)+SIN($G$20*PI()/180)*2","v":0.8267949192431121},0.8267949192431121]
[null,null,null,null,null,null,null,null,null,null,null,null,null,null,null,null,null,null,null,null,null,null,null,null,null,null,null,null,null,0.7,"","","",null,3.2,"","","","","",3.2,"","",null,0.7,"",null,null,null,3.2,"","","","","",3.2,null,null,null,0.7,null,"","",null,3.2,null,null,null,null,null,3.2,"","",null,0.7,"","","",null,3.2,"",null,null,null,null,3.2,"","",null,0.8,0.91339745962155605,null,null,null,null,0.8,0.91339745962155605,0.91339745962155605]
[null,null,null,null,null,null,null,null,null,null,null,null,null,null,null,null,null,null,null,null,null,null,null,null,null,null,null,null,null,0.75,"","","",null,null,null,null,null,null,null,null,null,null,null,0.75,"",null,null,null,null,null,null,null,null,null,null,null,null,null,0.75,null,"","",null,null,null,null,null,null,null,null,null,null,null,0.75,"","","",null,null,null,null,null,null,null,null,null,null,null,1,0.99999999999999989,null,null,null,null,1,0.99999999999999989,0.99999999999999989]
[null,null,null,null,null,null,null,null,null,null,null,null,null,null,null,null,null,null,null,null,null,null,null,null,null,null,null,null,null,0.8,"","","",null,null,null,null,null,null,null,null,null,null,null,0.8,"",null,null,null,null,null,null,null,null,null,null,null,null,null,0.8,null,"","",null,null,null,null,null,null,null,null,null,null,null,0.8,"","","",null,null,null,null,null,null,null,null,null,null,null,1.2,1.0866025403784438,null,null,null,null,1.2,1.0866025403784438,1.0866025403784438]
[null,null,null,null,null,null,null,null,null,null,null,null,null,null,null,null,null,null,null,null,null,null,null,null,null,null,null,null,null,null,null,null,null,null,null,null,null,null,null,null,null,null,null,null,null,null,null,null,null,null,null,null,null,null,null,null,null,null,null,null,null,null,null,null,null,null,null,null,null,null,null,null,null,null,null,null,null,null,null,null,null,null,null,null,null,null,null,null,null,1.4,1.1732050807568877,null,null,null,null,1.4,1.1732050807568877,1.1732050807568877]
[null,null,null,null,null,null,null,null,null,null,null,null,null,null,null,null,null,null,null,null,null,null,null,null,null,null,null,null,null,{"$f":"$L$11","v":"Sea B"},null,null,null,null,{"$f":"$L$11","v":"Sea B"},null,null,null,null,null,null,null,null,null,{"$f":"$L$11","v":"Sea B"},null,null,null,null,{"$f":"$L$11","v":"Sea B"},null,null,null,null,null,null,null,null,null,{"$f":"$L$11","v":"Sea B"},null,null,null,null,{"$f":"$L$11","v":"Sea B"},null,null,null,null,null,null,null,null,null,{"$f":"$L$11","v":"Sea B"},null,null,null,null,{"$f":"$L$11","v":"Sea B"},null,null,null,null,null,null,null,null,null,1.6,1.2598076211353315,null,null,null,null,1.6,1.2598076211353315,1.2598076211353315]
[null,null,null,null,null,null,null,null,null,null,null,null,null,null,null,null,null,null,null,null,null,null,null,null,null,null,null,null,null,"µ",{"$f":"$K$17","v":"Sideways"},{"$f":"$K$18","v":"Forward"},{"$f":"$K$19","v":"Rearwards"},null,null,1,2,3,4,5,null,null,null,null,"µ",{"$f":"$K$17","v":"Sideways"},{"$f":"$K$18","v":"Forward"},{"$f":"$K$19","v":"Rearwards"},null,null,1,2,3,4,5,null,null,null,null,"µ",{"$f":"$K$17","v":"Sideways"},{"$f":"$K$18","v":"Forward"},{"$f":"$K$19","v":"Rearwards"},null,null,1,2,3,4,5,null,null,null,null,"µ",{"$f":"$K$17","v":"Sideways"},{"$f":"$K$18","v":"Forward"},{"$f":"$K$19","v":"Rearwards"},null,null,1,2,3,4,5,null,null,null,null,1.8,1.3464101615137753,null,null,null,null,1.8,1.3464101615137753,1.3464101615137753]
[null,null,null,null,null,null,null,null,null,null,null,null,null,null,null,null,null,null,null,null,null,null,null,null,null,null,null,null,null,0,{"$f":"IF($K$11,IF(($K$38-$AD89*$L$38)>0,$I$51*2*$AD89*SIN($G$8*PI()/180)/(($K$38-$AD89*$L$38)*$I$24),\"\"),\"\")","v":""},{"$f":"IF($K$11,IF(($G$38-$AD89*$H$38)>0,$I$51*2*$AD89*SIN($G$8*PI()/180)/(($G$38-$AD89*$H$38)*$I$24),\"\"),\"\")","v":""},{"$f":"IF($K$11,IF(($I$38-$AD89*$J$38)>0,$I$51*2*$AD89*SIN($G$8*PI()/180)/(($I$38-$AD89*$J$38)*$I$24),\"\"),\"\")","v":""},null,"H/B",{"$f":"$K$20","v":"row"},{"$f":"$K$21","v":"rows"},{"$f":"$K$21","v":"rows"},"rows","rows","H/L",{"$f":"$K$18","v":"Forward"},{"$f":"$K$19","v":"Rearwards"},null,0,{"$f":"IF($K$11,IF(($K$38-$AS89*$L$38)>0,$I$49*((1+COS($H$12*PI()/180))*COS($H$13*PI()/180)+$I$28*$AS89*SIN($H$12*PI()/180))/(($K$38-$L$38*$I$28*$AS89)),\"\"),\"\")","v":""},null,null,null,"H/B",{"$f":"$K$20","v":"row"},{"$f":"$K$21","v":"rows"},{"$f":"$K$21","v":"rows"},"rows","rows","H/L",{"$f":"$K$18","v":"Forward"},{"$f":"$K$19","v":"Rearwards"},null,0,null,{"$f":"IF($K$11,IF(($G$38-$BH89*$H$38)>0,$I$49*2*MIN($I$28*$BH89*SIN($G$16*PI()/180)+COS($G$16*PI()/180)*SIN($G$17*PI()/180),$I$28*$BH89*SIN($H$16*PI()/180)+COS($H$16*PI()/180)*SIN($G$17*PI()/180))/($G$38-$AD89*$H$38*$I$28),\"\"),\"\")","v":""},{"$f":"IF($K$11,IF(($I$38-$BH89*$J$38)>0,$I$49*2*MIN($I$28*$BH89*SIN($G$16*PI()/180)+COS($G$16*PI()/180)*SIN($G$17*PI()/180),$I$28*$BH89*SIN($H$16*PI()/180)+COS($H$16*PI()/180)*SIN($G$17*PI()/180))/($I$38-$AD89*$J$38*$I$28),\"\"),\"\")","v":""},null,"H/B",{"$f":"$K$20","v":"row"},{"$f":"$K$21","v":"rows"},{"$f":"$K$21","v":"rows"},"rows","rows","H/L",{"$f":"$K$18","v":"Forward"},{"$f":"$K$19","v":"Rearwards"},null,0,{"$f":"IF($K$11,IF(($K$38-$BW89*$L$38)>0,$I$49*MIN(COS($G$20*PI()/180)*COS($H$21*PI()/180)+$BW89*$I$28*SIN($G$20*PI()/180),COS($H$20*PI()/180)*COS($H$21*PI()/180)+$BW89*$I$28*SIN($H$20*PI()/180))/($K$38-$BW89*$I$28*$L$38),\"\"),\"\")","v":""},{"$f":"IF($K$11,IF(($G$38-$BW89*$H$38)>0,$I$49*MIN(COS($G$20*PI()/180)*SIN($G$21*PI()/180)+$BW89*$I$28*SIN($G$20*PI()/180),COS($H$20*PI()/180)*SIN($G$21*PI()/180)+$BW89*$I$28*SIN($H$20*PI()/180))/($G$38-$BW89*$I$28*$H$38),\"\"),\"\")","v":""},{"$f":"IF($K$11,IF(($I$38-$BW89*$J$38)>0,$I$49*MIN(COS($G$20*PI()/180)*SIN($G$21*PI()/180)+$BW89*$I$28*SIN($G$20*PI()/180),COS($H$20*PI()/180)*SIN($G$21*PI()/180)+$BW89*$I$28*SIN($H$20*PI()/180))/($I$38-$BW89*$I$28*$J$38),\"\"),\"\")","v":""},null,"H/B",{"$f":"$K$20","v":"row"},{"$f":"$K$21","v":"rows"},{"$f":"$K$21","v":"rows"},"rows","rows","H/L",{"$f":"$K$18","v":"Forward"},{"$f":"$K$19","v":"Rearwards"},null,2,1.4330127018922194,null,null,null,null,2,1.4330127018922192,1.4330127018922192]
[null,null,null,null,null,null,null,null,null,null,null,null,null,null,null,null,null,null,null,null,null,null,null,null,null,null,null,null,null,0.05,"","","",null,0.6,{"$f":"IF($K$11,IF($AI90>($L$38/$K$38)/AJ$48,2*$I$51*(SIN($G$8*PI()/180)+0.25*(AJ$48-1))/($I$24*($K$38*$AI90*AJ$48-$L$38)),\"\"),\"\")","v":""},"","","","",0.6,{"$f":"IF($K$11,IF($AO90>($H$38/$G$38),2*$I$51*SIN($G$8*PI()/180)/($I$26*($G$38*$AO90-$H$38)),\"\"),\"\")","v":""},{"$f":"IF($K$11,IF($AO90>($J$38/$I$38),2*$I$51*SIN($G$8*PI()/180)/($I$24*($I$38*$AO90-$J$38)),\"\"),\"\")","v":""},null,0.05,"",null,null,null,0.6,{"$f":"IF($K$11,IF($AX90>($L$38/$K$38)/AY$48,$I$49*($I$27*(AY$48-1)+MIN(SIN($G$12*PI()/180)+AY$48*$AX90*COS($G$12*PI()/180)*COS($H$13*PI()/180),SIN($H$12*PI()/180)+AY$48*$AX90*COS($H$12*PI()/180)*COS($H$13*PI()/180)))/($K$38*$AX90*AY$48-$L$38),\"\"),\"\")","v":""},"","","","",0.6,null,null,null,0.05,null,"","",null,0.6,null,null,null,null,null,0.6,{"$f":"IF($K$11,IF($AO90>($H$38/$G$38),4*$I$49*COS($H$16*PI()/180)*SIN($G$17*PI()/180)*$BS90/($G$38*$BS90-$H$38),\"\"),\"\")","v":""},{"$f":"IF($K$11,IF($AO90>($J$38/$I$38),4*$I$49*COS($H$16*PI()/180)*SIN($G$17*PI()/180)*$BS90/($I$38*$BS90-$J$38),\"\"),\"\")","v":""},null,0.05,"",{"$f":"IF($K$11,IF(($G$38-$BW90*$H$38)>0,$I$49*MIN(COS($G$20*PI()/180)*SIN($G$21*PI()/180)+$BW90*$I$28*SIN($G$20*PI()/180),COS($H$20*PI()/180)*SIN($G$21*PI()/180)+$BW90*$I$28*SIN($H$20*PI()/180))/($G$38-$BW90*$I$28*$H$38),\"\"),\"\")","v":""},{"$f":"IF($K$11,IF(($I$38-$BW90*$J$38)>0,$I$49*MIN(COS($G$20*PI()/180)*SIN($G$21*PI()/180)+$BW90*$I$28*SIN($G$20*PI()/180),COS($H$20*PI()/180)*SIN($G$21*PI()/180)+$BW90*$I$28*SIN($H$20*PI()/180))/($I$38-$BW90*$I$28*$J$38),\"\"),\"\")","v":""},null,0.6,{"$f":"IF($K$11,IF($CB90>($L$38/$K$38)/CC$28,$I$49*CM10/($K$38*$CB90-$L$38),\"\"),\"\")","v":""},null,null,null,null,0.6,{"$f":"IF($K$11,IF($CH90>($H$38/$G$38),$I$49*CS10/($G$38*$CH90-$H$38),\"\"),\"\")","v":""},{"$f":"IF($K$11,IF($CH90>($J$38/$I$38),$I$49*CT10/($I$38*$CH90-$J$38),\"\"),\"\")","v":""},null,2.2000000000000002,1.5196152422706635,null,null,null,null,2.2000000000000002,1.519615242270663,1.519615242270663]
[null,null,null,null,null,null,null,null,null,null,null,null,null,null,null,null,null,null,null,null,null,null,null,null,null,null,null,null,null,0.1,"","","",null,0.8,"","","","","",0.8,"","",null,0.1,"",null,null,null,0.8,"","","","","",0.8,null,null,null,0.1,null,"","",null,0.8,null,null,null,null,null,0.8,"","",null,0.1,"","","",null,0.8,"",null,null,null,null,0.8,"","",null,2.4,1.6062177826491071,null,null,null,null,2.4,1.6062177826491069,1.6062177826491069]
[null,null,null,null,null,null,null,null,null,null,null,null,null,null,null,null,null,null,null,null,null,null,null,null,null,null,null,null,null,0.15,"","","",null,1,"","","","","",1,"","",null,0.15,"",null,null,null,1,"","","","","",1,null,null,null,0.15,null,"","",null,1,null,null,null,null,null,1,"","",null,0.15,"","","",null,1,"",null,null,null,null,1,"","",null,2.6,1.6928203230275511,null,null,null,null,2.6,1.6928203230275507,1.6928203230275507]
[null,null,null,null,null,null,null,null,null,null,null,null,null,null,null,null,null,null,null,null,null,null,null,null,null,null,null,null,null,0.2,"","","",null,1.2,"","","","","",1.2,"","",null,0.2,"",null,null,null,1.2,"","","","","",1.2,null,null,null,0.2,null,"","",null,1.2,null,null,null,null,null,1.2,"","",null,0.2,"","","",null,1.2,"",null,null,null,null,1.2,"","",null,2.8,1.779422863405995,null,null,null,null,2.8,1.7794228634059945,1.7794228634059945]
[null,null,null,null,null,null,null,null,null,null,null,null,null,null,null,null,null,null,null,null,null,null,null,null,null,null,null,null,null,0.25,"","","",null,1.4,"","","","","",1.4,"","",null,0.25,"",null,null,null,1.4,"","","","","",1.4,null,null,null,0.25,null,"","",null,1.4,null,null,null,null,null,1.4,"","",null,0.25,"","","",null,1.4,"",null,null,null,null,1.4,"","",null,3,1.8660254037844388,null,null,null,null,3,1.8660254037844384,1.8660254037844384]
[null,null,null,null,null,null,null,null,null,null,null,null,null,null,null,null,null,null,null,null,null,null,null,null,null,null,null,null,null,0.3,"","","",null,1.6,"","","","","",1.6,"","",null,0.3,"",null,null,null,1.6,"","","","","",1.6,null,null,null,0.3,null,"","",null,1.6,null,null,null,null,null,1.6,"","",null,0.3,"","","",null,1.6,"",null,null,null,null,1.6,"","",null,3.2,1.9526279441628827,null,null,null,null,3.2,1.9526279441628824,1.9526279441628824]
[null,null,null,null,null,null,null,null,null,null,null,null,null,null,null,null,null,null,null,null,null,null,null,null,null,null,null,null,null,0.35,"","","",null,1.8,"","","","","",1.8,"","",null,0.35,"",null,null,null,1.8,"","","","","",1.8,null,null,null,0.35,null,"","",null,1.8,null,null,null,null,null,1.8,"","",null,0.35,"","","",null,1.8,"",null,null,null,null,1.8,"",""]
[null,null,null,null,null,null,null,null,null,null,null,null,null,null,null,null,null,null,null,null,null,null,null,null,null,null,null,null,null,0.4,"","","",null,2,"","","","","",2,"","",null,0.4,"",null,null,null,2,"","","","","",2,null,null,null,0.4,null,"","",null,2,null,null,null,null,null,2,"","",null,0.4,"","","",null,2,"",null,null,null,null,2,"",""]
[null,null,null,null,null,null,null,null,null,null,null,null,null,null,null,null,null,null,null,null,null,null,null,null,null,null,null,null,null,0.45,"","","",null,2.2000000000000002,"","","","","",2.2000000000000002,"","",null,0.45,"",null,null,null,2.2000000000000002,"","","","","",2.2000000000000002,null,null,null,0.45,null,"","",null,2.2000000000000002,null,null,null,null,null,2.2000000000000002,"","",null,0.45,"","","",null,2.2000000000000002,"",null,null,null,null,2.2000000000000002,"",""]
[null,null,null,null,null,null,null,null,null,null,null,null,null,null,null,null,null,null,null,null,null,null,null,null,null,null,null,null,null,0.5,"","","",null,2.4,"","","","","",2.4,"","",null,0.5,"",null,null,null,2.4,"","","","","",2.4,null,null,null,0.5,null,"","",null,2.4,null,null,null,null,null,2.4,"","",null,0.5,"","","",null,2.4,"",null,null,null,null,2.4,"",""]
[null,null,null,null,null,null,null,null,null,null,null,null,null,null,null,null,null,null,null,null,null,null,null,null,null,null,null,null,null,0.55000000000000004,"","","",null,2.6,"","","","","",2.6,"","",null,0.55000000000000004,"",null,null,null,2.6,"","","","","",2.6,null,null,null,0.55000000000000004,null,"","",null,2.6,null,null,null,null,null,2.6,"","",null,0.55000000000000004,"","","",null,2.6,"",null,null,null,null,2.6,"",""]
[null,null,null,null,null,null,null,null,null,null,null,null,null,null,null,null,null,null,null,null,null,null,null,null,null,null,null,null,null,0.6,"","","",null,2.8,"","","","","",2.8,"","",null,0.6,"",null,null,null,2.8,"","","","","",2.8,null,null,null,0.6,null,"","",null,2.8,null,null,null,null,null,2.8,"","",null,0.6,"","","",null,2.8,"",null,null,null,null,2.8,"",""]
[null,null,null,null,null,null,null,null,null,null,null,null,null,null,null,null,null,null,null,null,null,null,null,null,null,null,null,null,null,0.65,"","","",null,3,"","","","","",3,"","",null,0.65,"",null,null,null,3,"","","","","",3,null,null,null,0.65,null,"","",null,3,null,null,null,null,null,3,"","",null,0.65,"","","",null,3,"",null,null,null,null,3,"",""]
[null,null,null,null,null,null,null,null,null,null,null,null,null,null,null,null,null,null,null,null,null,null,null,null,null,null,null,null,null,0.7,"","","",null,3.2,"","","","","",3.2,"","",null,0.7,"",null,null,null,3.2,"","","","","",3.2,null,null,null,0.7,null,"","",null,3.2,null,null,null,null,null,3.2,"","",null,0.7,"",{"$f":"IF($K$11,IF(($G$38-$BW103*$H$38)>0,$I$49*MIN(COS($G$20*PI()/180)*SIN($G$21*PI()/180)+$BW103*$I$28*SIN($G$20*PI()/180),COS($H$20*PI()/180)*SIN($G$21*PI()/180)+$BW103*$I$28*SIN($H$20*PI()/180))/($G$38-$BW103*$I$28*$H$38),\"\"),\"\")","v":""},"",null,3.2,"",null,null,null,null,3.2,"",""]
[null,null,null,null,null,null,null,null,null,null,null,null,null,null,null,null,null,null,null,null,null,null,null,null,null,null,null,null,null,0.75,"","","",null,null,null,null,null,null,null,null,null,null,null,0.75,"",null,null,null,null,null,null,null,null,null,null,null,null,null,0.75,null,"","",null,null,null,null,null,null,null,null,null,null,null,0.75,"","",""]
[null,null,null,null,null,null,null,null,null,null,null,null,null,null,null,null,null,null,null,null,null,null,null,null,null,null,null,null,null,0.8,"","","",null,null,null,null,null,null,null,null,null,null,null,0.8,"",null,null,null,null,null,null,null,null,null,null,null,null,null,0.8,null,"","",null,null,null,null,null,null,null,null,null,null,null,0.8,"","",""]
[]
[null,null,null,null,null,null,null,null,null,null,null,null,null,null,null,null,null,null,null,null,null,null,null,null,null,null,null,null,null,{"$f":"$L$12","v":"Sea C"},null,null,null,null,{"$f":"$L$12","v":"Sea C"},null,null,null,null,null,null,null,null,null,{"$f":"$L$12","v":"Sea C"},null,null,null,null,{"$f":"$L$12","v":"Sea C"},null,null,null,null,null,null,null,null,null,{"$f":"$L$12","v":"Sea C"},null,null,null,null,{"$f":"$L$12","v":"Sea C"},null,null,null,null,null,null,null,null,null,{"$f":"$L$12","v":"Sea C"},null,null,null,null,{"$f":"$L$12","v":"Sea C"}]
[null,null,null,null,null,null,null,null,null,null,null,null,null,null,null,null,null,null,null,null,null,null,null,null,null,null,null,null,null,"µ",{"$f":"$K$17","v":"Sideways"},{"$f":"$K$18","v":"Forward"},{"$f":"$K$19","v":"Rearwards"},null,null,1,2,3,4,5,null,null,null,null,"µ",{"$f":"$K$17","v":"Sideways"},{"$f":"$K$18","v":"Forward"},{"$f":"$K$19","v":"Rearwards"},null,null,1,2,3,4,5,null,null,null,null,"µ",{"$f":"$K$17","v":"Sideways"},{"$f":"$K$18","v":"Forward"},{"$f":"$K$19","v":"Rearwards"},null,null,1,2,3,4,5,null,null,null,null,"µ",{"$f":"$K$17","v":"Sideways"},{"$f":"$K$18","v":"Forward"},{"$f":"$K$19","v":"Rearwards"},null,null,1,2,3,4,5]
[null,null,null,null,null,null,null,null,null,null,null,null,null,null,null,null,null,null,null,null,null,null,null,null,null,null,null,null,null,0,{"$f":"IF($K$12,IF(($K$39-$AD109*$L$39)>0,$I$51*2*$AD109*SIN($G$8*PI()/180)/(($K$39-$AD109*$L$39)*$I$24),\"\"),\"\")","v":""},{"$f":"IF($K$12,IF(($G$39-$AD109*$H$39)>0,$I$51*2*$AD109*SIN($G$8*PI()/180)/(($G$39-$AD109*$H$39)*$I$24),\"\"),\"\")","v":""},{"$f":"IF($K$12,IF(($I$39-$AD109*$J$39)>0,$I$51*2*$AD109*SIN($G$8*PI()/180)/(($I$39-$AD109*$J$39)*$I$24),\"\"),\"\")","v":""},null,"H/B",{"$f":"$K$20","v":"row"},{"$f":"$K$21","v":"rows"},{"$f":"$K$21","v":"rows"},"rows","rows","H/L",{"$f":"$K$18","v":"Forward"},{"$f":"$K$19","v":"Rearwards"},null,0,{"$f":"IF($K$12,IF(($K$39-$AS109*$L$39)>0,$I$49*((1+COS($H$12*PI()/180))*COS($H$13*PI()/180)+$I$28*$AS109*SIN($H$12*PI()/180))/(($K$39-$L$39*$I$28*$AS109)),\"\"),\"\")","v":""},null,null,null,"H/B",{"$f":"$K$20","v":"row"},{"$f":"$K$21","v":"rows"},{"$f":"$K$21","v":"rows"},"rows","rows","H/L",{"$f":"$K$18","v":"Forward"},{"$f":"$K$19","v":"Rearwards"},null,0,null,{"$f":"IF($K$12,IF(($G$39-$BH109*$H$39)>0,$I$49*2*MIN($I$28*$BH109*SIN($G$16*PI()/180)+COS($G$16*PI()/180)*SIN($G$17*PI()/180),$I$28*$BH109*SIN($H$16*PI()/180)+COS($H$16*PI()/180)*SIN($G$17*PI()/180))/($G$39-$AD109*$H$39*$I$28),\"\"),\"\")","v":""},{"$f":"IF($K$12,IF(($I$39-$BH109*$J$39)>0,$I$49*2*MIN($I$28*$BH109*SIN($G$16*PI()/180)+COS($G$16*PI()/180)*SIN($G$17*PI()/180),$I$28*$BH109*SIN($H$16*PI()/180)+COS($H$16*PI()/180)*SIN($G$17*PI()/180))/($I$39-$AD109*$J$39*$I$28),\"\"),\"\")","v":""},null,"H/B",{"$f":"$K$20","v":"row"},{"$f":"$K$21","v":"rows"},{"$f":"$K$21","v":"rows"},"rows","rows","H/L",{"$f":"$K$18","v":"Forward"},{"$f":"$K$19","v":"Rearwards"},null,0,{"$f":"IF($K$12,IF(($K$39-$BW109*$L$39)>0,$I$49*MIN(COS($G$20*PI()/180)*COS($H$21*PI()/180)+$BW109*$I$28*SIN($G$20*PI()/180),COS($H$20*PI()/180)*COS($H$21*PI()/180)+$BW109*$I$28*SIN($H$20*PI()/180))/($K$39-$BW109*$I$28*$L$39),\"\"),\"\")","v":""},{"$f":"IF($K$12,IF(($G$39-$BW109*$H$39)>0,$I$49*MIN(COS($G$20*PI()/180)*SIN($G$21*PI()/180)+$BW109*$I$28*SIN($G$20*PI()/180),COS($H$20*PI()/180)*SIN($G$21*PI()/180)+$BW109*$I$28*SIN($H$20*PI()/180))/($G$39-$BW109*$I$28*$H$39),\"\"),\"\")","v":""},{"$f":"IF($K$12,IF(($I$39-$BW109*$J$39)>0,$I$49*MIN(COS($G$20*PI()/180)*SIN($G$21*PI()/180)+$BW109*$I$28*SIN($G$20*PI()/180),COS($H$20*PI()/180)*SIN($G$21*PI()/180)+$BW109*$I$28*SIN($H$20*PI()/180))/($I$39-$BW109*$I$28*$J$39),\"\"),\"\")","v":""},null,"H/B",{"$f":"$K$20","v":"row"},{"$f":"$K$21","v":"rows"},{"$f":"$K$21","v":"rows"},"rows","rows","H/L",{"$f":"$K$18","v":"Forward"},{"$f":"$K$19","v":"Rearwards"}]
[null,null,null,null,null,null,null,null,null,null,null,null,null,null,null,null,null,null,null,null,null,null,null,null,null,null,null,null,null,0.05,"","","",null,0.6,{"$f":"IF($K$12,IF($AI110>($L$39/$K$39)/AJ$48,2*$I$51*(SIN($G$8*PI()/180)+0.25*(AJ$48-1))/($I$24*($K$39*$AI110*AJ$48-$L$39)),\"\"),\"\")","v":""},"","","","",0.6,{"$f":"IF($K$12,IF($AO110>($H$39/$G$39),2*$I$51*SIN($G$8*PI()/180)/($I$26*($G$39*$AO110-$H$39)),\"\"),\"\")","v":""},{"$f":"IF($K$12,IF($AO110>($J$39/$I$39),2*$I$51*SIN($G$8*PI()/180)/($I$24*($I$39*$AO110-$J$39)),\"\"),\"\")","v":""},null,0.05,"",null,null,null,0.6,{"$f":"IF($K$12,IF($AX110>($L$39/$K$39)/AY$48,$I$49*($I$27*(AY$48-1)+MIN(SIN($G$12*PI()/180)+AY$48*$AX110*COS($G$12*PI()/180)*COS($H$13*PI()/180),SIN($H$12*PI()/180)+AY$48*$AX110*COS($H$12*PI()/180)*COS($H$13*PI()/180)))/($K$39*$AX110*AY$48-$L$39),\"\"),\"\")","v":""},"","","","",0.6,null,null,null,0.05,null,"","",null,0.6,null,null,null,null,null,0.6,{"$f":"IF($K$12,IF($AO110>($H$39/$G$39),4*$I$49*COS($H$16*PI()/180)*SIN($G$17*PI()/180)*$BS110/($G$39*$BS110-$H$39),\"\"),\"\")","v":""},{"$f":"IF($K$12,IF($AO110>($J$39/$I$39),4*$I$49*COS($H$16*PI()/180)*SIN($G$17*PI()/180)*$BS110/($I$39*$BS110-$J$39),\"\"),\"\")","v":""},null,0.05,{"$f":"IF($K$12,IF(($K$39-$BW110*$L$39)>0,$I$49*MIN(COS($G$20*PI()/180)*COS($H$21*PI()/180)+$BW110*$I$28*SIN($G$20*PI()/180),COS($H$20*PI()/180)*COS($H$21*PI()/180)+$BW110*$I$28*SIN($H$20*PI()/180))/($K$39-$BW110*$I$28*$L$39),\"\"),\"\")","v":""},{"$f":"IF($K$12,IF(($G$39-$BW110*$H$39)>0,$I$49*MIN(COS($G$20*PI()/180)*SIN($G$21*PI()/180)+$BW110*$I$28*SIN($G$20*PI()/180),COS($H$20*PI()/180)*SIN($G$21*PI()/180)+$BW110*$I$28*SIN($H$20*PI()/180))/($G$39-$BW110*$I$28*$H$39),\"\"),\"\")","v":""},{"$f":"IF($K$12,IF(($I$39-$BW110*$J$39)>0,$I$49*MIN(COS($G$20*PI()/180)*SIN($G$21*PI()/180)+$BW110*$I$28*SIN($G$20*PI()/180),COS($H$20*PI()/180)*SIN($G$21*PI()/180)+$BW110*$I$28*SIN($H$20*PI()/180))/($I$39-$BW110*$I$28*$J$39),\"\"),\"\")","v":""},null,0.6,{"$f":"IF($K$12,IF($CB110>($L$39/$K$39)/CC$28,$I$49*CM10/($K$39*$CB110-$L$39),\"\"),\"\")","v":""},null,null,null,null,0.6,{"$f":"IF($K$12,IF($CH110>($H$39/$G$39),$I$49*CS10/($G$39*$CH110-$H$39),\"\"),\"\")","v":""},{"$f":"IF($K$12,IF($CH110>($J$39/$I$39),$I$49*CT10/($I$39*$CH110-$J$39),\"\"),\"\")","v":""}]
[null,null,null,null,null,null,null,null,null,null,null,null,null,null,null,null,null,null,null,null,null,null,null,null,null,null,null,null,null,0.1,"","","",null,0.8,"","","","","",0.8,"","",null,0.1,"",null,null,null,0.8,"","","","","",0.8,null,null,null,0.1,null,"","",null,0.8,null,null,null,null,null,0.8,"","",null,0.1,"","","",null,0.8,"",null,null,null,null,0.8,"",""]
[null,null,null,null,null,null,null,null,null,null,null,null,null,null,null,null,null,null,null,null,null,null,null,null,null,null,null,null,null,0.15,"","","",null,1,"","","","","",1,"","",null,0.15,"",null,null,null,1,"","","","","",1,null,null,null,0.15,null,"","",null,1,null,null,null,null,null,1,"","",null,0.15,"","","",null,1,"",null,null,null,null,1,"",""]
[null,null,null,null,null,null,null,null,null,null,null,null,null,null,null,null,null,null,null,null,null,null,null,null,null,null,null,null,null,0.2,"","","",null,1.2,"","","","","",1.2,"","",null,0.2,"",null,null,null,1.2,"","","","","",1.2,null,null,null,0.2,null,"","",null,1.2,null,null,null,null,null,1.2,"","",null,0.2,"","","",null,1.2,"",null,null,null,null,1.2,"",""]
[null,null,null,null,null,null,null,null,null,null,null,null,null,null,null,null,null,null,null,null,null,null,null,null,null,null,null,null,null,0.25,"","","",null,1.4,"","","","","",1.4,"","",null,0.25,"",null,null,null,1.4,"","","","","",1.4,null,null,null,0.25,null,"","",null,1.4,null,null,null,null,null,1.4,"","",null,0.25,"","","",null,1.4,"",null,null,null,null,1.4,"",""]
[null,null,null,null,null,null,null,null,null,null,null,null,null,null,null,null,null,null,null,null,null,null,null,null,null,null,null,null,null,0.3,"","","",null,1.6,"","","","","",1.6,"","",null,0.3,"",null,null,null,1.6,"","","","","",1.6,null,null,null,0.3,null,"","",null,1.6,null,null,null,null,null,1.6,"","",null,0.3,"","","",null,1.6,"",null,null,null,null,1.6,"",""]
[null,null,null,null,null,null,null,null,null,null,null,null,null,null,null,null,null,null,null,null,null,null,null,null,null,null,null,null,null,0.35,"","","",null,1.8,"","","","","",1.8,"","",null,0.35,"",null,null,null,1.8,"","","","","",1.8,null,null,null,0.35,null,"","",null,1.8,null,null,null,null,null,1.8,"","",null,0.35,"","","",null,1.8,"",null,null,null,null,1.8,"",""]
[null,null,null,null,null,null,null,null,null,null,null,null,null,null,null,null,null,null,null,null,null,null,null,null,null,null,null,null,null,0.4,"","","",null,2,"","","","","",2,"","",null,0.4,"",null,null,null,2,"","","","","",2,null,null,null,0.4,null,"","",null,2,null,null,null,null,null,2,"","",null,0.4,"","","",null,2,"",null,null,null,null,2,"",""]
[null,null,null,null,null,null,null,null,null,null,null,null,null,null,null,null,null,null,null,null,null,null,null,null,null,null,null,null,null,0.45,"","","",null,2.2000000000000002,"","","","","",2.2000000000000002,"","",null,0.45,"",null,null,null,2.2000000000000002,"","","","","",2.2000000000000002,null,null,null,0.45,null,"","",null,2.2000000000000002,null,null,null,null,null,2.2000000000000002,"","",null,0.45,"","","",null,2.2000000000000002,"",null,null,null,null,2.2000000000000002,"",""]
[null,null,null,null,null,null,null,null,null,null,null,null,null,null,null,null,null,null,null,null,null,null,null,null,null,null,null,null,null,0.5,"","","",null,2.4,"","","","","",2.4,"","",null,0.5,"",null,null,null,2.4,"","","","","",2.4,null,null,null,0.5,null,"","",null,2.4,null,null,null,null,null,2.4,"","",null,0.5,"","","",null,2.4,"",null,null,null,null,2.4,"",""]
[null,null,null,null,null,null,null,null,null,null,null,null,null,null,null,null,null,null,null,null,null,null,null,null,null,null,null,null,null,0.55000000000000004,"","","",null,2.6,"","","","","",2.6,"","",null,0.55000000000000004,"",null,null,null,2.6,"","","","","",2.6,null,null,null,0.55000000000000004,null,"","",null,2.6,null,null,null,null,null,2.6,"","",null,0.55000000000000004,"","","",null,2.6,"",null,null,null,null,2.6,"",""]
[null,null,null,null,null,null,null,null,null,null,null,null,null,null,null,null,null,null,null,null,null,null,null,null,null,null,null,null,null,0.6,"","","",null,2.8,"","","","","",2.8,"","",null,0.6,"",null,null,null,2.8,"","","","","",2.8,null,null,null,0.6,null,"","",null,2.8,null,null,null,null,null,2.8,"","",null,0.6,"","","",null,2.8,"",null,null,null,null,2.8,"",""]
[null,null,null,null,null,null,null,null,null,null,null,null,null,null,null,null,null,null,null,null,null,null,null,null,null,null,null,null,null,0.65,"","","",null,3,"","","","","",3,"","",null,0.65,"",null,null,null,3,"","","","","",3,null,null,null,0.65,null,"","",null,3,null,null,null,null,null,3,"","",null,0.65,"","","",null,3,"",null,null,null,null,3,"",""]
[null,null,null,null,null,null,null,null,null,null,null,null,null,null,null,null,null,null,null,null,null,null,null,null,null,null,null,null,null,0.7,"","","",null,3.2,"","","","","",3.2,"","",null,0.7,"",null,null,null,3.2,"","","","","",3.2,null,null,null,0.7,null,"","",null,3.2,null,null,null,null,null,3.2,"","",null,0.7,"","","",null,3.2,"",null,null,null,null,3.2,"",""]
[null,null,null,null,null,null,null,null,null,null,null,null,null,null,null,null,null,null,null,null,null,null,null,null,null,null,null,null,null,0.75,"","","",null,null,null,null,null,null,null,null,null,null,null,0.75,"",null,null,null,null,null,null,null,null,null,null,null,null,null,0.75,null,"","",null,null,null,null,null,null,null,null,null,null,null,0.75,"","",""]
[null,null,null,null,null,null,null,null,null,null,null,null,null,null,null,null,null,null,null,null,null,null,null,null,null,null,null,null,null,0.8,"","","",null,null,null,null,null,null,null,null,null,null,null,0.8,"",null,null,null,null,null,null,null,null,null,null,null,null,null,0.8,null,"","",null,null,null,null,null,null,null,null,null,null,null,0.8,"",{"$f":"IF($K$12,IF(($G$39-$BW125*$H$39)>0,$I$49*MIN(COS($G$20*PI()/180)*SIN($G$21*PI()/180)+$BW125*$I$28*SIN($G$20*PI()/180),COS($H$20*PI()/180)*SIN($G$21*PI()/180)+$BW125*$I$28*SIN($H$20*PI()/180))/($G$39-$BW125*$I$28*$H$39),\"\"),\"\")","v":""},""]

{"sheet":"Washers and nails","index":1,"n_rows":157,"n_cols":31,"rows_kept":157,"cut":false,"hidden":false,"merged":[[127,15,127,21],[132,15,132,21],[140,15,140,21],[145,15,145,21],[150,15,150,21],[122,15,122,21],[55,15,55,21],[60,15,60,21],[68,15,68,21],[73,15,73,21],[78,15,78,21],[86,15,86,21],[91,15,91,21],[96,15,96,21],[104,15,104,21],[109,15,109,21],[114,15,114,21],[14,15,14,21],[19,15,19,21],[31,24,31,25],[31,26,31,27],[50,15,50,21],[32,15,32,21],[37,15,37,21],[42,15,42,21],[25,15,25,21],[25,24,25,25],[6,28,6,29],[7,6,7,7],[7,8,7,9],[7,10,7,11],[9,15,9,21],[7,24,8,24],[7,25,8,25],[7,26,8,26],[7,27,8,27],[7,28,8,28],[7,29,8,29],[6,15,6,21],[6,24,6,25],[6,26,6,27],[31,28,31,29],[49,24,49,25],[49,26,49,27],[49,28,49,29],[67,24,67,25],[67,26,67,27],[67,28,67,29],[85,24,85,25],[85,26,85,27],[85,28,85,29],[139,24,139,25],[139,26,139,27],[139,28,139,29],[103,24,103,25],[103,26,103,27],[103,28,103,29],[121,24,121,25],[121,26,121,27],[121,28,121,29]]}
[null,"Lashing Calculator",null,null,null,null,null,null,null,null,null,null,null,null,"Tag washers",null,null,null,null,null,null,null,null,"Nails (4\")",null,null,null,null,null,null,"CARING "]
[null,null,null,null,null,null,null,null,null,null,null,null,null,null,null,null,null,null,null,null,null,null,null,null,null,null,null,null,null,null,"Based on EN 12195-1"]
[null,"Transport route",null,null,null,null,null,null,null,null,null,null,null,null,"Cargo weight in ton prevented from sliding by each tag washer.",null,null,null,null,null,null,null,null,"Cargo weight in ton prevented from sliding by each 4\" nail.",null,null,null,null,null,null,"Ver 1.1 - 2012-03-19"]
[]
[null,null,{"$f":"L17","v":"Road"},null,null,null,null,null,null,null,null,null,null,null,"Tag washers should only be used in combination with lashings."]
[null,null,{"$f":"L18","v":"Rail"}]
[null,null,{"$f":"L19","v":"Sea A"},null,null,"Accelerations",null,null,null,null,null,null,null,null,null,"Dimension [mm]",null,null,null,null,null,null,null,null,{"$f":"Lashings!K17","v":"Sideways"},null,{"$f":"Lashings!K18","v":"Forward"},null,{"$f":"Lashings!K19","v":"Rearwards"}]
[null,null,{"$f":"L20","v":"Sea B"},null,null,null,"Forward",null,"Rearwards",null,"Sideways",null,null,null,null,"f 48","f 62","f 75","f 95","30 x 57","48 x 65","130 x 130",null,null,{"$f":"Lashings!K22","v":"Smooth"},{"$f":"Lashings!K23","v":"Galvanized"},{"$f":"Lashings!K22","v":"Smooth"},{"$f":"Lashings!K23","v":"Galvanized"},{"$f":"Lashings!K22","v":"Smooth"},{"$f":"Lashings!K23","v":"Galvanized"}]
[null,null,{"$f":"L21","v":"Sea C"},null,null,"Road",{"$f":"Lashings!G35","v":0.8},{"$f":"Lashings!H35","v":1},{"$f":"Lashings!I35","v":0.5},{"$f":"Lashings!J35","v":1},{"$f":"Lashings!K35","v":0.5},{"$f":"Lashings!L35","v":1},null,null,null,null,null,null,null,null,null,null,null,"µ"]
[null,null,null,null,null,"Rail",{"$f":"Lashings!G36","v":1},{"$f":"Lashings!H36","v":1},{"$f":"Lashings!I36","v":1},{"$f":"Lashings!J36","v":1},{"$f":"Lashings!K36","v":0.5},{"$f":"Lashings!L36","v":1},null,null,"µ",{"$f":"Lashings!K17","v":"Sideways"},null,null,null,null,null,null,null,0.15,{"$f":"IF(Y142<0,Y124,FIXED(Y124,Y142))","v":"0,31"},"0,46","0,17","0,25","0,31","0,46"]
[null,null,null,null,null,"Sea A",{"$f":"Lashings!G37","v":0.3},{"$f":"Lashings!H37","v":0.5},{"$f":"Lashings!I37","v":0.3},{"$f":"Lashings!J37","v":0.5},{"$f":"Lashings!K37","v":0.5},{"$f":"Lashings!L37","v":1},null,null,0.2,{"$f":"IF(P142<0,P124,FIXED(P124,P142))","v":"0,42"},{"$f":"IF(Q142<0,Q124,FIXED(Q124,Q142))","v":"0,58"},"0,75","1,00","0,42","0,58","1,3",null,0.2,{"$f":"IF(Y143<0,Y125,FIXED(Y125,Y143))","v":"0,37"},"0,53",{"$f":"IF(AA143<0,AA125,FIXED(AA125,AA143))","v":"0,18"},"0,27",{"$f":"IF(AC143<0,AC125,FIXED(AC125,AC143))","v":"0,37"},"0,53"]
[null,null,null,null,null,"Sea B",{"$f":"Lashings!G38","v":0.3},{"$f":"Lashings!H38","v":0.3},{"$f":"Lashings!I38","v":0.3},{"$f":"Lashings!J38","v":0.3},{"$f":"Lashings!K38","v":0.7},{"$f":"Lashings!L38","v":1},null,null,0.3,{"$f":"IF(P143<0,P125,FIXED(P125,P143))","v":"0,63"},"0,88","1,1","1,5","0,63","0,88","1,9",null,0.25,"0,44","0,64",{"$f":"IF(AA144<0,AA126,FIXED(AA126,AA144))","v":"0,20"},"0,29",{"$f":"IF(AC144<0,AC126,FIXED(AC126,AC144))","v":"0,44"},"0,64"]
[null,null,null,null,null,"Sea C",{"$f":"Lashings!G39","v":0.4},{"$f":"Lashings!H39","v":0.2},{"$f":"Lashings!I39","v":0.4},{"$f":"Lashings!J39","v":0.2},{"$f":"Lashings!K39","v":0.8},{"$f":"Lashings!L39","v":1},null,null,0.4,"1,3","1,8","2,3","3,0","1,3","1,8","3,8",null,0.3,"0,55","0,80",{"$f":"IF(AA145<0,AA127,FIXED(AA127,AA145))","v":"0,22"},"0,32",{"$f":"IF(AC145<0,AC127,FIXED(AC127,AC145))","v":"0,55"},"0,80"]
[null,null,null,null,null,null,null,null,null,null,null,null,null,null,null,null,null,null,null,null,null,null,null,0.35,"0,73","1,1",{"$f":"IF(AA146<0,AA128,FIXED(AA128,AA146))","v":"0,24"},"0,36",{"$f":"IF(AC146<0,AC128,FIXED(AC128,AC146))","v":"0,73"},"1,1"]
[null,null,null,null,null,"Parameters",null,null,null,null,"Transport route",null,null,null,"µ",{"$f":"Lashings!K18","v":"Forward"},null,null,null,null,null,null,null,0.4,"1,1","1,6",{"$f":"IF(AA147<0,AA129,FIXED(AA129,AA147))","v":"0,28"},"0,40",{"$f":"IF(AC147<0,AC129,FIXED(AC129,AC147))","v":"1,1"},"1,6"]
[null,null,null,null,null,"Safetyfactor fs (tag washers)",null,null,2,null,null,null,null,null,0.2,{"$f":"IF(P147<0,P129,FIXED(P129,P147))","v":"0,21"},{"$f":"IF(Q147<0,Q129,FIXED(Q129,Q147))","v":"0,29"},"0,38","0,50","0,21","0,29","0,63",null,0.45,"2,2","3,2",{"$f":"IF(AA148<0,AA130,FIXED(AA130,AA148))","v":"0,31"},"0,46",{"$f":"IF(AC148<0,AC130,FIXED(AC130,AC148))","v":"2,2"},"3,2"]
[null,null,null,null,null,null,null,null,null,null,true,{"$f":"Lashings!L8","v":"Road"},null,null,0.3,{"$f":"IF(P148<0,P130,FIXED(P130,P148))","v":"0,25"},"0,35","0,45","0,60","0,25","0,35","0,75",null,0.5,"no slide","no slide",{"$f":"IF(AA149<0,AA131,FIXED(AA131,AA149))","v":"0,37"},"0,53",{"$f":"IF(AC149<0,AC131,FIXED(AC131,AC149))","v":"no slide"},"no slide"]
[null,null,null,null,null,null,null,null,null,null,false,{"$f":"Lashings!L9","v":"Rail"},null,null,0.4,{"$f":"IF(P149<0,P131,FIXED(P131,P149))","v":"0,31"},"0,44","0,56","0,75","0,31","0,44","0,94",null,0.55000000000000004,"no slide","no slide",{"$f":"IF(AA150<0,AA132,FIXED(AA132,AA150))","v":"0,44"},"0,64",{"$f":"IF(AC150<0,AC132,FIXED(AC132,AC150))","v":"no slide"},"no slide"]
[null,null,null,null,null,"Shakefactor","rail - sliding sideways",null,0.3,null,false,{"$f":"Lashings!L10","v":"Sea A"},null,null,null,null,null,null,null,null,null,null,null,0.6,"no slide","no slide",{"$f":"IF(AA151<0,AA133,FIXED(AA133,AA151))","v":"0,55"},"0,80",{"$f":"IF(AC151<0,AC133,FIXED(AC133,AC151))","v":"no slide"},"no slide"]
[null,null,null,null,null,null,null,null,null,null,false,{"$f":"Lashings!L11","v":"Sea B"},null,null,"µ",{"$f":"Lashings!K19","v":"Rearwards"},null,null,null,null,null,null,null,0.65,"no slide","no slide",{"$f":"IF(AA152<0,AA134,FIXED(AA134,AA152))","v":"0,73"},"1,1",{"$f":"IF(AC152<0,AC134,FIXED(AC134,AC152))","v":"no slide"},"no slide"]
[null,null,null,null,null,null,null,null,null,null,false,{"$f":"Lashings!L12","v":"Sea C"},null,null,0.2,{"$f":"IF(P152<0,P134,FIXED(P134,P152))","v":"0,42"},{"$f":"IF(Q152<0,Q134,FIXED(Q134,Q152))","v":"0,58"},"0,75","1,00","0,42","0,58","1,3",null,0.7,"no slide","no slide",{"$f":"IF(AA153<0,AA135,FIXED(AA135,AA153))","v":"1,1"},"1,6",{"$f":"IF(AC153<0,AC135,FIXED(AC135,AC153))","v":"no slide"},"no slide"]
[null,null,null,null,null,null,null,null,null,null,null,null,null,null,0.3,{"$f":"IF(P153<0,P135,FIXED(P135,P153))","v":"0,63"},"0,88","1,1","1,5","0,63","0,88","1,9",null,0.75,"no slide","no slide",{"$f":"IF(AA154<0,AA136,FIXED(AA136,AA154))","v":"2,2"},"3,2",{"$f":"IF(AC154<0,AC136,FIXED(AC136,AC154))","v":"no slide"},"no slide"]
[null,null,null,null,null,null,null,null,null,null,null,null,null,null,0.4,{"$f":"IF(P154<0,P136,FIXED(P136,P154))","v":"1,3"},"1,8","2,3","3,0","1,3","1,8","3,8",null,0.8,"no slide","no slide",{"$f":"IF(AA155<0,AA137,FIXED(AA137,AA155))","v":"no slide"},"no slide",{"$f":"IF(AC155<0,AC137,FIXED(AC137,AC155))","v":"no slide"},"no slide"]
[]
[]
[null,null,null,null,null,null,null,null,null,null,null,null,null,null,null,"Dimension",null,null,null,null,null,null,null,null,"Type"]
[null,null,null,null,null,null,null,null,null,null,null,null,null,null,null,48,62,75,95,"30 x 57","48 x 65","130 x 130",null,null,{"$f":"Y8","v":"Smooth"},{"$f":"Z8","v":"Galvanized"}]
[null,null,null,null,null,null,null,null,null,null,null,null,"MBL (ton)",null,null,0.5,0.7,0.9,1.2,0.5,0.7,1.5,null,null,0.22,0.32,"MBL (ton)"]
[null,null,null,null,null,null,null,null,null,null,null,null,"MSL (ton)",null,null,0.25,0.35,0.45,0.6,0.25,0.35,0.75,null,null,{"$f":"Y28/2","v":0.11},{"$f":"Z28/2","v":0.16},"MSL (ton)"]
[]
[null,null,null,null,null,null,null,null,null,null,null,null,null,null,"Road",null,null,null,null,null,null,null,null,"Road"]
[null,null,null,null,null,null,null,null,null,null,null,null,null,null,null,null,null,null,null,null,null,null,null,null,{"$f":"$Y$7","v":"Sideways"},null,{"$f":"$AA$7","v":"Forward"},null,{"$f":"$AC$7","v":"Rearwards"}]
[null,null,null,null,null,null,null,null,null,null,null,null,null,null,"µ",{"$f":"P10","v":"Sideways"},null,null,null,null,null,null,null,"µ",{"$f":"Y$8","v":"Smooth"},{"$f":"Z$8","v":"Galvanized"},"Smooth","Galvanized","Smooth","Galvanized"]
[null,null,null,null,null,null,null,null,null,null,null,null,null,null,0.2,{"$f":"IF($K$17,P$29/($I$16*($K$9-$O34*$L$9)),\"\")","v":0.41666666666666669},{"$f":"IF($K$17,Q$29/($I$16*($K$9-$O34*$L$9)),\"\")","v":0.58333333333333337},0.75,1,0.41666666666666669,0.58333333333333337,1.25,null,0.15,{"$f":"IF(($K$9-$X34*$L$9)>0,IF($K$17,Y$29/(($K$9-$X34*$L$9)),\"\"),\"\")","v":0.31428571428571433},0.45714285714285718,{"$f":"IF(($G$9-$X34*$H$9)>0,IF($K$17,Y$29/(($G$9-$X34*$H$9)),\"\"),\"\")","v":0.16923076923076921},{"$f":"IF(($G$9-$X34*$H$9)>0,IF($K$17,Z$29/(($G$9-$X34*$H$9)),\"\"),\"\")","v":0.24615384615384614},{"$f":"IF(($I$9-$X34*$J$9)>0,IF($K$17,Y$29/(($I$9-$X34*$J$9)),\"\"),\"\")","v":0.31428571428571433},{"$f":"IF(($I$9-$X34*$J$9)>0,IF($K$17,Z$29/(($I$9-$X34*$J$9)),\"\"),\"\")","v":0.45714285714285718}]
[null,null,null,null,null,null,null,null,null,null,null,null,null,null,0.3,{"$f":"IF($K$17,P$29/($I$16*($K$9-$O35*$L$9)),\"\")","v":0.625},0.87499999999999989,1.125,1.4999999999999998,0.625,0.87499999999999989,1.875,null,0.2,0.3666666666666667,0.53333333333333333,0.18333333333333332,0.26666666666666661,0.3666666666666667,0.53333333333333333]
[null,null,null,null,null,null,null,null,null,null,null,null,null,null,0.4,1.2500000000000002,1.7500000000000002,2.2500000000000004,3.0000000000000004,1.2500000000000002,1.7500000000000002,3.7500000000000009,null,0.25,0.44,0.64,0.19999999999999998,0.29090909090909089,0.44,0.64]
[null,null,null,null,null,null,null,null,null,null,null,null,null,null,null,null,null,null,null,null,null,null,null,0.3,0.54999999999999993,0.79999999999999993,0.22,0.32,0.54999999999999993,0.79999999999999993]
[null,null,null,null,null,null,null,null,null,null,null,null,null,null,"µ",{"$f":"P15","v":"Forward"},null,null,null,null,null,null,null,0.35,0.73333333333333328,1.0666666666666664,0.24444444444444441,0.35555555555555551,0.73333333333333328,1.0666666666666664]
[null,null,null,null,null,null,null,null,null,null,null,null,null,null,0.2,{"$f":"IF($K$17,P$29/($I$16*($G$9-$O39*$H$9)),\"\")","v":0.20833333333333331},{"$f":"IF($K$17,Q$29/($I$16*($G$9-$O39*$H$9)),\"\")","v":0.29166666666666663},0.37499999999999994,0.49999999999999989,0.20833333333333331,0.29166666666666663,0.62499999999999989,null,0.4,1.1000000000000003,1.6000000000000003,0.27499999999999997,0.39999999999999997,1.1000000000000003,1.6000000000000003]
[null,null,null,null,null,null,null,null,null,null,null,null,null,null,0.3,{"$f":"IF($K$17,P$29/($I$16*($G$9-$O40*$H$9)),\"\")","v":0.25},0.35,0.45,0.6,0.25,0.35,0.75,null,0.45,2.2000000000000006,3.2000000000000006,0.31428571428571428,0.45714285714285713,2.2000000000000006,3.2000000000000006]
[null,null,null,null,null,null,null,null,null,null,null,null,null,null,0.4,0.3125,0.43749999999999994,0.5625,0.74999999999999989,0.3125,0.43749999999999994,0.9375,null,0.5,"","",0.36666666666666664,0.53333333333333321,"",""]
[null,null,null,null,null,null,null,null,null,null,null,null,null,null,null,null,null,null,null,null,null,null,null,0.55000000000000004,"","",0.44,0.64,"",""]
[null,null,null,null,null,null,null,null,null,null,null,null,null,null,"µ",{"$f":"P20","v":"Rearwards"},null,null,null,null,null,null,null,0.6,"","",0.54999999999999982,0.79999999999999971,"",""]
[null,null,null,null,null,null,null,null,null,null,null,null,null,null,0.2,{"$f":"IF($K$17,P$29/($I$16*($I$9-$O44*$J$9)),\"\")","v":0.41666666666666669},{"$f":"IF($K$17,Q$29/($I$16*($I$9-$O44*$J$9)),\"\")","v":0.58333333333333337},0.75,1,0.41666666666666669,0.58333333333333337,1.25,null,0.65,"","",0.73333333333333328,1.0666666666666664,"",""]
[null,null,null,null,null,null,null,null,null,null,null,null,null,null,0.3,{"$f":"IF($K$17,P$29/($I$16*($I$9-$O45*$J$9)),\"\")","v":0.625},0.87499999999999989,1.125,1.4999999999999998,0.625,0.87499999999999989,1.875,null,0.7,"","",1.099999999999999,1.5999999999999985,"",""]
[null,null,null,null,null,null,null,null,null,null,null,null,null,null,0.4,1.2500000000000002,1.7500000000000002,2.2500000000000004,3.0000000000000004,1.2500000000000002,1.7500000000000002,3.7500000000000009,null,0.75,"","",2.199999999999998,3.1999999999999971,"",""]
[null,null,null,null,null,null,null,null,null,null,null,null,null,null,null,null,null,null,null,null,null,null,null,0.8,"","","","","",""]
[]
[null,null,null,null,null,null,null,null,null,null,null,null,null,null,"Rail",null,null,null,null,null,null,null,null,"Rail"]
[null,null,null,null,null,null,null,null,null,null,null,null,null,null,null,null,null,null,null,null,null,null,null,null,{"$f":"$Y$7","v":"Sideways"},null,{"$f":"$AA$7","v":"Forward"},null,{"$f":"$AC$7","v":"Rearwards"}]
[null,null,null,null,null,null,null,null,null,null,null,null,null,null,"µ",{"$f":"P33","v":"Sideways"},null,null,null,null,null,null,null,"µ",{"$f":"Y$8","v":"Smooth"},{"$f":"Z$8","v":"Galvanized"},"Smooth","Galvanized","Smooth","Galvanized"]
[null,null,null,null,null,null,null,null,null,null,null,null,null,null,0.2,{"$f":"IF($K$18,P$29/($I$16*($K$10-$O52*($L$10-$I$19))),\"\")","v":""},{"$f":"IF($K$18,Q$29/($I$16*($K$10-$O52*($L$10-$I$19))),\"\")","v":""},"","","","","",null,0.15,{"$f":"IF(($K$10-$X52*$L$10)>0,IF($K$18,Y$29/(($K$10-$X52*($L$10-$I$19))),\"\"),\"\")","v":""},{"$f":"IF(($K$10-$X52*$L$10)>0,IF($K$18,Z$29/(($K$10-$X52*($L$10-$I$19))),\"\"),\"\")","v":""},{"$f":"IF(($G$10-$X52*$H$10)>0,IF($K$18,Y$29/(($G$10-$X52*$H$10)),\"\"),\"\")","v":""},{"$f":"IF(($G$10-$X52*$H$10)>0,IF($K$18,Z$29/(($G$10-$X52*$H$10)),\"\"),\"\")","v":""},{"$f":"IF(($I$10-$X52*$J$10)>0,IF($K$18,Y$29/(($I$10-$X52*$J$10)),\"\"),\"\")","v":""},{"$f":"IF(($I$10-$X52*$J$10)>0,IF($K$18,Z$29/(($I$10-$X52*$J$10)),\"\"),\"\")","v":""}]
[null,null,null,null,null,null,null,null,null,null,null,null,null,null,0.3,{"$f":"IF($K$18,P$29/($I$16*($K$10-$O53*($L$10-$I$19))),\"\")","v":""},"","","","","","",null,0.2,{"$f":"IF(($K$10-$X53*$L$10)>0,IF($K$18,Y$29/(($K$10-$X53*($L$10-$I$19))),\"\"),\"\")","v":""},"",{"$f":"IF(($G$10-$X53*$H$10)>0,IF($K$18,Y$29/(($G$10-$X53*$H$10)),\"\"),\"\")","v":""},{"$f":"IF(($G$10-$X53*$H$10)>0,IF($K$18,Z$29/(($G$10-$X53*$H$10)),\"\"),\"\")","v":""},{"$f":"IF(($I$10-$X53*$J$10)>0,IF($K$18,Y$29/(($I$10-$X53*$J$10)),\"\"),\"\")","v":""},{"$f":"IF(($I$10-$X53*$J$10)>0,IF($K$18,Z$29/(($I$10-$X53*$J$10)),\"\"),\"\")","v":""}]
[null,null,null,null,null,null,null,null,null,null,null,null,null,null,0.4,"","","","","","","",null,0.25,"","","","","",""]
[null,null,null,null,null,null,null,null,null,null,null,null,null,null,null,null,null,null,null,null,null,null,null,0.3,"","","","","",""]
[null,null,null,null,null,null,null,null,null,null,null,null,null,null,"µ",{"$f":"P38","v":"Forward"},null,null,null,null,null,null,null,0.35,"","","","","",""]
[null,null,null,null,null,null,null,null,null,null,null,null,null,null,0.2,{"$f":"IF($K$18,P$29/($I$16*($G$10-$O57*$H$10)),\"\")","v":""},{"$f":"IF($K$18,Q$29/($I$16*($G$10-$O57*$H$10)),\"\")","v":""},"","","","","",null,0.4,"","","","","",""]
[null,null,null,null,null,null,null,null,null,null,null,null,null,null,0.3,{"$f":"IF($K$18,P$29/($I$16*($G$10-$O58*$H$10)),\"\")","v":""},"","","","","","",null,0.45,"","","","","",""]
[null,null,null,null,null,null,null,null,null,null,null,null,null,null,0.4,"","","","","","","",null,0.5,"","","","","",""]
[null,null,null,null,null,null,null,null,null,null,null,null,null,null,null,null,null,null,null,null,null,null,null,0.55000000000000004,"","","","","",""]
[null,null,null,null,null,null,null,null,null,null,null,null,null,null,"µ",{"$f":"P43","v":"Rearwards"},null,null,null,null,null,null,null,0.6,"","","","","",""]
[null,null,null,null,null,null,null,null,null,null,null,null,null,null,0.2,{"$f":"IF($K$18,P$29/($I$16*($I$10-$O62*$J$10)),\"\")","v":""},{"$f":"IF($K$18,Q$29/($I$16*($I$10-$O62*$J$10)),\"\")","v":""},"","","","","",null,0.65,"","","","","",""]
[null,null,null,null,null,null,null,null,null,null,null,null,null,null,0.3,{"$f":"IF($K$18,P$29/($I$16*($I$10-$O63*$J$10)),\"\")","v":""},"","","","","","",null,0.7,"","","","","",""]
[null,null,null,null,null,null,null,null,null,null,null,null,null,null,0.4,"","","","","","","",null,0.75,"","","","","",""]
[null,null,null,null,null,null,null,null,null,null,null,null,null,null,null,null,null,null,null,null,null,null,null,0.8,"","","","","",""]
[]
[null,null,null,null,null,null,null,null,null,null,null,null,null,null,"Sea A",null,null,null,null,null,null,null,null,"Sea A"]
[null,null,null,null,null,null,null,null,null,null,null,null,null,null,null,null,null,null,null,null,null,null,null,null,{"$f":"$Y$7","v":"Sideways"},null,{"$f":"$AA$7","v":"Forward"},null,{"$f":"$AC$7","v":"Rearwards"}]
[null,null,null,null,null,null,null,null,null,null,null,null,null,null,"µ",{"$f":"P51","v":"Sideways"},null,null,null,null,null,null,null,"µ",{"$f":"Y$8","v":"Smooth"},{"$f":"Z$8","v":"Galvanized"},"Smooth","Galvanized","Smooth","Galvanized"]
[null,null,null,null,null,null,null,null,null,null,null,null,null,null,0.2,{"$f":"IF($K$19,P$29/($I$16*($K$11-$O70*$L$11)),\"\")","v":""},{"$f":"IF($K$19,Q$29/($I$16*($K$11-$O70*$L$11)),\"\")","v":""},"","","","","",null,0.15,{"$f":"IF(($K$11-$X70*$L$11)>0,IF($K$19,Y$29/(($K$11-$X70*$L$11)),\"\"),\"\")","v":""},{"$f":"IF(($K$11-$X70*$L$11)>0,IF($K$19,Z$29/(($K$11-$X70*$L$11)),\"\"),\"\")","v":""},{"$f":"IF(($G$11-$X70*$H$11)>0,IF($K$19,Y$29/(($G$11-$X70*$H$11)),\"\"),\"\")","v":""},{"$f":"IF(($G$11-$X70*$H$11)>0,IF($K$19,Z$29/(($G$11-$X70*$H$11)),\"\"),\"\")","v":""},{"$f":"IF(($I$11-$X70*$J$11)>0,IF($K$19,Y$29/(($I$11-$X70*$J$11)),\"\"),\"\")","v":""},{"$f":"IF(($I$11-$X70*$J$11)>0,IF($K$19,Z$29/(($I$11-$X70*$J$11)),\"\"),\"\")","v":""}]
[null,null,null,null,null,null,null,null,null,null,null,null,null,null,0.3,{"$f":"IF($K$19,P$29/($I$16*($K$11-$O71*$L$11)),\"\")","v":""},"","","","","","",null,0.2,{"$f":"IF(($K$11-$X71*$L$11)>0,IF($K$19,Y$29/(($K$11-$X71*$L$11)),\"\"),\"\")","v":""},"",{"$f":"IF(($G$11-$X71*$H$11)>0,IF($K$19,Y$29/(($G$11-$X71*$H$11)),\"\"),\"\")","v":""},{"$f":"IF(($G$11-$X71*$H$11)>0,IF($K$19,Z$29/(($G$11-$X71*$H$11)),\"\"),\"\")","v":""},{"$f":"IF(($I$11-$X71*$J$11)>0,IF($K$19,Y$29/(($I$11-$X71*$J$11)),\"\"),\"\")","v":""},{"$f":"IF(($I$11-$X71*$J$11)>0,IF($K$19,Z$29/(($I$11-$X71*$J$11)),\"\"),\"\")","v":""}]
[null,null,null,null,null,null,null,null,null,null,null,null,null,null,0.4,"","","","","","","",null,0.25,"","","","","",""]
[null,null,null,null,null,null,null,null,null,null,null,null,null,null,null,null,null,null,null,null,null,null,null,0.3,"","","","","",""]
[null,null,null,null,null,null,null,null,null,null,null,null,null,null,"µ",{"$f":"P56","v":"Forward"},null,null,null,null,null,null,null,0.35,"","","","","",""]
[null,null,null,null,null,null,null,null,null,null,null,null,null,null,0.2,{"$f":"IF($K$19,P$29/($I$16*($G$11-$O75*$H$11)),\"\")","v":""},{"$f":"IF($K$19,Q$29/($I$16*($G$11-$O75*$H$11)),\"\")","v":""},"","","","","",null,0.4,"","","","","",""]
[null,null,null,null,null,null,null,null,null,null,null,null,null,null,0.3,{"$f":"IF($K$19,P$29/($I$16*($G$11-$O76*$H$11)),\"\")","v":""},"","","","","","",null,0.45,"","","","","",""]
[null,null,null,null,null,null,null,null,null,null,null,null,null,null,0.4,"","","","","","","",null,0.5,"","","","","",""]
[null,null,null,null,null,null,null,null,null,null,null,null,null,null,null,null,null,null,null,null,null,null,null,0.55000000000000004,"","","","","",""]
[null,null,null,null,null,null,null,null,null,null,null,null,null,null,"µ",{"$f":"P61","v":"Rearwards"},null,null,null,null,null,null,null,0.6,"","","","","",""]
[null,null,null,null,null,null,null,null,null,null,null,null,null,null,0.2,{"$f":"IF($K$19,P$29/($I$16*($I$11-$O80*$J$11)),\"\")","v":""},{"$f":"IF($K$19,Q$29/($I$16*($I$11-$O80*$J$11)),\"\")","v":""},"","","","","",null,0.65,"","","","","",""]
[null,null,null,null,null,null,null,null,null,null,null,null,null,null,0.3,{"$f":"IF($K$19,P$29/($I$16*($I$11-$O81*$J$11)),\"\")","v":""},"","","","","","",null,0.7,"","","","","",""]
[null,null,null,null,null,null,null,null,null,null,null,null,null,null,0.4,"","","","","","","",null,0.75,"","","","","",""]
[null,null,null,null,null,null,null,null,null,null,null,null,null,null,null,null,null,null,null,null,null,null,null,0.8,"","","","","",""]
[]
[null,null,null,null,null,null,null,null,null,null,null,null,null,null,"Sea B",null,null,null,null,null,null,null,null,"Sea B"]
[null,null,null,null,null,null,null,null,null,null,null,null,null,null,null,null,null,null,null,null,null,null,null,null,{"$f":"$Y$7","v":"Sideways"},null,{"$f":"$AA$7","v":"Forward"},null,{"$f":"$AC$7","v":"Rearwards"}]
[null,null,null,null,null,null,null,null,null,null,null,null,null,null,"µ",{"$f":"P69","v":"Sideways"},null,null,null,null,null,null,null,"µ",{"$f":"Y$8","v":"Smooth"},{"$f":"Z$8","v":"Galvanized"},"Smooth","Galvanized","Smooth","Galvanized"]
[null,null,null,null,null,null,null,null,null,null,null,null,null,null,0.2,{"$f":"IF($K$20,P$29/($I$16*($K$12-$O88*$L$12)),\"\")","v":""},{"$f":"IF($K$20,Q$29/($I$16*($K$12-$O88*$L$12)),\"\")","v":""},"","","","","",null,0.15,{"$f":"IF(($K$12-$X88*$L$12)>0,IF($K$20,Y$29/(($K$12-$X88*$L$12)),\"\"),\"\")","v":""},{"$f":"IF(($K$12-$X88*$L$12)>0,IF($K$20,Z$29/(($K$12-$X88*$L$12)),\"\"),\"\")","v":""},{"$f":"IF(($G$12-$X88*$H$12)>0,IF($K$20,Y$29/(($G$12-$X88*$H$12)),\"\"),\"\")","v":""},{"$f":"IF(($G$12-$X88*$H$12)>0,IF($K$20,Z$29/(($G$12-$X88*$H$12)),\"\"),\"\")","v":""},{"$f":"IF(($I$12-$X88*$J$12)>0,IF($K$20,Y$29/(($I$12-$X88*$J$12)),\"\"),\"\")","v":""},{"$f":"IF(($I$12-$X88*$J$12)>0,IF($K$20,Z$29/(($I$12-$X88*$J$12)),\"\"),\"\")","v":""}]
[null,null,null,null,null,null,null,null,null,null,null,null,null,null,0.3,{"$f":"IF($K$20,P$29/($I$16*($K$12-$O89*$L$12)),\"\")","v":""},"","","","","","",null,0.2,{"$f":"IF(($K$12-$X89*$L$12)>0,IF($K$20,Y$29/(($K$12-$X89*$L$12)),\"\"),\"\")","v":""},"",{"$f":"IF(($G$12-$X89*$H$12)>0,IF($K$20,Y$29/(($G$12-$X89*$H$12)),\"\"),\"\")","v":""},{"$f":"IF(($G$12-$X89*$H$12)>0,IF($K$20,Z$29/(($G$12-$X89*$H$12)),\"\"),\"\")","v":""},{"$f":"IF(($I$12-$X89*$J$12)>0,IF($K$20,Y$29/(($I$12-$X89*$J$12)),\"\"),\"\")","v":""},{"$f":"IF(($I$12-$X89*$J$12)>0,IF($K$20,Z$29/(($I$12-$X89*$J$12)),\"\"),\"\")","v":""}]
[null,null,null,null,null,null,null,null,null,null,null,null,null,null,0.4,"","","","","","","",null,0.25,"","","","","",""]
[null,null,null,null,null,null,null,null,null,null,null,null,null,null,null,null,null,null,null,null,null,null,null,0.3,"","","","","",""]
[null,null,null,null,null,null,null,null,null,null,null,null,null,null,"µ",{"$f":"P74","v":"Forward"},null,null,null,null,null,null,null,0.35,"","","","","",""]
[null,null,null,null,null,null,null,null,null,null,null,null,null,null,0.2,{"$f":"IF($K$20,P$29/($I$16*($G$12-$O93*$H$12)),\"\")","v":""},{"$f":"IF($K$20,Q$29/($I$16*($G$12-$O93*$H$12)),\"\")","v":""},"","","","","",null,0.4,"","","","","",""]
[null,null,null,null,null,null,null,null,null,null,null,null,null,null,0.3,{"$f":"IF($K$20,P$29/($I$16*($G$12-$O94*$H$12)),\"\")","v":""},"","","","","","",null,0.45,"","","","","",""]
[null,null,null,null,null,null,null,null,null,null,null,null,null,null,0.4,"","","","","","","",null,0.5,"","","","","",""]
[null,null,null,null,null,null,null,null,null,null,null,null,null,null,null,null,null,null,null,null,null,null,null,0.55000000000000004,"","","","","",""]
[null,null,null,null,null,null,null,null,null,null,null,null,null,null,"µ",{"$f":"P79","v":"Rearwards"},null,null,null,null,null,null,null,0.6,"","","","","",""]
[null,null,null,null,null,null,null,null,null,null,null,null,null,null,0.2,{"$f":"IF($K$20,P$29/($I$16*($I$12-$O98*$J$12)),\"\")","v":""},{"$f":"IF($K$20,Q$29/($I$16*($I$12-$O98*$J$12)),\"\")","v":""},"","","","","",null,0.65,"","","","","",""]
[null,null,null,null,null,null,null,null,null,null,null,null,null,null,0.3,{"$f":"IF($K$20,P$29/($I$16*($I$12-$O99*$J$12)),\"\")","v":""},"","","","","","",null,0.7,"","","","","",""]
[null,null,null,null,null,null,null,null,null,null,null,null,null,null,0.4,"","","","","","","",null,0.75,"","","","","",""]
[null,null,null,null,null,null,null,null,null,null,null,null,null,null,null,null,null,null,null,null,null,null,null,0.8,"","","","","",""]
[]
[null,null,null,null,null,null,null,null,null,null,null,null,null,null,"Sea C",null,null,null,null,null,null,null,null,"Sea C"]
[null,null,null,null,null,null,null,null,null,null,null,null,null,null,null,null,null,null,null,null,null,null,null,null,{"$f":"$Y$7","v":"Sideways"},null,{"$f":"$AA$7","v":"Forward"},null,{"$f":"$AC$7","v":"Rearwards"}]
[null,null,null,null,null,null,null,null,null,null,null,null,null,null,"µ",{"$f":"P87","v":"Sideways"},null,null,null,null,null,null,null,"µ",{"$f":"Y$8","v":"Smooth"},{"$f":"Z$8","v":"Galvanized"},"Smooth","Galvanized","Smooth","Galvanized"]
[null,null,null,null,null,null,null,null,null,null,null,null,null,null,0.2,{"$f":"IF($K$21,P$29/($I$16*($K$13-$O106*$L$13)),\"\")","v":""},{"$f":"IF($K$21,Q$29/($I$16*($K$13-$O106*$L$13)),\"\")","v":""},"","","","","",null,0.15,{"$f":"IF(($K$13-$X106*$L$13)>0,IF($K$21,Y$29/(($K$13-$X106*$L$13)),\"\"),\"\")","v":""},{"$f":"IF(($K$13-$X106*$L$13)>0,IF($K$21,Z$29/(($K$13-$X106*$L$13)),\"\"),\"\")","v":""},{"$f":"IF(($G$13-$X106*$H$13)>0,IF($K$21,Y$29/(($G$13-$X106*$H$13)),\"\"),\"\")","v":""},{"$f":"IF(($G$13-$X106*$H$13)>0,IF($K$21,Z$29/(($G$13-$X106*$H$13)),\"\"),\"\")","v":""},{"$f":"IF(($I$13-$X106*$J$13)>0,IF($K$21,Y$29/(($I$13-$X106*$J$13)),\"\"),\"\")","v":""},{"$f":"IF(($I$13-$X106*$J$13)>0,IF($K$21,Z$29/(($I$13-$X106*$J$13)),\"\"),\"\")","v":""}]
[null,null,null,null,null,null,null,null,null,null,null,null,null,null,0.3,{"$f":"IF($K$21,P$29/($I$16*($K$13-$O107*$L$13)),\"\")","v":""},"","","","","","",null,0.2,{"$f":"IF(($K$13-$X107*$L$13)>0,IF($K$21,Y$29/(($K$13-$X107*$L$13)),\"\"),\"\")","v":""},"",{"$f":"IF(($G$13-$X107*$H$13)>0,IF($K$21,Y$29/(($G$13-$X107*$H$13)),\"\"),\"\")","v":""},{"$f":"IF(($G$13-$X107*$H$13)>0,IF($K$21,Z$29/(($G$13-$X107*$H$13)),\"\"),\"\")","v":""},{"$f":"IF(($I$13-$X107*$J$13)>0,IF($K$21,Y$29/(($I$13-$X107*$J$13)),\"\"),\"\")","v":""},{"$f":"IF(($I$13-$X107*$J$13)>0,IF($K$21,Z$29/(($I$13-$X107*$J$13)),\"\"),\"\")","v":""}]
[null,null,null,null,null,null,null,null,null,null,null,null,null,null,0.4,"","","","","","","",null,0.25,"","","","","",""]
[null,null,null,null,null,null,null,null,null,null,null,null,null,null,null,null,null,null,null,null,null,null,null,0.3,"","","","","",""]
[null,null,null,null,null,null,null,null,null,null,null,null,null,null,"µ",{"$f":"P92","v":"Forward"},null,null,null,null,null,null,null,0.35,"","","","","",""]
[null,null,null,null,null,null,null,null,null,null,null,null,null,null,0.2,{"$f":"IF($K$21,P$29/($I$16*($G$13-$O111*$H$13)),\"\")","v":""},{"$f":"IF($K$21,Q$29/($I$16*($G$13-$O111*$H$13)),\"\")","v":""},"","","","","",null,0.4,"","","","","",""]
[null,null,null,null,null,null,null,null,null,null,null,null,null,null,0.3,{"$f":"IF($K$21,P$29/($I$16*($G$13-$O112*$H$13)),\"\")","v":""},"","","","","","",null,0.45,"","","","","",""]
[null,null,null,null,null,null,null,null,null,null,null,null,null,null,0.4,"","","","","","","",null,0.5,"","","","","",""]
[null,null,null,null,null,null,null,null,null,null,null,null,null,null,null,null,null,null,null,null,null,null,null,0.55000000000000004,"","","","","",""]
[null,null,null,null,null,null,null,null,null,null,null,null,null,null,"µ",{"$f":"P97","v":"Rearwards"},null,null,null,null,null,null,null,0.6,"","","","","",""]
[null,null,null,null,null,null,null,null,null,null,null,null,null,null,0.2,{"$f":"IF($K$21,P$29/($I$16*($I$13-$O116*$J$13)),\"\")","v":""},{"$f":"IF($K$21,Q$29/($I$16*($I$13-$O116*$J$13)),\"\")","v":""},"","","","","",null,0.65,"","","","","",""]
[null,null,null,null,null,null,null,null,null,null,null,null,null,null,0.3,{"$f":"IF($K$21,P$29/($I$16*($I$13-$O117*$J$13)),\"\")","v":""},"","","","","","",null,0.7,"","","","","",""]
[null,null,null,null,null,null,null,null,null,null,null,null,null,null,0.4,"","","","","","","",null,0.75,"","","","","",""]
[null,null,null,null,null,null,null,null,null,null,null,null,null,null,null,null,null,null,null,null,null,null,null,0.8,"","","","","",""]
[]
[null,null,null,null,null,null,null,null,null,null,null,null,null,null,"Minimum",null,null,null,null,null,null,null,null,"Minimum"]
[null,null,null,null,null,null,null,null,null,null,null,null,null,null,null,null,null,null,null,null,null,null,null,null,{"$f":"$Y$7","v":"Sideways"},null,{"$f":"$AA$7","v":"Forward"},null,{"$f":"$AC$7","v":"Rearwards"}]
[null,null,null,null,null,null,null,null,null,null,null,null,null,null,"µ",{"$f":"P105","v":"Sideways"},null,null,null,null,null,null,null,"µ",{"$f":"Y$8","v":"Smooth"},{"$f":"Z$8","v":"Galvanized"},"Smooth","Galvanized","Smooth","Galvanized"]
[null,null,null,null,null,null,null,null,null,null,null,null,null,null,0.2,{"$f":"IF(COUNT(P34,P52,P70,P88,P106)>0,MIN(P34,P52,P70,P88,P106),Lashings!$K$15)","v":0.41666666666666669},{"$f":"IF(COUNT(Q34,Q52,Q70,Q88,Q106)>0,MIN(Q34,Q52,Q70,Q88,Q106),Lashings!$K$15)","v":0.58333333333333337},{"$f":"IF(COUNT(R34,R52,R70,R88,R106)>0,MIN(R34,R52,R70,R88,R106),Lashings!$K$15)","v":0.75},{"$f":"IF(COUNT(S34,S52,S70,S88,S106)>0,MIN(S34,S52,S70,S88,S106),Lashings!$K$15)","v":1},{"$f":"IF(COUNT(T34,T52,T70,T88,T106)>0,MIN(T34,T52,T70,T88,T106),Lashings!$K$15)","v":0.41666666666666669},{"$f":"IF(COUNT(U34,U52,U70,U88,U106)>0,MIN(U34,U52,U70,U88,U106),Lashings!$K$15)","v":0.58333333333333337},{"$f":"IF(COUNT(V34,V52,V70,V88,V106)>0,MIN(V34,V52,V70,V88,V106),Lashings!$K$15)","v":1.25},null,0.15,{"$f":"IF(COUNT(Y34,Y52,Y70,Y88,Y106)>0,MIN(Y34,Y52,Y70,Y88,Y106),Lashings!$K$15)","v":0.31428571428571433},{"$f":"IF(COUNT(Z34,Z52,Z70,Z88,Z106)>0,MIN(Z34,Z52,Z70,Z88,Z106),Lashings!$K$15)","v":0.45714285714285718},{"$f":"IF(COUNT(AA34,AA52,AA70,AA88,AA106)>0,MIN(AA34,AA52,AA70,AA88,AA106),Lashings!$K$15)","v":0.16923076923076921},{"$f":"IF(COUNT(AB34,AB52,AB70,AB88,AB106)>0,MIN(AB34,AB52,AB70,AB88,AB106),Lashings!$K$15)","v":0.24615384615384614},{"$f":"IF(COUNT(AC34,AC52,AC70,AC88,AC106)>0,MIN(AC34,AC52,AC70,AC88,AC106),Lashings!$K$15)","v":0.31428571428571433},{"$f":"IF(COUNT(AD34,AD52,AD70,AD88,AD106)>0,MIN(AD34,AD52,AD70,AD88,AD106),Lashings!$K$15)","v":0.45714285714285718}]
[null,null,null,null,null,null,null,null,null,null,null,null,null,null,0.3,{"$f":"IF(COUNT(P35,P53,P71,P89,P107)>0,MIN(P35,P53,P71,P89,P107),Lashings!$K$15)","v":0.625},{"$f":"IF(COUNT(Q35,Q53,Q71,Q89,Q107)>0,MIN(Q35,Q53,Q71,Q89,Q107),Lashings!$K$15)","v":0.87499999999999989},{"$f":"IF(COUNT(R35,R53,R71,R89,R107)>0,MIN(R35,R53,R71,R89,R107),Lashings!$K$15)","v":1.125},{"$f":"IF(COUNT(S35,S53,S71,S89,S107)>0,MIN(S35,S53,S71,S89,S107),Lashings!$K$15)","v":1.4999999999999998},{"$f":"IF(COUNT(T35,T53,T71,T89,T107)>0,MIN(T35,T53,T71,T89,T107),Lashings!$K$15)","v":0.625},{"$f":"IF(COUNT(U35,U53,U71,U89,U107)>0,MIN(U35,U53,U71,U89,U107),Lashings!$K$15)","v":0.87499999999999989},{"$f":"IF(COUNT(V35,V53,V71,V89,V107)>0,MIN(V35,V53,V71,V89,V107),Lashings!$K$15)","v":1.875},null,0.2,{"$f":"IF(COUNT(Y35,Y53,Y71,Y89,Y107)>0,MIN(Y35,Y53,Y71,Y89,Y107),Lashings!$K$15)","v":0.3666666666666667},{"$f":"IF(COUNT(Z35,Z53,Z71,Z89,Z107)>0,MIN(Z35,Z53,Z71,Z89,Z107),Lashings!$K$15)","v":0.53333333333333333},{"$f":"IF(COUNT(AA35,AA53,AA71,AA89,AA107)>0,MIN(AA35,AA53,AA71,AA89,AA107),Lashings!$K$15)","v":0.18333333333333332},{"$f":"IF(COUNT(AB35,AB53,AB71,AB89,AB107)>0,MIN(AB35,AB53,AB71,AB89,AB107),Lashings!$K$15)","v":0.26666666666666661},{"$f":"IF(COUNT(AC35,AC53,AC71,AC89,AC107)>0,MIN(AC35,AC53,AC71,AC89,AC107),Lashings!$K$15)","v":0.3666666666666667},{"$f":"IF(COUNT(AD35,AD53,AD71,AD89,AD107)>0,MIN(AD35,AD53,AD71,AD89,AD107),Lashings!$K$15)","v":0.53333333333333333}]
[null,null,null,null,null,null,null,null,null,null,null,null,null,null,0.4,{"$f":"IF(COUNT(P36,P54,P72,P90,P108)>0,MIN(P36,P54,P72,P90,P108),Lashings!$K$15)","v":1.2500000000000002},{"$f":"IF(COUNT(Q36,Q54,Q72,Q90,Q108)>0,MIN(Q36,Q54,Q72,Q90,Q108),Lashings!$K$15)","v":1.7500000000000002},{"$f":"IF(COUNT(R36,R54,R72,R90,R108)>0,MIN(R36,R54,R72,R90,R108),Lashings!$K$15)","v":2.2500000000000004},{"$f":"IF(COUNT(S36,S54,S72,S90,S108)>0,MIN(S36,S54,S72,S90,S108),Lashings!$K$15)","v":3.0000000000000004},{"$f":"IF(COUNT(T36,T54,T72,T90,T108)>0,MIN(T36,T54,T72,T90,T108),Lashings!$K$15)","v":1.2500000000000002},{"$f":"IF(COUNT(U36,U54,U72,U90,U108)>0,MIN(U36,U54,U72,U90,U108),Lashings!$K$15)","v":1.7500000000000002},{"$f":"IF(COUNT(V36,V54,V72,V90,V108)>0,MIN(V36,V54,V72,V90,V108),Lashings!$K$15)","v":3.7500000000000009},null,0.25,{"$f":"IF(COUNT(Y36,Y54,Y72,Y90,Y108)>0,MIN(Y36,Y54,Y72,Y90,Y108),Lashings!$K$15)","v":0.44},{"$f":"IF(COUNT(Z36,Z54,Z72,Z90,Z108)>0,MIN(Z36,Z54,Z72,Z90,Z108),Lashings!$K$15)","v":0.64},{"$f":"IF(COUNT(AA36,AA54,AA72,AA90,AA108)>0,MIN(AA36,AA54,AA72,AA90,AA108),Lashings!$K$15)","v":0.19999999999999998},{"$f":"IF(COUNT(AB36,AB54,AB72,AB90,AB108)>0,MIN(AB36,AB54,AB72,AB90,AB108),Lashings!$K$15)","v":0.29090909090909089},{"$f":"IF(COUNT(AC36,AC54,AC72,AC90,AC108)>0,MIN(AC36,AC54,AC72,AC90,AC108),Lashings!$K$15)","v":0.44},{"$f":"IF(COUNT(AD36,AD54,AD72,AD90,AD108)>0,MIN(AD36,AD54,AD72,AD90,AD108),Lashings!$K$15)","v":0.64}]
[null,null,null,null,null,null,null,null,null,null,null,null,null,null,null,null,null,null,null,null,null,null,null,0.3,{"$f":"IF(COUNT(Y37,Y55,Y73,Y91,Y109)>0,MIN(Y37,Y55,Y73,Y91,Y109),Lashings!$K$15)","v":0.54999999999999993},{"$f":"IF(COUNT(Z37,Z55,Z73,Z91,Z109)>0,MIN(Z37,Z55,Z73,Z91,Z109),Lashings!$K$15)","v":0.79999999999999993},{"$f":"IF(COUNT(AA37,AA55,AA73,AA91,AA109)>0,MIN(AA37,AA55,AA73,AA91,AA109),Lashings!$K$15)","v":0.22},{"$f":"IF(COUNT(AB37,AB55,AB73,AB91,AB109)>0,MIN(AB37,AB55,AB73,AB91,AB109),Lashings!$K$15)","v":0.32},{"$f":"IF(COUNT(AC37,AC55,AC73,AC91,AC109)>0,MIN(AC37,AC55,AC73,AC91,AC109),Lashings!$K$15)","v":0.54999999999999993},{"$f":"IF(COUNT(AD37,AD55,AD73,AD91,AD109)>0,MIN(AD37,AD55,AD73,AD91,AD109),Lashings!$K$15)","v":0.79999999999999993}]
[null,null,null,null,null,null,null,null,null,null,null,null,null,null,"µ",{"$f":"P110","v":"Forward"},null,null,null,null,null,null,null,0.35,{"$f":"IF(COUNT(Y38,Y56,Y74,Y92,Y110)>0,MIN(Y38,Y56,Y74,Y92,Y110),Lashings!$K$15)","v":0.73333333333333328},{"$f":"IF(COUNT(Z38,Z56,Z74,Z92,Z110)>0,MIN(Z38,Z56,Z74,Z92,Z110),Lashings!$K$15)","v":1.0666666666666664},{"$f":"IF(COUNT(AA38,AA56,AA74,AA92,AA110)>0,MIN(AA38,AA56,AA74,AA92,AA110),Lashings!$K$15)","v":0.24444444444444441},{"$f":"IF(COUNT(AB38,AB56,AB74,AB92,AB110)>0,MIN(AB38,AB56,AB74,AB92,AB110),Lashings!$K$15)","v":0.35555555555555551},{"$f":"IF(COUNT(AC38,AC56,AC74,AC92,AC110)>0,MIN(AC38,AC56,AC74,AC92,AC110),Lashings!$K$15)","v":0.73333333333333328},{"$f":"IF(COUNT(AD38,AD56,AD74,AD92,AD110)>0,MIN(AD38,AD56,AD74,AD92,AD110),Lashings!$K$15)","v":1.0666666666666664}]
[null,null,null,null,null,null,null,null,null,null,null,null,null,null,0.2,{"$f":"IF(COUNT(P39,P57,P75,P93,P111)>0,MIN(P39,P57,P75,P93,P111),Lashings!$K$15)","v":0.20833333333333331},{"$f":"IF(COUNT(Q39,Q57,Q75,Q93,Q111)>0,MIN(Q39,Q57,Q75,Q93,Q111),Lashings!$K$15)","v":0.29166666666666663},{"$f":"IF(COUNT(R39,R57,R75,R93,R111)>0,MIN(R39,R57,R75,R93,R111),Lashings!$K$15)","v":0.37499999999999994},{"$f":"IF(COUNT(S39,S57,S75,S93,S111)>0,MIN(S39,S57,S75,S93,S111),Lashings!$K$15)","v":0.49999999999999989},{"$f":"IF(COUNT(T39,T57,T75,T93,T111)>0,MIN(T39,T57,T75,T93,T111),Lashings!$K$15)","v":0.20833333333333331},{"$f":"IF(COUNT(U39,U57,U75,U93,U111)>0,MIN(U39,U57,U75,U93,U111),Lashings!$K$15)","v":0.29166666666666663},{"$f":"IF(COUNT(V39,V57,V75,V93,V111)>0,MIN(V39,V57,V75,V93,V111),Lashings!$K$15)","v":0.62499999999999989},null,0.4,{"$f":"IF(COUNT(Y39,Y57,Y75,Y93,Y111)>0,MIN(Y39,Y57,Y75,Y93,Y111),Lashings!$K$15)","v":1.1000000000000003},{"$f":"IF(COUNT(Z39,Z57,Z75,Z93,Z111)>0,MIN(Z39,Z57,Z75,Z93,Z111),Lashings!$K$15)","v":1.6000000000000003},{"$f":"IF(COUNT(AA39,AA57,AA75,AA93,AA111)>0,MIN(AA39,AA57,AA75,AA93,AA111),Lashings!$K$15)","v":0.27499999999999997},{"$f":"IF(COUNT(AB39,AB57,AB75,AB93,AB111)>0,MIN(AB39,AB57,AB75,AB93,AB111),Lashings!$K$15)","v":0.39999999999999997},{"$f":"IF(COUNT(AC39,AC57,AC75,AC93,AC111)>0,MIN(AC39,AC57,AC75,AC93,AC111),Lashings!$K$15)","v":1.1000000000000003},{"$f":"IF(COUNT(AD39,AD57,AD75,AD93,AD111)>0,MIN(AD39,AD57,AD75,AD93,AD111),Lashings!$K$15)","v":1.6000000000000003}]
[null,null,null,null,null,null,null,null,null,null,null,null,null,null,0.3,{"$f":"IF(COUNT(P40,P58,P76,P94,P112)>0,MIN(P40,P58,P76,P94,P112),Lashings!$K$15)","v":0.25},{"$f":"IF(COUNT(Q40,Q58,Q76,Q94,Q112)>0,MIN(Q40,Q58,Q76,Q94,Q112),Lashings!$K$15)","v":0.35},{"$f":"IF(COUNT(R40,R58,R76,R94,R112)>0,MIN(R40,R58,R76,R94,R112),Lashings!$K$15)","v":0.45},{"$f":"IF(COUNT(S40,S58,S76,S94,S112)>0,MIN(S40,S58,S76,S94,S112),Lashings!$K$15)","v":0.6},{"$f":"IF(COUNT(T40,T58,T76,T94,T112)>0,MIN(T40,T58,T76,T94,T112),Lashings!$K$15)","v":0.25},{"$f":"IF(COUNT(U40,U58,U76,U94,U112)>0,MIN(U40,U58,U76,U94,U112),Lashings!$K$15)","v":0.35},{"$f":"IF(COUNT(V40,V58,V76,V94,V112)>0,MIN(V40,V58,V76,V94,V112),Lashings!$K$15)","v":0.75},null,0.45,{"$f":"IF(COUNT(Y40,Y58,Y76,Y94,Y112)>0,MIN(Y40,Y58,Y76,Y94,Y112),Lashings!$K$15)","v":2.2000000000000006},{"$f":"IF(COUNT(Z40,Z58,Z76,Z94,Z112)>0,MIN(Z40,Z58,Z76,Z94,Z112),Lashings!$K$15)","v":3.2000000000000006},{"$f":"IF(COUNT(AA40,AA58,AA76,AA94,AA112)>0,MIN(AA40,AA58,AA76,AA94,AA112),Lashings!$K$15)","v":0.31428571428571428},{"$f":"IF(COUNT(AB40,AB58,AB76,AB94,AB112)>0,MIN(AB40,AB58,AB76,AB94,AB112),Lashings!$K$15)","v":0.45714285714285713},{"$f":"IF(COUNT(AC40,AC58,AC76,AC94,AC112)>0,MIN(AC40,AC58,AC76,AC94,AC112),Lashings!$K$15)","v":2.2000000000000006},{"$f":"IF(COUNT(AD40,AD58,AD76,AD94,AD112)>0,MIN(AD40,AD58,AD76,AD94,AD112),Lashings!$K$15)","v":3.2000000000000006}]
[null,null,null,null,null,null,null,null,null,null,null,null,null,null,0.4,{"$f":"IF(COUNT(P41,P59,P77,P95,P113)>0,MIN(P41,P59,P77,P95,P113),Lashings!$K$15)","v":0.3125},{"$f":"IF(COUNT(Q41,Q59,Q77,Q95,Q113)>0,MIN(Q41,Q59,Q77,Q95,Q113),Lashings!$K$15)","v":0.43749999999999994},{"$f":"IF(COUNT(R41,R59,R77,R95,R113)>0,MIN(R41,R59,R77,R95,R113),Lashings!$K$15)","v":0.5625},{"$f":"IF(COUNT(S41,S59,S77,S95,S113)>0,MIN(S41,S59,S77,S95,S113),Lashings!$K$15)","v":0.74999999999999989},{"$f":"IF(COUNT(T41,T59,T77,T95,T113)>0,MIN(T41,T59,T77,T95,T113),Lashings!$K$15)","v":0.3125},{"$f":"IF(COUNT(U41,U59,U77,U95,U113)>0,MIN(U41,U59,U77,U95,U113),Lashings!$K$15)","v":0.43749999999999994},{"$f":"IF(COUNT(V41,V59,V77,V95,V113)>0,MIN(V41,V59,V77,V95,V113),Lashings!$K$15)","v":0.9375},null,0.5,{"$f":"IF(COUNT(Y41,Y59,Y77,Y95,Y113)>0,MIN(Y41,Y59,Y77,Y95,Y113),Lashings!$K$15)","v":"no slide"},{"$f":"IF(COUNT(Z41,Z59,Z77,Z95,Z113)>0,MIN(Z41,Z59,Z77,Z95,Z113),Lashings!$K$15)","v":"no slide"},{"$f":"IF(COUNT(AA41,AA59,AA77,AA95,AA113)>0,MIN(AA41,AA59,AA77,AA95,AA113),Lashings!$K$15)","v":0.36666666666666664},{"$f":"IF(COUNT(AB41,AB59,AB77,AB95,AB113)>0,MIN(AB41,AB59,AB77,AB95,AB113),Lashings!$K$15)","v":0.53333333333333321},{"$f":"IF(COUNT(AC41,AC59,AC77,AC95,AC113)>0,MIN(AC41,AC59,AC77,AC95,AC113),Lashings!$K$15)","v":"no slide"},{"$f":"IF(COUNT(AD41,AD59,AD77,AD95,AD113)>0,MIN(AD41,AD59,AD77,AD95,AD113),Lashings!$K$15)","v":"no slide"}]
[null,null,null,null,null,null,null,null,null,null,null,null,null,null,null,null,null,null,null,null,null,null,null,0.55000000000000004,{"$f":"IF(COUNT(Y42,Y60,Y78,Y96,Y114)>0,MIN(Y42,Y60,Y78,Y96,Y114),Lashings!$K$15)","v":"no slide"},{"$f":"IF(COUNT(Z42,Z60,Z78,Z96,Z114)>0,MIN(Z42,Z60,Z78,Z96,Z114),Lashings!$K$15)","v":"no slide"},{"$f":"IF(COUNT(AA42,AA60,AA78,AA96,AA114)>0,MIN(AA42,AA60,AA78,AA96,AA114),Lashings!$K$15)","v":0.44},{"$f":"IF(COUNT(AB42,AB60,AB78,AB96,AB114)>0,MIN(AB42,AB60,AB78,AB96,AB114),Lashings!$K$15)","v":0.64},{"$f":"IF(COUNT(AC42,AC60,AC78,AC96,AC114)>0,MIN(AC42,AC60,AC78,AC96,AC114),Lashings!$K$15)","v":"no slide"},{"$f":"IF(COUNT(AD42,AD60,AD78,AD96,AD114)>0,MIN(AD42,AD60,AD78,AD96,AD114),Lashings!$K$15)","v":"no slide"}]
[null,null,null,null,null,null,null,null,null,null,null,null,null,null,"µ",{"$f":"P115","v":"Rearwards"},null,null,null,null,null,null,null,0.6,{"$f":"IF(COUNT(Y43,Y61,Y79,Y97,Y115)>0,MIN(Y43,Y61,Y79,Y97,Y115),Lashings!$K$15)","v":"no slide"},{"$f":"IF(COUNT(Z43,Z61,Z79,Z97,Z115)>0,MIN(Z43,Z61,Z79,Z97,Z115),Lashings!$K$15)","v":"no slide"},{"$f":"IF(COUNT(AA43,AA61,AA79,AA97,AA115)>0,MIN(AA43,AA61,AA79,AA97,AA115),Lashings!$K$15)","v":0.54999999999999982},{"$f":"IF(COUNT(AB43,AB61,AB79,AB97,AB115)>0,MIN(AB43,AB61,AB79,AB97,AB115),Lashings!$K$15)","v":0.79999999999999971},{"$f":"IF(COUNT(AC43,AC61,AC79,AC97,AC115)>0,MIN(AC43,AC61,AC79,AC97,AC115),Lashings!$K$15)","v":"no slide"},{"$f":"IF(COUNT(AD43,AD61,AD79,AD97,AD115)>0,MIN(AD43,AD61,AD79,AD97,AD115),Lashings!$K$15)","v":"no slide"}]
[null,null,null,null,null,null,null,null,null,null,null,null,null,null,0.2,{"$f":"IF(COUNT(P44,P62,P80,P98,P116)>0,MIN(P44,P62,P80,P98,P116),Lashings!$K$15)","v":0.41666666666666669},{"$f":"IF(COUNT(Q44,Q62,Q80,Q98,Q116)>0,MIN(Q44,Q62,Q80,Q98,Q116),Lashings!$K$15)","v":0.58333333333333337},{"$f":"IF(COUNT(R44,R62,R80,R98,R116)>0,MIN(R44,R62,R80,R98,R116),Lashings!$K$15)","v":0.75},{"$f":"IF(COUNT(S44,S62,S80,S98,S116)>0,MIN(S44,S62,S80,S98,S116),Lashings!$K$15)","v":1},{"$f":"IF(COUNT(T44,T62,T80,T98,T116)>0,MIN(T44,T62,T80,T98,T116),Lashings!$K$15)","v":0.41666666666666669},{"$f":"IF(COUNT(U44,U62,U80,U98,U116)>0,MIN(U44,U62,U80,U98,U116),Lashings!$K$15)","v":0.58333333333333337},{"$f":"IF(COUNT(V44,V62,V80,V98,V116)>0,MIN(V44,V62,V80,V98,V116),Lashings!$K$15)","v":1.25},null,0.65,{"$f":"IF(COUNT(Y44,Y62,Y80,Y98,Y116)>0,MIN(Y44,Y62,Y80,Y98,Y116),Lashings!$K$15)","v":"no slide"},{"$f":"IF(COUNT(Z44,Z62,Z80,Z98,Z116)>0,MIN(Z44,Z62,Z80,Z98,Z116),Lashings!$K$15)","v":"no slide"},{"$f":"IF(COUNT(AA44,AA62,AA80,AA98,AA116)>0,MIN(AA44,AA62,AA80,AA98,AA116),Lashings!$K$15)","v":0.73333333333333328},{"$f":"IF(COUNT(AB44,AB62,AB80,AB98,AB116)>0,MIN(AB44,AB62,AB80,AB98,AB116),Lashings!$K$15)","v":1.0666666666666664},{"$f":"IF(COUNT(AC44,AC62,AC80,AC98,AC116)>0,MIN(AC44,AC62,AC80,AC98,AC116),Lashings!$K$15)","v":"no slide"},{"$f":"IF(COUNT(AD44,AD62,AD80,AD98,AD116)>0,MIN(AD44,AD62,AD80,AD98,AD116),Lashings!$K$15)","v":"no slide"}]
[null,null,null,null,null,null,null,null,null,null,null,null,null,null,0.3,{"$f":"IF(COUNT(P45,P63,P81,P99,P117)>0,MIN(P45,P63,P81,P99,P117),Lashings!$K$15)","v":0.625},{"$f":"IF(COUNT(Q45,Q63,Q81,Q99,Q117)>0,MIN(Q45,Q63,Q81,Q99,Q117),Lashings!$K$15)","v":0.87499999999999989},{"$f":"IF(COUNT(R45,R63,R81,R99,R117)>0,MIN(R45,R63,R81,R99,R117),Lashings!$K$15)","v":1.125},{"$f":"IF(COUNT(S45,S63,S81,S99,S117)>0,MIN(S45,S63,S81,S99,S117),Lashings!$K$15)","v":1.4999999999999998},{"$f":"IF(COUNT(T45,T63,T81,T99,T117)>0,MIN(T45,T63,T81,T99,T117),Lashings!$K$15)","v":0.625},{"$f":"IF(COUNT(U45,U63,U81,U99,U117)>0,MIN(U45,U63,U81,U99,U117),Lashings!$K$15)","v":0.87499999999999989},{"$f":"IF(COUNT(V45,V63,V81,V99,V117)>0,MIN(V45,V63,V81,V99,V117),Lashings!$K$15)","v":1.875},null,0.7,{"$f":"IF(COUNT(Y45,Y63,Y81,Y99,Y117)>0,MIN(Y45,Y63,Y81,Y99,Y117),Lashings!$K$15)","v":"no slide"},{"$f":"IF(COUNT(Z45,Z63,Z81,Z99,Z117)>0,MIN(Z45,Z63,Z81,Z99,Z117),Lashings!$K$15)","v":"no slide"},{"$f":"IF(COUNT(AA45,AA63,AA81,AA99,AA117)>0,MIN(AA45,AA63,AA81,AA99,AA117),Lashings!$K$15)","v":1.099999999999999},{"$f":"IF(COUNT(AB45,AB63,AB81,AB99,AB117)>0,MIN(AB45,AB63,AB81,AB99,AB117),Lashings!$K$15)","v":1.5999999999999985},{"$f":"IF(COUNT(AC45,AC63,AC81,AC99,AC117)>0,MIN(AC45,AC63,AC81,AC99,AC117),Lashings!$K$15)","v":"no slide"},{"$f":"IF(COUNT(AD45,AD63,AD81,AD99,AD117)>0,MIN(AD45,AD63,AD81,AD99,AD117),Lashings!$K$15)","v":"no slide"}]
[null,null,null,null,null,null,null,null,null,null,null,null,null,null,0.4,{"$f":"IF(COUNT(P46,P64,P82,P100,P118)>0,MIN(P46,P64,P82,P100,P118),Lashings!$K$15)","v":1.2500000000000002},{"$f":"IF(COUNT(Q46,Q64,Q82,Q100,Q118)>0,MIN(Q46,Q64,Q82,Q100,Q118),Lashings!$K$15)","v":1.7500000000000002},{"$f":"IF(COUNT(R46,R64,R82,R100,R118)>0,MIN(R46,R64,R82,R100,R118),Lashings!$K$15)","v":2.2500000000000004},{"$f":"IF(COUNT(S46,S64,S82,S100,S118)>0,MIN(S46,S64,S82,S100,S118),Lashings!$K$15)","v":3.0000000000000004},{"$f":"IF(COUNT(T46,T64,T82,T100,T118)>0,MIN(T46,T64,T82,T100,T118),Lashings!$K$15)","v":1.2500000000000002},{"$f":"IF(COUNT(U46,U64,U82,U100,U118)>0,MIN(U46,U64,U82,U100,U118),Lashings!$K$15)","v":1.7500000000000002},{"$f":"IF(COUNT(V46,V64,V82,V100,V118)>0,MIN(V46,V64,V82,V100,V118),Lashings!$K$15)","v":3.7500000000000009},null,0.75,{"$f":"IF(COUNT(Y46,Y64,Y82,Y100,Y118)>0,MIN(Y46,Y64,Y82,Y100,Y118),Lashings!$K$15)","v":"no slide"},{"$f":"IF(COUNT(Z46,Z64,Z82,Z100,Z118)>0,MIN(Z46,Z64,Z82,Z100,Z118),Lashings!$K$15)","v":"no slide"},{"$f":"IF(COUNT(AA46,AA64,AA82,AA100,AA118)>0,MIN(AA46,AA64,AA82,AA100,AA118),Lashings!$K$15)","v":2.199999999999998},{"$f":"IF(COUNT(AB46,AB64,AB82,AB100,AB118)>0,MIN(AB46,AB64,AB82,AB100,AB118),Lashings!$K$15)","v":3.1999999999999971},{"$f":"IF(COUNT(AC46,AC64,AC82,AC100,AC118)>0,MIN(AC46,AC64,AC82,AC100,AC118),Lashings!$K$15)","v":"no slide"},{"$f":"IF(COUNT(AD46,AD64,AD82,AD100,AD118)>0,MIN(AD46,AD64,AD82,AD100,AD118),Lashings!$K$15)","v":"no slide"}]
[null,null,null,null,null,null,null,null,null,null,null,null,null,null,null,null,null,null,null,null,null,null,null,0.8,{"$f":"IF(COUNT(Y47,Y65,Y83,Y101,Y119)>0,MIN(Y47,Y65,Y83,Y101,Y119),Lashings!$K$15)","v":"no slide"},{"$f":"IF(COUNT(Z47,Z65,Z83,Z101,Z119)>0,MIN(Z47,Z65,Z83,Z101,Z119),Lashings!$K$15)","v":"no slide"},{"$f":"IF(COUNT(AA47,AA65,AA83,AA101,AA119)>0,MIN(AA47,AA65,AA83,AA101,AA119),Lashings!$K$15)","v":"no slide"},{"$f":"IF(COUNT(AB47,AB65,AB83,AB101,AB119)>0,MIN(AB47,AB65,AB83,AB101,AB119),Lashings!$K$15)","v":"no slide"},{"$f":"IF(COUNT(AC47,AC65,AC83,AC101,AC119)>0,MIN(AC47,AC65,AC83,AC101,AC119),Lashings!$K$15)","v":"no slide"},{"$f":"IF(COUNT(AD47,AD65,AD83,AD101,AD119)>0,MIN(AD47,AD65,AD83,AD101,AD119),Lashings!$K$15)","v":"no slide"}]
[]
[null,null,null,null,null,null,null,null,null,null,null,null,null,null,"Decimals",null,null,null,null,null,null,null,null,"Decimals"]
[null,null,null,null,null,null,null,null,null,null,null,null,null,null,null,null,null,null,null,null,null,null,null,null,{"$f":"$Y$7","v":"Sideways"},null,{"$f":"$AA$7","v":"Forward"},null,{"$f":"$AC$7","v":"Rearwards"}]
[null,null,null,null,null,null,null,null,null,null,null,null,null,null,"µ",{"$f":"P123","v":"Sideways"},null,null,null,null,null,null,null,"µ",{"$f":"Y$8","v":"Smooth"},{"$f":"Z$8","v":"Galvanized"},"Smooth","Galvanized","Smooth","Galvanized"]
[null,null,null,null,null,null,null,null,null,null,null,null,null,null,0.2,{"$f":"IF(TYPE(P124)=2,-1,IF(P124>10,0,IF(P124>1,1,2)))","v":2},{"$f":"IF(TYPE(Q124)=2,-1,IF(Q124>10,0,IF(Q124>1,1,2)))","v":2},2,2,2,2,1,null,0.15,{"$f":"IF(TYPE(Y124)=2,-1,IF(Y124>10,0,IF(Y124>1,1,2)))","v":2},{"$f":"IF(TYPE(Z124)=2,-1,IF(Z124>10,0,IF(Z124>1,1,2)))","v":2},2,2,2,2]
[null,null,null,null,null,null,null,null,null,null,null,null,null,null,0.3,{"$f":"IF(TYPE(P125)=2,-1,IF(P125>10,0,IF(P125>1,1,2)))","v":2},{"$f":"IF(TYPE(Q125)=2,-1,IF(Q125>10,0,IF(Q125>1,1,2)))","v":2},1,1,2,2,1,null,0.2,{"$f":"IF(TYPE(Y125)=2,-1,IF(Y125>10,0,IF(Y125>1,1,2)))","v":2},2,2,2,2,2]
[null,null,null,null,null,null,null,null,null,null,null,null,null,null,0.4,{"$f":"IF(TYPE(P126)=2,-1,IF(P126>10,0,IF(P126>1,1,2)))","v":1},1,1,1,1,1,1,null,0.25,2,2,2,2,2,2]
[null,null,null,null,null,null,null,null,null,null,null,null,null,null,null,null,null,null,null,null,null,null,null,0.3,2,2,2,2,2,2]
[null,null,null,null,null,null,null,null,null,null,null,null,null,null,"µ",{"$f":"P128","v":"Forward"},null,null,null,null,null,null,null,0.35,2,1,2,2,2,1]
[null,null,null,null,null,null,null,null,null,null,null,null,null,null,0.2,{"$f":"IF(TYPE(P129)=2,-1,IF(P129>10,0,IF(P129>1,1,2)))","v":2},{"$f":"IF(TYPE(Q129)=2,-1,IF(Q129>10,0,IF(Q129>1,1,2)))","v":2},2,2,2,2,2,null,0.4,1,1,2,2,1,1]
[null,null,null,null,null,null,null,null,null,null,null,null,null,null,0.3,{"$f":"IF(TYPE(P130)=2,-1,IF(P130>10,0,IF(P130>1,1,2)))","v":2},2,2,2,2,2,2,null,0.45,1,1,2,2,1,1]
[null,null,null,null,null,null,null,null,null,null,null,null,null,null,0.4,{"$f":"IF(TYPE(P131)=2,-1,IF(P131>10,0,IF(P131>1,1,2)))","v":2},2,2,2,2,2,2,null,0.5,-1,-1,2,2,-1,-1]
[null,null,null,null,null,null,null,null,null,null,null,null,null,null,null,null,null,null,null,null,null,null,null,0.55000000000000004,-1,-1,2,2,-1,-1]
[null,null,null,null,null,null,null,null,null,null,null,null,null,null,"µ",{"$f":"P133","v":"Rearwards"},null,null,null,null,null,null,null,0.6,-1,-1,2,2,-1,-1]
[null,null,null,null,null,null,null,null,null,null,null,null,null,null,0.2,{"$f":"IF(TYPE(P134)=2,-1,IF(P134>10,0,IF(P134>1,1,2)))","v":2},{"$f":"IF(TYPE(Q134)=2,-1,IF(Q134>10,0,IF(Q134>1,1,2)))","v":2},2,2,2,2,1,null,0.65,-1,-1,2,1,-1,-1]
[null,null,null,null,null,null,null,null,null,null,null,null,null,null,0.3,{"$f":"IF(TYPE(P135)=2,-1,IF(P135>10,0,IF(P135>1,1,2)))","v":2},2,1,1,2,2,1,null,0.7,-1,-1,1,1,-1,-1]
[null,null,null,null,null,null,null,null,null,null,null,null,null,null,0.4,{"$f":"IF(TYPE(P136)=2,-1,IF(P136>10,0,IF(P136>1,1,2)))","v":1},1,1,1,1,1,1,null,0.75,-1,-1,1,1,-1,-1]
[null,null,null,null,null,null,null,null,null,null,null,null,null,null,null,null,null,null,null,null,null,null,null,0.8,-1,-1,-1,-1,-1,-1]
[null,null,null,null,null,null,null,null,null,null,null,null,null,null,"The friction factor should be chosen based on the material combination",null,null,null,null,null,null,null,null,null,null,null,null,null,null,null,"Developed by MariTerm AB"]
[null,null,null,null,null,null,null,null,null,null,null,null,null,null,"for the tag washer and the cargo or the platform."]